BEGIN:VCALENDAR
VERSION:2.0
PRODID:-//Czig Meister Brewing Company - ECPv6.15.20//NONSGML v1.0//EN
CALSCALE:GREGORIAN
METHOD:PUBLISH
X-WR-CALNAME:Czig Meister Brewing Company
X-ORIGINAL-URL:https://czigmeisterbrewing.com
X-WR-CALDESC:Events for Czig Meister Brewing Company
REFRESH-INTERVAL;VALUE=DURATION:PT1H
X-Robots-Tag:noindex
X-PUBLISHED-TTL:PT1H
BEGIN:VTIMEZONE
TZID:America/New_York
BEGIN:DAYLIGHT
TZOFFSETFROM:-0500
TZOFFSETTO:-0400
TZNAME:EDT
DTSTART:20210314T070000
END:DAYLIGHT
BEGIN:STANDARD
TZOFFSETFROM:-0400
TZOFFSETTO:-0500
TZNAME:EST
DTSTART:20211107T060000
END:STANDARD
BEGIN:DAYLIGHT
TZOFFSETFROM:-0500
TZOFFSETTO:-0400
TZNAME:EDT
DTSTART:20220313T070000
END:DAYLIGHT
BEGIN:STANDARD
TZOFFSETFROM:-0400
TZOFFSETTO:-0500
TZNAME:EST
DTSTART:20221106T060000
END:STANDARD
BEGIN:DAYLIGHT
TZOFFSETFROM:-0500
TZOFFSETTO:-0400
TZNAME:EDT
DTSTART:20230312T070000
END:DAYLIGHT
BEGIN:STANDARD
TZOFFSETFROM:-0400
TZOFFSETTO:-0500
TZNAME:EST
DTSTART:20231105T060000
END:STANDARD
END:VTIMEZONE
BEGIN:VEVENT
DTSTART;TZID=America/New_York:20220521T110000
DTEND;TZID=America/New_York:20220521T180000
DTSTAMP:20260423T153441
CREATED:20220519T141143Z
LAST-MODIFIED:20220519T141143Z
UID:10000014-1653130800-1653156000@czigmeisterbrewing.com
SUMMARY:Arts in the Park in Randolph
DESCRIPTION:Randolph Township is hosting an art festival! Not only will there be art on display\, but vendors of all types. Don’t forget to get a bit to eat at one of our delicious food trucks. There will be live performers\, demos & workshops all day. Activities for children such as art\, scavenger hunt & a story walk. \nNGXB will be MCing the event and performing. Czig Meister Brewing Company will be selling beer and hard seltzers for those over 21. Cash only with ATMs on site. ArtWorks and the Randolph Library will be doing activities for the kids. \nFacebook Event: https://www.facebook.com/events/1609273816099482/
URL:https://czigmeisterbrewing.com/event/arts-in-the-park-in-randolph/
LOCATION:Veterans Community Park\, 100 Calais Rd.\, Randolph\, NJ\, 07828\, United States
CATEGORIES:OUTDOOR BEER FESTIVALS
ATTACH;FMTTYPE=image/png:https://czigmeisterbrewing.com/wp-content/uploads/Arts-In-The-Park-Website.png
END:VEVENT
END:VCALENDAR