BEGIN:VCALENDAR
VERSION:2.0
PRODID:-//Czig Meister Brewing Company - ECPv6.15.20//NONSGML v1.0//EN
CALSCALE:GREGORIAN
METHOD:PUBLISH
X-ORIGINAL-URL:https://czigmeisterbrewing.com
X-WR-CALDESC:Events for Czig Meister Brewing Company
REFRESH-INTERVAL;VALUE=DURATION:PT1H
X-Robots-Tag:noindex
X-PUBLISHED-TTL:PT1H
BEGIN:VTIMEZONE
TZID:America/New_York
BEGIN:DAYLIGHT
TZOFFSETFROM:-0500
TZOFFSETTO:-0400
TZNAME:EDT
DTSTART:20210314T070000
END:DAYLIGHT
BEGIN:STANDARD
TZOFFSETFROM:-0400
TZOFFSETTO:-0500
TZNAME:EST
DTSTART:20211107T060000
END:STANDARD
BEGIN:DAYLIGHT
TZOFFSETFROM:-0500
TZOFFSETTO:-0400
TZNAME:EDT
DTSTART:20220313T070000
END:DAYLIGHT
BEGIN:STANDARD
TZOFFSETFROM:-0400
TZOFFSETTO:-0500
TZNAME:EST
DTSTART:20221106T060000
END:STANDARD
BEGIN:DAYLIGHT
TZOFFSETFROM:-0500
TZOFFSETTO:-0400
TZNAME:EDT
DTSTART:20230312T070000
END:DAYLIGHT
BEGIN:STANDARD
TZOFFSETFROM:-0400
TZOFFSETTO:-0500
TZNAME:EST
DTSTART:20231105T060000
END:STANDARD
END:VTIMEZONE
BEGIN:VEVENT
DTSTART;VALUE=DATE:20221104
DTEND;VALUE=DATE:20221106
DTSTAMP:20260422T211105
CREATED:20221028T175541Z
LAST-MODIFIED:20221028T175609Z
UID:10000029-1667520000-1667692799@czigmeisterbrewing.com
SUMMARY:Festival of Wood & Barrel Aged Beers
DESCRIPTION:FoBAB is turning TWENTY\, and we wouldn’t miss it for the world. Come explore the\ncraftsmanship and complexity of wood-aged beer\, cider\, mead and perry with us on Nov. 4 + 5\nin Chicago! www.fobab.com #FoBAB20
URL:https://czigmeisterbrewing.com/event/festival-of-wood-barrel-aged-beers/
LOCATION:UIC Pavilion\, 525 S Racine Ave\, Chicago\, IL\, 60607\, United States
CATEGORIES:OUTDOOR BEER FESTIVALS
ATTACH;FMTTYPE=image/jpeg:https://czigmeisterbrewing.com/wp-content/uploads/fobab-header-scaled.jpeg
END:VEVENT
END:VCALENDAR