BEGIN:VCALENDAR
VERSION:2.0
PRODID:-//Czig Meister Brewing Company - ECPv6.15.20//NONSGML v1.0//EN
CALSCALE:GREGORIAN
METHOD:PUBLISH
X-WR-CALNAME:Czig Meister Brewing Company
X-ORIGINAL-URL:https://czigmeisterbrewing.com
X-WR-CALDESC:Events for Czig Meister Brewing Company
REFRESH-INTERVAL;VALUE=DURATION:PT1H
X-Robots-Tag:noindex
X-PUBLISHED-TTL:PT1H
BEGIN:VTIMEZONE
TZID:America/New_York
BEGIN:DAYLIGHT
TZOFFSETFROM:-0500
TZOFFSETTO:-0400
TZNAME:EDT
DTSTART:20210314T070000
END:DAYLIGHT
BEGIN:STANDARD
TZOFFSETFROM:-0400
TZOFFSETTO:-0500
TZNAME:EST
DTSTART:20211107T060000
END:STANDARD
BEGIN:DAYLIGHT
TZOFFSETFROM:-0500
TZOFFSETTO:-0400
TZNAME:EDT
DTSTART:20220313T070000
END:DAYLIGHT
BEGIN:STANDARD
TZOFFSETFROM:-0400
TZOFFSETTO:-0500
TZNAME:EST
DTSTART:20221106T060000
END:STANDARD
BEGIN:DAYLIGHT
TZOFFSETFROM:-0500
TZOFFSETTO:-0400
TZNAME:EDT
DTSTART:20230312T070000
END:DAYLIGHT
BEGIN:STANDARD
TZOFFSETFROM:-0400
TZOFFSETTO:-0500
TZNAME:EST
DTSTART:20231105T060000
END:STANDARD
END:VTIMEZONE
BEGIN:VEVENT
DTSTART;TZID=America/New_York:20220813T120000
DTEND;TZID=America/New_York:20220813T200000
DTSTAMP:20260423T062125
CREATED:20220617T173234Z
LAST-MODIFIED:20220617T173234Z
UID:10000026-1660392000-1660420800@czigmeisterbrewing.com
SUMMARY:Flemington Corn\, Tomato\, and Beer Festival
DESCRIPTION:Join us for Flemington’s Corn\, Tomato and Beer Festival Saturday\, August 13th—in the corn and tomato capital of the USA! The festival takes place on Stangl Road\, Flemington NJ from noon-8pm. For foodie and beer-lovers\, this family-friendly event will feature an expansive micro-brewery beer garden\, live music\, great food from local restaurants\, and family entertainment. Free admission and free parking. \n*Rain date – Sunday\, August 14th
URL:https://czigmeisterbrewing.com/event/flemington-corn-tomato-and-beer-festival/
LOCATION:Stangl Rd\, Stangl Rd.\, Flemington\, NJ\, 08822\, United States
CATEGORIES:OUTDOOR BEER FESTIVALS
ATTACH;FMTTYPE=image/jpeg:https://czigmeisterbrewing.com/wp-content/uploads/CornTomatoFest-Website.jpg
END:VEVENT
END:VCALENDAR