BEGIN:VCALENDAR
VERSION:2.0
PRODID:-//Czig Meister Brewing Company - ECPv6.15.20//NONSGML v1.0//EN
CALSCALE:GREGORIAN
METHOD:PUBLISH
X-WR-CALNAME:Czig Meister Brewing Company
X-ORIGINAL-URL:https://czigmeisterbrewing.com
X-WR-CALDESC:Events for Czig Meister Brewing Company
REFRESH-INTERVAL;VALUE=DURATION:PT1H
X-Robots-Tag:noindex
X-PUBLISHED-TTL:PT1H
BEGIN:VTIMEZONE
TZID:America/New_York
BEGIN:DAYLIGHT
TZOFFSETFROM:-0500
TZOFFSETTO:-0400
TZNAME:EDT
DTSTART:20230312T070000
END:DAYLIGHT
BEGIN:STANDARD
TZOFFSETFROM:-0400
TZOFFSETTO:-0500
TZNAME:EST
DTSTART:20231105T060000
END:STANDARD
BEGIN:DAYLIGHT
TZOFFSETFROM:-0500
TZOFFSETTO:-0400
TZNAME:EDT
DTSTART:20240310T070000
END:DAYLIGHT
BEGIN:STANDARD
TZOFFSETFROM:-0400
TZOFFSETTO:-0500
TZNAME:EST
DTSTART:20241103T060000
END:STANDARD
BEGIN:DAYLIGHT
TZOFFSETFROM:-0500
TZOFFSETTO:-0400
TZNAME:EDT
DTSTART:20250309T070000
END:DAYLIGHT
BEGIN:STANDARD
TZOFFSETFROM:-0400
TZOFFSETTO:-0500
TZNAME:EST
DTSTART:20251102T060000
END:STANDARD
END:VTIMEZONE
BEGIN:VEVENT
DTSTART;TZID=America/New_York:20241012T120000
DTEND;TZID=America/New_York:20241012T180000
DTSTAMP:20260422T165918
CREATED:20240919T144100Z
LAST-MODIFIED:20240919T144100Z
UID:10000383-1728734400-1728756000@czigmeisterbrewing.com
SUMMARY:Empanada Fest @ The Rockaway Mall
DESCRIPTION:Experience the Empanada Extravaganza in Northern New Jersey! \n Satisfy your empanada cravings at our spectacular event\, showcasing a diverse range of empanadas\, All-American\, and Latin delights from some of the best gourmet food vendors in NJ!\nThe party will take place at The Rockaway Townsquare Parking lot near P.F. Changs!\nCalling all car enthusiasts! Join us for a spectacular day of horsepower\, chrome\, and classic vibes.\nEvent Highlights:\n Classic Cars: Feast your eyes on a stunning lineup of vintage and classic cars\, beautifully restored and maintained. Muscle Cars: Feel the power and admire the sleek designs of muscle cars from various eras. Exotic Cars: Get up close and personal with some of the most luxurious and rare exotic cars in the world. Custom Builds: Marvel at the creativity and craftsmanship of custom-built cars and hot rods.\nMore Event Highlights: Empanada trucks and an array of other cuisines Live Music Beer & Wine Bounce House Face Painting Henna Tattoos Sand Art Craft Vendors\nTicket Details: Secure your FAST PASS tickets now for a 15% discount: $7 at the door. $5 if you buy in advance (Fast Pass) Children under 5 years old enter for FREE!\nDon’t miss this epic event! Get your tickets and join us for a day filled with flavors\, fun\, and fantastic entertainment. See you there!
URL:https://czigmeisterbrewing.com/event/empanada-fest-the-rockaway-mall/
LOCATION:rockaway mall\, 301 Mt Hope Ave\, Rockaway\, NJ\, 07866\, United States
CATEGORIES:OUTDOOR BEER FESTIVALS
ATTACH;FMTTYPE=image/png:https://czigmeisterbrewing.com/wp-content/uploads/Website-Event-Covers-2-17.png
END:VEVENT
END:VCALENDAR