BEGIN:VCALENDAR
VERSION:2.0
PRODID:-//Czig Meister Brewing Company - ECPv6.15.20//NONSGML v1.0//EN
CALSCALE:GREGORIAN
METHOD:PUBLISH
X-WR-CALNAME:Czig Meister Brewing Company
X-ORIGINAL-URL:https://czigmeisterbrewing.com
X-WR-CALDESC:Events for Czig Meister Brewing Company
REFRESH-INTERVAL;VALUE=DURATION:PT1H
X-Robots-Tag:noindex
X-PUBLISHED-TTL:PT1H
BEGIN:VTIMEZONE
TZID:America/New_York
BEGIN:DAYLIGHT
TZOFFSETFROM:-0500
TZOFFSETTO:-0400
TZNAME:EDT
DTSTART:20210314T070000
END:DAYLIGHT
BEGIN:STANDARD
TZOFFSETFROM:-0400
TZOFFSETTO:-0500
TZNAME:EST
DTSTART:20211107T060000
END:STANDARD
BEGIN:DAYLIGHT
TZOFFSETFROM:-0500
TZOFFSETTO:-0400
TZNAME:EDT
DTSTART:20220313T070000
END:DAYLIGHT
BEGIN:STANDARD
TZOFFSETFROM:-0400
TZOFFSETTO:-0500
TZNAME:EST
DTSTART:20221106T060000
END:STANDARD
BEGIN:DAYLIGHT
TZOFFSETFROM:-0500
TZOFFSETTO:-0400
TZNAME:EDT
DTSTART:20230312T070000
END:DAYLIGHT
BEGIN:STANDARD
TZOFFSETFROM:-0400
TZOFFSETTO:-0500
TZNAME:EST
DTSTART:20231105T060000
END:STANDARD
END:VTIMEZONE
BEGIN:VEVENT
DTSTART;TZID=America/New_York:20220723T150000
DTEND;TZID=America/New_York:20220723T190000
DTSTAMP:20260423T052337
CREATED:20220519T161724Z
LAST-MODIFIED:20220617T150249Z
UID:10000016-1658588400-1658602800@czigmeisterbrewing.com
SUMMARY:Cheers in Chester Beer & Wine Festival
DESCRIPTION:Cheers in Chester pours into town on Saturday July 23\, 2022! Wine\, Beer\, & Spirits come together at this annual Summer event at Municipal Field in beautiful Historic Chester Borough! \nJoin us for one 4 hour Session with unlimited samples of craft beer\, spirits & wine\, fantastic music\, delicious food & wonderful vendors. Plus it’s a Benefit for the Chester First Aid Squad! \nGreat music provided by the fantastic ROCK BOTTOM! \nParticipating Breweries: (check back for updates)\n• 902 Brewing • Ashton • Bolero Snort • Broad Street Seltzers • Buttzville • Cape May • Cricket Hill • Cypress • Czig Meister • Departed Soles • Flounder • Fort Nonsense • Jersey Cyclone • Jersey Girl • Lone Eagle • Man Skirt • Montclair Brewing • Ross Brewing • Seven Tribesmen • South 40 • Sunken Silo • Three 3’s • \nDelicious food tba \nDogs on Leashes Welcome \nMust be 21 & over with Picture ID for entry. Chairs\, blankets & pop up tents are welcome. No kids\, strollers\, outside food or drink\, large bags or knapsacks.\n(pretzel necklaces always allowed) \nwww.cheersinchester.com \nFacebook Event: https://www.facebook.com/events/702662534520641
URL:https://czigmeisterbrewing.com/event/cheers-in-chester-beer-wine-festival/
LOCATION:Chester Municipal Field\, 134 Main St\, Chester\, NJ\, 07930\, United States
CATEGORIES:OUTDOOR BEER FESTIVALS
ATTACH;FMTTYPE=image/jpeg:https://czigmeisterbrewing.com/wp-content/uploads/Cheers-in-Chester.jpg
END:VEVENT
END:VCALENDAR