BEGIN:VCALENDAR
VERSION:2.0
PRODID:-//Czig Meister Brewing Company - ECPv6.15.20//NONSGML v1.0//EN
CALSCALE:GREGORIAN
METHOD:PUBLISH
X-ORIGINAL-URL:https://czigmeisterbrewing.com
X-WR-CALDESC:Events for Czig Meister Brewing Company
REFRESH-INTERVAL;VALUE=DURATION:PT1H
X-Robots-Tag:noindex
X-PUBLISHED-TTL:PT1H
BEGIN:VTIMEZONE
TZID:America/New_York
BEGIN:DAYLIGHT
TZOFFSETFROM:-0500
TZOFFSETTO:-0400
TZNAME:EDT
DTSTART:20210314T070000
END:DAYLIGHT
BEGIN:STANDARD
TZOFFSETFROM:-0400
TZOFFSETTO:-0500
TZNAME:EST
DTSTART:20211107T060000
END:STANDARD
BEGIN:DAYLIGHT
TZOFFSETFROM:-0500
TZOFFSETTO:-0400
TZNAME:EDT
DTSTART:20220313T070000
END:DAYLIGHT
BEGIN:STANDARD
TZOFFSETFROM:-0400
TZOFFSETTO:-0500
TZNAME:EST
DTSTART:20221106T060000
END:STANDARD
BEGIN:DAYLIGHT
TZOFFSETFROM:-0500
TZOFFSETTO:-0400
TZNAME:EDT
DTSTART:20230312T070000
END:DAYLIGHT
BEGIN:STANDARD
TZOFFSETFROM:-0400
TZOFFSETTO:-0500
TZNAME:EST
DTSTART:20231105T060000
END:STANDARD
END:VTIMEZONE
BEGIN:VEVENT
DTSTART;TZID=America/New_York:20220910T130000
DTEND;TZID=America/New_York:20220910T170000
DTSTAMP:20260423T042023
CREATED:20220630T154705Z
LAST-MODIFIED:20220630T154758Z
UID:10000027-1662814800-1662829200@czigmeisterbrewing.com
SUMMARY:Boonton Brewfest
DESCRIPTION:Boonton Brewfest is back!! Boonton Main Street Inc. is looking forward to welcoming everyone back to Canalside Park for a fun filled day of music…games…and of course beer!! \nWe are expecting over 30 local breweries all from the Greater NJ area. In addition to amazing craft NJ beer\, you can expect… \n\nLive music from two different bands\nDJ keeping the vibes going close to beer sampling tents\nVarious adult games including corn hole…giant Jenga…bucket pong\n10-15 local food vendors representing a variety of cuisines w/ food for purchase\nOne wine sampling tent\nLocal craft vendors and merchandise available\n\nAll tickets (outside of designated driver) will include a custom memento glass to be used for sampling. VIP tickets will get you into the event one hour early for first dibs on tasting and optimal seating setup\, and will include a free t-shirt to boot. \nEarly bird ticketing opens in June with discounted ticketing available all the way up until day of the event. Don’t forget to line up a ride if you’re not planning on walking home! Also not a bad idea to bring a popup chair. Don’t say we didn’t tell you! \nRain date reserved for the following Saturday\, September 17th. Barring more extreme weather however it will be rain or shine! \nEvent is 21 and over only!! \nBuy Tickets: https://www.eventbrite.com/e/boonton-brewfest-tickets-325123030737
URL:https://czigmeisterbrewing.com/event/487/
LOCATION:Canal Side Park\, Upper\, Plane St.\, Boonton\, NJ\, 07005\, United States
CATEGORIES:OUTDOOR BEER FESTIVALS
ATTACH;FMTTYPE=image/jpeg:https://czigmeisterbrewing.com/wp-content/uploads/Boonton-Main-St.-Website.jpg
END:VEVENT
END:VCALENDAR