BEGIN:VCALENDAR
VERSION:2.0
PRODID:-//Czig Meister Brewing Company - ECPv6.15.20//NONSGML v1.0//EN
CALSCALE:GREGORIAN
METHOD:PUBLISH
X-ORIGINAL-URL:https://czigmeisterbrewing.com
X-WR-CALDESC:Events for Czig Meister Brewing Company
REFRESH-INTERVAL;VALUE=DURATION:PT1H
X-Robots-Tag:noindex
X-PUBLISHED-TTL:PT1H
BEGIN:VTIMEZONE
TZID:America/New_York
BEGIN:DAYLIGHT
TZOFFSETFROM:-0500
TZOFFSETTO:-0400
TZNAME:EDT
DTSTART:20220313T070000
END:DAYLIGHT
BEGIN:STANDARD
TZOFFSETFROM:-0400
TZOFFSETTO:-0500
TZNAME:EST
DTSTART:20221106T060000
END:STANDARD
BEGIN:DAYLIGHT
TZOFFSETFROM:-0500
TZOFFSETTO:-0400
TZNAME:EDT
DTSTART:20230312T070000
END:DAYLIGHT
BEGIN:STANDARD
TZOFFSETFROM:-0400
TZOFFSETTO:-0500
TZNAME:EST
DTSTART:20231105T060000
END:STANDARD
BEGIN:DAYLIGHT
TZOFFSETFROM:-0500
TZOFFSETTO:-0400
TZNAME:EDT
DTSTART:20240310T070000
END:DAYLIGHT
BEGIN:STANDARD
TZOFFSETFROM:-0400
TZOFFSETTO:-0500
TZNAME:EST
DTSTART:20241103T060000
END:STANDARD
END:VTIMEZONE
BEGIN:VEVENT
DTSTART;VALUE=DATE:20231206
DTEND;VALUE=DATE:20231207
DTSTAMP:20260420T063944
CREATED:20231101T201331Z
LAST-MODIFIED:20231101T201331Z
UID:10000142-1701820800-1701907199@czigmeisterbrewing.com
SUMMARY:Bonsai Bar
DESCRIPTION:Join us for an evening of creativity and craft beer at the Czig Meister Brewing Company\, hosted by Bonsai Bar. This unique event combines the art of bonsai with the joy of craft beer\, offering a fun and engaging experience for all. \nFor just $75\, you’ll receive expert guidance from the Bonsai Bar team on how to create your very own bonsai tree. The species you’ll be working with is the beautiful Dwarf Jade (Portulacaria Afra)\, a popular choice for bonsai due to its resilience and attractive appearance. \nYour ticket includes all the materials you’ll need to create your bonsai\, as well as your very own Dwarf Jade to take home and nurture. Plus\, you’ll get to enjoy some of Czig Meister’s finest brews while you work on your creation. \nDon’t miss this opportunity to learn a new skill\, meet fellow bonsai enthusiasts\, and enjoy some great beer. We can’t wait to see you there! \nReserve your spot here! https://bonsaibar.com/products/czig-meister-brewing?variant=40397182566481
URL:https://czigmeisterbrewing.com/event/bonsai-bar-2/
LOCATION:NJ
CATEGORIES:IN HOUSE
ATTACH;FMTTYPE=image/png:https://czigmeisterbrewing.com/wp-content/uploads/Bonsai-Bar-December-6th-Television.png
END:VEVENT
BEGIN:VEVENT
DTSTART;VALUE=DATE:20231207
DTEND;VALUE=DATE:20231208
DTSTAMP:20260420T063944
CREATED:20231101T141645Z
LAST-MODIFIED:20231101T141645Z
UID:10000134-1701907200-1701993599@czigmeisterbrewing.com
SUMMARY:Trivia Night!
DESCRIPTION:Join us and trivia revolution for a night of useless facts\, hanging out with your pals\, and most importantly… craft beer! Test your knowledge\, win some prizes\, and have a good time
URL:https://czigmeisterbrewing.com/event/trivia-night-4/
LOCATION:NJ
CATEGORIES:IN HOUSE
ATTACH;FMTTYPE=image/png:https://czigmeisterbrewing.com/wp-content/uploads/Trivia-Website.png
END:VEVENT
BEGIN:VEVENT
DTSTART;VALUE=DATE:20231209
DTEND;VALUE=DATE:20231210
DTSTAMP:20260420T063944
CREATED:20231101T210337Z
LAST-MODIFIED:20231116T204447Z
UID:10000145-1702080000-1702166399@czigmeisterbrewing.com
SUMMARY:Ugly Sweater Party
DESCRIPTION:Join us for a festive evening at the Czig Meister Brewing Company as we celebrate the holiday season in style – ugly sweater style\, that is! Don your most outrageous holiday sweater and come on down for a night of fun\, laughter\, and great beer. \n🍻 Specialty Holiday Flight 🍻 \nOur brewers have been working hard to bring you a specialty holiday flight that’s sure to warm your spirits. Featuring: \nPeppermint Bark Imperial Stout: A rich\, dark stout with a hint of peppermint to give it that holiday twist.\nRainbow Cookie Imperial Stout: A decadent stout that captures the essence of everyone’s favorite holiday cookie.\nGinger Snap Hard Seltzer: A refreshing hard seltzer with a kick of ginger snap flavor.\nPecan Pie Brown Ale: A hearty brown ale with the sweet\, nutty flavor of a classic pecan pie. \n🎵 Live Music from Sean Henry and the Tonighters 🎵 \nFrom 6:30 to 9:30\, enjoy live music from Sean Henry and the Tonighters. Their tunes will keep you grooving as you enjoy your beers and show off your ugly sweaters. \nSo\, come join us for an evening of holiday cheer\, delicious beers\, and great music. We can’t wait to see you and your ugly sweaters there! 🎉
URL:https://czigmeisterbrewing.com/event/ugly-sweater-party-2/
LOCATION:Czig Meister Brewery\, 106 Valentine Street\, Hackettstown\, NJ\, 07840\, United States
CATEGORIES:Featured,IN HOUSE
ATTACH;FMTTYPE=image/png:https://czigmeisterbrewing.com/wp-content/uploads/Ugly-Sweater-Website-Revised.png
END:VEVENT
BEGIN:VEVENT
DTSTART;VALUE=DATE:20231215
DTEND;VALUE=DATE:20231216
DTSTAMP:20260420T063944
CREATED:20231101T194748Z
LAST-MODIFIED:20231102T145946Z
UID:10000139-1702598400-1702684799@czigmeisterbrewing.com
SUMMARY:ArtisinALES Holiday Charcuterie Class by Fromage Hackettstown!
DESCRIPTION:Do you love cheese\, meat\, and beer? Then join us for a festive and fun workshop where you will learn how to create your own beautiful and delicious charcuterie board! \nIn this one-hour class\, you will be guided by the experts from Fromage\, a local cheese shop\, who will teach you how to select\, slice\, and arrange artisanal cheeses and meats on a bakery box that you can take home or enjoy at the brewery! You will also get to add some tasty accompaniments like fresh and dried fruit\, crackers\, honey\, candies/sweets and décor to make your board even more appealing.\nThe best part is\, you can pair your charcuterie board with some of the amazing craft beers from the brewery\, and enjoy a cozy and festive evening with your friends or family. \nThe class is $50 per person\, and includes everything you need to make your own charcuterie board. The class is on Friday\, December 15th\, 2023 from 6:00pm to 7:00pm. Please arrive promptly\, as the instruction will begin at 6:00.\nSpace is limited\, so reserve your spot today and get ready for a fun and tasty experience! \nGet your tickets now! https://czigmeister.ecwid.com/ArtisinAles-p596138202
URL:https://czigmeisterbrewing.com/event/artisinales-holiday-charcuterie-class-by-fromage-hackettstown/
LOCATION:Czig Meister Brewery\, 106 Valentine Street\, Hackettstown\, NJ\, 07840\, United States
CATEGORIES:Featured,IN HOUSE
ATTACH;FMTTYPE=image/png:https://czigmeisterbrewing.com/wp-content/uploads/ArtisinALES-Charcuterie-Website.png
END:VEVENT
BEGIN:VEVENT
DTSTART;VALUE=DATE:20231215
DTEND;VALUE=DATE:20231216
DTSTAMP:20260420T063944
CREATED:20231109T171247Z
LAST-MODIFIED:20231109T171800Z
UID:10000154-1702598400-1702684799@czigmeisterbrewing.com
SUMMARY:Beer Release: Deep Sea Series Electric Catfish
DESCRIPTION:🍺 Get ready for a splash of flavor with our Deep Sea favorite\, Electric Catfish! 🐠 \nThis New England Style IPA is making a comeback on December 15th. Brewed with Citra & Moteuka\, it’s like diving into a bowl of fruit loops when it comes to flavor. 🍊🍋 \nWith notes of kaffir lime leaf\, orange rind\, and lemongrass\, Electric Catfish is a real easy drinker that will have you hooked from the first sip. \nMark your calendars and prepare to be electrified by the taste of Electric Catfish! ⚡🍺
URL:https://czigmeisterbrewing.com/event/beer-release-deep-sea-series-electric-catfish/
LOCATION:Czig Meister Brewery\, 106 Valentine Street\, Hackettstown\, NJ\, 07840\, United States
CATEGORIES:BEER RELEASES
ATTACH;FMTTYPE=image/png:https://czigmeisterbrewing.com/wp-content/uploads/Electric-Catfish-Website-Resize.png
END:VEVENT
BEGIN:VEVENT
DTSTART;VALUE=DATE:20231221
DTEND;VALUE=DATE:20231222
DTSTAMP:20260420T063944
CREATED:20231211T201058Z
LAST-MODIFIED:20231211T203635Z
UID:10000159-1703116800-1703203199@czigmeisterbrewing.com
SUMMARY:Holiday Trivia
DESCRIPTION:Join us for a night to test your knowledge on all things Holiday movies\, music\, traditions\, and more! \nGrab your hometown holiday pals to get you into the spirit of the holidays\, have some beers\, and win some prizes while you’re at it.
URL:https://czigmeisterbrewing.com/event/holiday-trivia/
LOCATION:Czig Meister Brewery\, 106 Valentine Street\, Hackettstown\, NJ\, 07840\, United States
CATEGORIES:IN HOUSE
ATTACH;FMTTYPE=image/png:https://czigmeisterbrewing.com/wp-content/uploads/Holiday-Trivia-Website-1.png
END:VEVENT
BEGIN:VEVENT
DTSTART;VALUE=DATE:20231222
DTEND;VALUE=DATE:20231223
DTSTAMP:20260420T063944
CREATED:20231109T170916Z
LAST-MODIFIED:20231109T171824Z
UID:10000153-1703203200-1703289599@czigmeisterbrewing.com
SUMMARY:Beer Release: Sundial Series Solstice
DESCRIPTION:Solstice is back December 22nd! Conditioned on apricot and tangerine with lactose\, Solstice offers a sweet and fruity flavor that’s reminiscent of a glass of Sunny Delight. 🍊🍑 \nThis fruited sour ale is perfect for those who love a hint of sweetness in their beer. It’s sure to brighten your day and tantalize your taste buds with its unique blend of flavors. \nSo why wait? Grab a glass of Solstice and let the sunshine in! ☀️🍺
URL:https://czigmeisterbrewing.com/event/beer-release-sundial-series-solstice/
LOCATION:Czig Meister Brewery\, 106 Valentine Street\, Hackettstown\, NJ\, 07840\, United States
CATEGORIES:BEER RELEASES
ATTACH;FMTTYPE=image/png:https://czigmeisterbrewing.com/wp-content/uploads/Trivia-Night-Website-1-1.png
END:VEVENT
BEGIN:VEVENT
DTSTART;VALUE=DATE:20231228
DTEND;VALUE=DATE:20231229
DTSTAMP:20260420T063944
CREATED:20231101T195626Z
LAST-MODIFIED:20231102T145936Z
UID:10000140-1703721600-1703807999@czigmeisterbrewing.com
SUMMARY:Trivia Night!
DESCRIPTION:Join us and trivia revolution for a night of useless facts\, hanging out with your pals\, and most importantly… craft beer! Test your knowledge\, win some prizes\, and have a good time
URL:https://czigmeisterbrewing.com/event/trivia-night-5/
LOCATION:Czig Meister Brewery\, 106 Valentine Street\, Hackettstown\, NJ\, 07840\, United States
CATEGORIES:IN HOUSE
ATTACH;FMTTYPE=image/png:https://czigmeisterbrewing.com/wp-content/uploads/Trivia-Website.png
END:VEVENT
BEGIN:VEVENT
DTSTART;VALUE=DATE:20231230
DTEND;VALUE=DATE:20231231
DTSTAMP:20260420T063944
CREATED:20231228T190306Z
LAST-MODIFIED:20231228T190306Z
UID:10000167-1703894400-1703980799@czigmeisterbrewing.com
SUMMARY:Live Music: Mike Frank & Friends
DESCRIPTION:On Saturday December 30th\, Mike Frank & Friends are bringing all the jams from 6:30-9:30pm! No cover and an all around good time.
URL:https://czigmeisterbrewing.com/event/live-music-mike-frank-friends/
LOCATION:Czig Meister Brewery\, 106 Valentine Street\, Hackettstown\, NJ\, 07840\, United States
CATEGORIES:IN HOUSE
ATTACH;FMTTYPE=image/png:https://czigmeisterbrewing.com/wp-content/uploads/Mike-Frank-12.30.png
END:VEVENT
BEGIN:VEVENT
DTSTART;VALUE=DATE:20231231
DTEND;VALUE=DATE:20240101
DTSTAMP:20260420T063944
CREATED:20231208T155159Z
LAST-MODIFIED:20231214T180041Z
UID:10000156-1703980800-1704067199@czigmeisterbrewing.com
SUMMARY:New Years Eve Jam: Hackettstown & M&M Lentil Drop Pre-Party
DESCRIPTION:NEW YEARS EVE M&M DROP PRE-PARTY \nWe can finally share Hackettstown’s best kept secret… Dropping at midnight on December 31st\, will be the 1st Annual M&M Lentil Drop! Join us for our NEW YEARS Jam pre-party from 8pm -12am as we all get down with our friends Jungle Jazz Initiative then head over to the m&m drop for some midnight magic🪄 Tickets available NOW at the link below for $10 online\, or we’ll be selling tickets right at the door for $15. Come experience Hackettstown’s extensive restaurant scene\, small businesses\, and support your local breweries this New Years. Can’t wait to jam out with y’all as we ring in the sweetest New Years in the country🍻 \n$10 advance|$15 at the door\nTickets here: https://czigmeister.ecwid.com/NEW-YEARS-JAM-Ft-Jungle-Jazz-Initiative-p611700180 \nThank you to the Hackettstown Police Department\, Hackettstown Business Improvement District (BID)\, and Mars\, Incorporated for putting this event together.
URL:https://czigmeisterbrewing.com/event/new-years-eve-jam/
LOCATION:Czig Meister Brewery\, 106 Valentine Street\, Hackettstown\, NJ\, 07840\, United States
CATEGORIES:Featured,IN HOUSE
ATTACH;FMTTYPE=image/png:https://czigmeisterbrewing.com/wp-content/uploads/MM-NYE-PreParty-Website.png
END:VEVENT
END:VCALENDAR