BEGIN:VCALENDAR
VERSION:2.0
PRODID:-//Czig Meister Brewing Company - ECPv6.15.20//NONSGML v1.0//EN
CALSCALE:GREGORIAN
METHOD:PUBLISH
X-ORIGINAL-URL:https://czigmeisterbrewing.com
X-WR-CALDESC:Events for Czig Meister Brewing Company
REFRESH-INTERVAL;VALUE=DURATION:PT1H
X-Robots-Tag:noindex
X-PUBLISHED-TTL:PT1H
BEGIN:VTIMEZONE
TZID:America/New_York
BEGIN:DAYLIGHT
TZOFFSETFROM:-0500
TZOFFSETTO:-0400
TZNAME:EDT
DTSTART:20220313T070000
END:DAYLIGHT
BEGIN:STANDARD
TZOFFSETFROM:-0400
TZOFFSETTO:-0500
TZNAME:EST
DTSTART:20221106T060000
END:STANDARD
BEGIN:DAYLIGHT
TZOFFSETFROM:-0500
TZOFFSETTO:-0400
TZNAME:EDT
DTSTART:20230312T070000
END:DAYLIGHT
BEGIN:STANDARD
TZOFFSETFROM:-0400
TZOFFSETTO:-0500
TZNAME:EST
DTSTART:20231105T060000
END:STANDARD
BEGIN:DAYLIGHT
TZOFFSETFROM:-0500
TZOFFSETTO:-0400
TZNAME:EDT
DTSTART:20240310T070000
END:DAYLIGHT
BEGIN:STANDARD
TZOFFSETFROM:-0400
TZOFFSETTO:-0500
TZNAME:EST
DTSTART:20241103T060000
END:STANDARD
END:VTIMEZONE
BEGIN:VEVENT
DTSTART;VALUE=DATE:20231006
DTEND;VALUE=DATE:20231007
DTSTAMP:20260422T230948
CREATED:20230711T153144Z
LAST-MODIFIED:20230711T153144Z
UID:10000110-1696550400-1696636799@czigmeisterbrewing.com
SUMMARY:Beer Release: Chaos Belgian Dubbel
DESCRIPTION:On October 6th\, Chaos is back! This 6.4% Belgian Style Dubbel is coming through with notes of pretzel\, super malty\, and that Belgian sweetness on the back end doesn’t disappoint.
URL:https://czigmeisterbrewing.com/event/beer-release-chaos-belgian-dubbel/
LOCATION:Czig Meister Brewery\, 106 Valentine Street\, Hackettstown\, NJ\, 07840\, United States
CATEGORIES:BEER RELEASES
ATTACH;FMTTYPE=image/png:https://czigmeisterbrewing.com/wp-content/uploads/Chaos-Website.png
END:VEVENT
BEGIN:VEVENT
DTSTART;VALUE=DATE:20231008
DTEND;VALUE=DATE:20231009
DTSTAMP:20260422T230948
CREATED:20231005T145410Z
LAST-MODIFIED:20231005T145410Z
UID:10000122-1696723200-1696809599@czigmeisterbrewing.com
SUMMARY:Sunday Scaries - Chapter One
DESCRIPTION:Sistahhhs! \nWe are kicking off Sunday Scaries- Chapter One with our friends from Rachel’s Place bringing their food truck with brunch and lunch options at noon\, we’ll have everyones favorite sisters playing on a loop starting at 12:30\, and this week we’ll be serving our Cinnamon Peach Hefeweizen with a cinnamon sugar rim! We’ve made it pretty obvious\, but any guesses as to what movie we’ll be showing?👀🕷️
URL:https://czigmeisterbrewing.com/event/sunday-scaries-chapter-one/
LOCATION:Czig Meister Brewery\, 106 Valentine Street\, Hackettstown\, NJ\, 07840\, United States
CATEGORIES:IN HOUSE
ATTACH;FMTTYPE=image/png:https://czigmeisterbrewing.com/wp-content/uploads/Hocos-Pocus-Website.png
END:VEVENT
BEGIN:VEVENT
DTSTART;VALUE=DATE:20231011
DTEND;VALUE=DATE:20231012
DTSTAMP:20260422T230948
CREATED:20230824T152406Z
LAST-MODIFIED:20230913T173051Z
UID:10000117-1696982400-1697068799@czigmeisterbrewing.com
SUMMARY:*SOLD OUT* Chris Gethard (New Jersey Is The) World Tour @ Czig Meister Brewing
DESCRIPTION:  \n!!!SHOW IS SOLD OUT!!! \nSHOW IS 21+ ONLY \nCome hang with the crew on Wednesday\, October 11th for some laughs and some beers! Chris Gethard is a comedian\, actor\, and author who’s been doing comedy stuff for over twenty years. He’s the host of the Beautiful/Anonymous podcast\, the former host of legendary public access television show “The Chris Gethard Show”\, and had a special on HBO called Career Suicide where he talked about a few times he tried to kill himself. It was a comedy special. \nHe’s acted on shows like The Office\, Broad City\, Space Force\, Parks and Recreation\, and a bunch more. He’s been in some movies like Don’t Think Twice\, The Heat\, The Other Guys\, and Ghostbusters. \nBut mostly\, he’s a regular guy from New Jersey who likes traveling around and connecting with other human beings. \nDOORS: 8PM \nSHOW: 8:30PM \nSHOW IS 21+ ONLY \n!!!SHOW IS SOLD OUT!!!
URL:https://czigmeisterbrewing.com/event/chris-gethard-new-jersey-is-the-world-tour-czig-meister-brewing/
LOCATION:Czig Meister Brewery\, 106 Valentine Street\, Hackettstown\, NJ\, 07840\, United States
CATEGORIES:Featured,IN HOUSE
ATTACH;FMTTYPE=image/png:https://czigmeisterbrewing.com/wp-content/uploads/Chris-Gethard-Website.png
END:VEVENT
BEGIN:VEVENT
DTSTART;VALUE=DATE:20231013
DTEND;VALUE=DATE:20231014
DTSTAMP:20260422T230948
CREATED:20230824T154708Z
LAST-MODIFIED:20230824T154708Z
UID:10000118-1697155200-1697241599@czigmeisterbrewing.com
SUMMARY:Beer Release: Deep Sea Series Oasis
DESCRIPTION:Brewed with a base of American 2-row\, a blend of oats\, and honey malt. Hopped with Citra and Amarillo. Expect a melange of citrus fruits and a sweet\, cereal forward base with oats lasting on the finish.
URL:https://czigmeisterbrewing.com/event/beer-release-deep-sea-series-oasis/
LOCATION:Czig Meister Brewery\, 106 Valentine Street\, Hackettstown\, NJ\, 07840\, United States
CATEGORIES:BEER RELEASES
ATTACH;FMTTYPE=image/jpeg:https://czigmeisterbrewing.com/wp-content/uploads/Oasis-Website.jpg
END:VEVENT
BEGIN:VEVENT
DTSTART;VALUE=DATE:20231014
DTEND;VALUE=DATE:20231016
DTSTAMP:20260422T230948
CREATED:20231005T152147Z
LAST-MODIFIED:20231005T152147Z
UID:10000124-1697241600-1697414399@czigmeisterbrewing.com
SUMMARY:Lafayette Garlic Festival
DESCRIPTION:Get ready to have a *stinking* good time at the Garlic Fest! 🧄🎉 Please join us October 14 & 15 from 10AM-5PM at The Shoppes at Lafayette. \nCzig Meister Brewing Co (@czigmeister ) Beer Garden will be set up on the Green. 🍻 Surrounding the Green will be garlicky goodness and so much more! This year we will be having 75+ vendors\, fresh goods\, and plenty of food & drinks\, this is an event not to be missed!! \n🧄 🧄 🧄 🧄 🧄 🧄 🧄 🧄 🧄 \n📍 The Shoppes at Lafayette\n📆 October 14th & 15th\n🕛 10AM – 5PM
URL:https://czigmeisterbrewing.com/event/lafayette-garlic-festival/
LOCATION:The Shoppes at Lafayette\, 75 NJ-15\, Lafayette\, NJ\, 07848\, United States
CATEGORIES:OTHER
ATTACH;FMTTYPE=image/png:https://czigmeisterbrewing.com/wp-content/uploads/Lafayette-Garlic-Festival.png
END:VEVENT
BEGIN:VEVENT
DTSTART;VALUE=DATE:20231020
DTEND;VALUE=DATE:20231021
DTSTAMP:20260422T230948
CREATED:20231005T145027Z
LAST-MODIFIED:20231005T145027Z
UID:10000121-1697760000-1697846399@czigmeisterbrewing.com
SUMMARY:Rocky Horror Brewery Show
DESCRIPTION:We would like\, if you may\, to take you on a strange journey… \nWe’re very excited to be hosting The Cosmic Light Cabaret – “NJ’s Home of Happiness” as they perform a live shadowcast performance of Rocky Horror Picture show on October 20th at 10pm! 21+ and Doors are at 9:30 and tickets are $20 including a prop bag for when the performance goes on. Dressing up is encouraged\, as before the showing Cosmic Light will be hosting the virgin ceremony for first timers\, the rocky horror oath\, and a costume contest! Tickets can be found HERE
URL:https://czigmeisterbrewing.com/event/rocky-horror-brewery-show/
LOCATION:Czig Meister Brewery\, 106 Valentine Street\, Hackettstown\, NJ\, 07840\, United States
CATEGORIES:IN HOUSE
ATTACH;FMTTYPE=image/png:https://czigmeisterbrewing.com/wp-content/uploads/Rocky-Horror-Website.png
END:VEVENT
BEGIN:VEVENT
DTSTART;VALUE=DATE:20231021
DTEND;VALUE=DATE:20231022
DTSTAMP:20260422T230948
CREATED:20231009T153515Z
LAST-MODIFIED:20231009T153515Z
UID:10000125-1697846400-1697932799@czigmeisterbrewing.com
SUMMARY:Panther Valley Fall Festival
DESCRIPTION:Come join us in celebrating the fall season at the Panther Valley Mall! \nOctober 21\, 2023\n11am – 4pm \nRAIN DATE OCTOBER 22nd \nThe day will be filled with vendors\, music\, food\, kids actives\, and more! Featuring beer from local Hackettstown brewery\, Czig Meister Brewing Company!
URL:https://czigmeisterbrewing.com/event/panther-valley-fall-festival/
LOCATION:NJ
CATEGORIES:OTHER
ATTACH;FMTTYPE=image/png:https://czigmeisterbrewing.com/wp-content/uploads/Panther-Valley-Fall-Festival.png
END:VEVENT
BEGIN:VEVENT
DTSTART;VALUE=DATE:20231022
DTEND;VALUE=DATE:20231023
DTSTAMP:20260422T230948
CREATED:20231016T143353Z
LAST-MODIFIED:20231016T143353Z
UID:10000127-1697932800-1698019199@czigmeisterbrewing.com
SUMMARY:Sunday Scaries - Chapter 3
DESCRIPTION:👻🎬 Sunday Scaries is back at our brewery! 🍻 This week\, we’re showing a classic that’s sure to make you say “It’s showtime!” 🎩 \nGet ready for a hauntingly hilarious tale of a peculiar poltergeist who loves stripes\, has a thing for the number three\, and is known for his mischievous antics in the afterlife. 🖤💚 \nJoin us for some spine-chilling fun\, laughter\, and of course\, our wide selection of craft beers. 🍺 Remember\, in our brewery\, we make pour decisions! 😉 \nSee you this Sunday! Don’t forget to wear your spookiest outfit! 👻🎃
URL:https://czigmeisterbrewing.com/event/sunday-scaries-chapter-3/
LOCATION:Czig Meister Brewery\, 106 Valentine Street\, Hackettstown\, NJ\, 07840\, United States
CATEGORIES:IN HOUSE
ATTACH;FMTTYPE=image/png:https://czigmeisterbrewing.com/wp-content/uploads/Beetlejuice-Website.png
END:VEVENT
BEGIN:VEVENT
DTSTART;VALUE=DATE:20231026
DTEND;VALUE=DATE:20231027
DTSTAMP:20260422T230948
CREATED:20231005T150104Z
LAST-MODIFIED:20231005T150104Z
UID:10000123-1698278400-1698364799@czigmeisterbrewing.com
SUMMARY:Harry Potter Trivia
DESCRIPTION:Join us on October 26th for a magical evening at Czig Meister Brewing Company as we host a Harry Potter themed trivia night! \nStep into the enchanting world of witches\, wizards\, and magical creatures as you test your knowledge of this beloved series. Whether you’re a muggle or a master wizard\, this trivia night is sure to cast a spell of fun and excitement. \nEnjoy our wide selection of craft beers\, brewed right here at Czig Meister\, as you compete for the House Cup. So grab your wands\, don your robes\, and prepare to apparate into a night of magical trivia. \nTrivia starts at 7pm! See you there!
URL:https://czigmeisterbrewing.com/event/harry-potter-trivia/
LOCATION:Czig Meister Brewery\, 106 Valentine Street\, Hackettstown\, NJ\, 07840\, United States
CATEGORIES:IN HOUSE
ATTACH;FMTTYPE=image/png:https://czigmeisterbrewing.com/wp-content/uploads/Harry-Potter-Trivia.png
END:VEVENT
BEGIN:VEVENT
DTSTART;VALUE=DATE:20231027
DTEND;VALUE=DATE:20231028
DTSTAMP:20260422T230948
CREATED:20230824T165237Z
LAST-MODIFIED:20231025T202038Z
UID:10000119-1698364800-1698451199@czigmeisterbrewing.com
SUMMARY:Beer Release: Sundial Series Axis
DESCRIPTION:🍻🍊🍹 Get ready for a taste explosion! Axis\, our newest addition to the Sundial Series\, clocks in at 6.2% and is conditioned on blood orange\, tangerine\, and pink guava. It’s releasing on October 26th to kick off a very special Halloween themed trivia. This deliciously tart and fruity ale is the perfect way to celebrate the fall season. Don’t miss out on this limited release!
URL:https://czigmeisterbrewing.com/event/beer-release-sundial-series-axis/
LOCATION:Czig Meister Brewery\, 106 Valentine Street\, Hackettstown\, NJ\, 07840\, United States
CATEGORIES:BEER RELEASES
ATTACH;FMTTYPE=image/png:https://czigmeisterbrewing.com/wp-content/uploads/Sundial-Series-Axis-Website.png
END:VEVENT
BEGIN:VEVENT
DTSTART;VALUE=DATE:20231027
DTEND;VALUE=DATE:20231028
DTSTAMP:20260422T230948
CREATED:20231020T153944Z
LAST-MODIFIED:20231020T153944Z
UID:10000126-1698364800-1698451199@czigmeisterbrewing.com
SUMMARY:Beer Release: Crush Depth Black IPA
DESCRIPTION:🍻 Dive into the abyss with our new Black IPA\, “Crush Depth”. This brew is a deep dive into bold flavors\, hopped with a trio of Columbus\, Simcoe\, and Chinook. The Columbus hops bring a pungent punch of earthy bitterness\, while the Simcoe adds a layer of piney aroma and fruity undertones. The Chinook hops round it out with a hint of spice and robust grapefruit notes. Dark as the ocean depths but teeming with flavor\, Crush Depth is an adventure in every sip.
URL:https://czigmeisterbrewing.com/event/beer-release-crush-depth-black-ipa/
LOCATION:Czig Meister Brewery\, 106 Valentine Street\, Hackettstown\, NJ\, 07840\, United States
CATEGORIES:BEER RELEASES
ATTACH;FMTTYPE=image/png:https://czigmeisterbrewing.com/wp-content/uploads/Crush-Depth-Black-IPA-Website.png
END:VEVENT
BEGIN:VEVENT
DTSTART;VALUE=DATE:20231028
DTEND;VALUE=DATE:20231029
DTSTAMP:20260422T230948
CREATED:20230201T152326Z
LAST-MODIFIED:20231023T202653Z
UID:10000079-1698451200-1698537599@czigmeisterbrewing.com
SUMMARY:Halloween Fright Flight
DESCRIPTION:🎃🍻 Get ready for a Fright Flight! 🍻🎃 \nJoin us on October 28th for a spooktacular evening of craft beer tasting at our brewery. We’ve brewed up a special flight of Halloween-inspired beers that are sure to thrill your taste buds! 👻 \nOur Fright Flight includes: \nAlmond Chocolate Bar Brown Ale – A nutty and chocolatey delight that’s eerily similar to your favorite candy bar.\nPeanut Butter Cup Imperial Stout – A rich\, dark brew with the irresistible combination of peanut butter and chocolate.\nRainbow Fruit Candy Sour – A rainbow of fruit flavors with a tart twist that will make your mouth pucker.\nPumpkin Spice Ale – The quintessential fall brew\, filled with the warming spices of the season.\nGummy Lime Seltzer – A refreshing and tangy brew that’s as fun as it is tasty. \nDon’t miss out on this unique tasting experience! Come in costume for extra fun. See you there! 🎉👹
URL:https://czigmeisterbrewing.com/event/halloween-fright-flight/
LOCATION:Czig Meister Brewery\, 106 Valentine Street\, Hackettstown\, NJ\, 07840\, United States
CATEGORIES:Featured,IN HOUSE
ATTACH;FMTTYPE=image/png:https://czigmeisterbrewing.com/wp-content/uploads/Halloween-Fright-Flight-Website.png
END:VEVENT
END:VCALENDAR