BEGIN:VCALENDAR
VERSION:2.0
PRODID:-//Czig Meister Brewing Company - ECPv6.15.20//NONSGML v1.0//EN
CALSCALE:GREGORIAN
METHOD:PUBLISH
X-WR-CALNAME:Czig Meister Brewing Company
X-ORIGINAL-URL:https://czigmeisterbrewing.com
X-WR-CALDESC:Events for Czig Meister Brewing Company
REFRESH-INTERVAL;VALUE=DURATION:PT1H
X-Robots-Tag:noindex
X-PUBLISHED-TTL:PT1H
BEGIN:VTIMEZONE
TZID:America/New_York
BEGIN:DAYLIGHT
TZOFFSETFROM:-0500
TZOFFSETTO:-0400
TZNAME:EDT
DTSTART:20220313T070000
END:DAYLIGHT
BEGIN:STANDARD
TZOFFSETFROM:-0400
TZOFFSETTO:-0500
TZNAME:EST
DTSTART:20221106T060000
END:STANDARD
BEGIN:DAYLIGHT
TZOFFSETFROM:-0500
TZOFFSETTO:-0400
TZNAME:EDT
DTSTART:20230312T070000
END:DAYLIGHT
BEGIN:STANDARD
TZOFFSETFROM:-0400
TZOFFSETTO:-0500
TZNAME:EST
DTSTART:20231105T060000
END:STANDARD
BEGIN:DAYLIGHT
TZOFFSETFROM:-0500
TZOFFSETTO:-0400
TZNAME:EDT
DTSTART:20240310T070000
END:DAYLIGHT
BEGIN:STANDARD
TZOFFSETFROM:-0400
TZOFFSETTO:-0500
TZNAME:EST
DTSTART:20241103T060000
END:STANDARD
END:VTIMEZONE
BEGIN:VEVENT
DTSTART;VALUE=DATE:20230802
DTEND;VALUE=DATE:20230803
DTSTAMP:20260423T081055
CREATED:20230724T162730Z
LAST-MODIFIED:20230724T162730Z
UID:10000113-1690934400-1691020799@czigmeisterbrewing.com
SUMMARY:Dogust! Universal Shelter Dog Birthday
DESCRIPTION:Calling all dog parents🐾 \nWe ♥️ our dogs\, so celebrate with us on August 2nd for Dogust\, the universal birthday for shelter dogs! From puppy pools\, frozen treats\, to a Dog Parent 101 training course\, this event is one you don’t want to miss. \nPHOTO SUBMISSIONS:\nPlease email the best photo you have of your dog to marketing@czigmeisterbrewing.com along with the answers to the following:\nDog Name:\nAge:\nNickname(s):\nFavorite Toy:\nFavorite memory with your pup:\nPreferred IG handle:
URL:https://czigmeisterbrewing.com/event/dogust-universal-shelter-dog-birthday/
LOCATION:Czig Meister Brewery\, 106 Valentine Street\, Hackettstown\, NJ\, 07840\, United States
CATEGORIES:IN HOUSE
ATTACH;FMTTYPE=image/png:https://czigmeisterbrewing.com/wp-content/uploads/Dogust-900-×-506-px.png
END:VEVENT
BEGIN:VEVENT
DTSTART;VALUE=DATE:20230802
DTEND;VALUE=DATE:20230904
DTSTAMP:20260423T081055
CREATED:20230616T194357Z
LAST-MODIFIED:20230616T194357Z
UID:10000099-1690934400-1693785599@czigmeisterbrewing.com
SUMMARY:Czeltzerfest
DESCRIPTION:🎉🍻Join us for Czeltzerfest\, the ultimate celebration of hard seltzer! Every week in August\, we’ll be featuring new rotating flavors of hard seltzer\, with over 30 varieties to choose from. Come and discover your new favorite drink\, and enjoy a month-long party with us. Don’t miss out on the fun!🍻🎉
URL:https://czigmeisterbrewing.com/event/czeltzerfest/
LOCATION:Czig Meister Brewery\, 106 Valentine Street\, Hackettstown\, NJ\, 07840\, United States
CATEGORIES:IN HOUSE
ATTACH;FMTTYPE=image/png:https://czigmeisterbrewing.com/wp-content/uploads/Czeltzerfest-Website.png
END:VEVENT
BEGIN:VEVENT
DTSTART;VALUE=DATE:20230812
DTEND;VALUE=DATE:20230813
DTSTAMP:20260423T081055
CREATED:20230810T201242Z
LAST-MODIFIED:20230810T201242Z
UID:10000114-1691798400-1691884799@czigmeisterbrewing.com
SUMMARY:Allamuchy 150th Anniversary
DESCRIPTION:What are you up to this Saturday? Come hang with us at the Allamuchy Township 150th Anniversary Celebration! We’ll be serving up the goods from 4-10 pm. There will be live music\, food\, games\, and even hot air balloon rides. Then at the end of the night\, stick around for a spectacular fireworks display. The event itself is free and fun for the whole family! Head to allamuchynj.org for more info!
URL:https://czigmeisterbrewing.com/event/allamuchy-150th-anniversary/
LOCATION:Allamuchy Recreational Field\, 7 Freeborn Ln\, Great Meadows\, NJ\, 07838\, United States
CATEGORIES:OTHER
ATTACH;FMTTYPE=image/png:https://czigmeisterbrewing.com/wp-content/uploads/Allamuchy-Website.png
END:VEVENT
BEGIN:VEVENT
DTSTART;VALUE=DATE:20230817
DTEND;VALUE=DATE:20230818
DTSTAMP:20260423T081055
CREATED:20230707T134729Z
LAST-MODIFIED:20230807T143358Z
UID:10000104-1692230400-1692316799@czigmeisterbrewing.com
SUMMARY:Beer Release: Oktoberfest
DESCRIPTION:Believe it or not\, it’s Oktoberfest season! Dropping Thursday August 17th at 2\, our favorite Märzen lager is back and getting us ready for our Oktoberfest on September 30th & October 1st(save the date)!   Available on tap and in 6-packs to go.
URL:https://czigmeisterbrewing.com/event/beer-release-oktoberfest/
LOCATION:Czig Meister Brewery\, 106 Valentine Street\, Hackettstown\, NJ\, 07840\, United States
CATEGORIES:BEER RELEASES
ATTACH;FMTTYPE=image/png:https://czigmeisterbrewing.com/wp-content/uploads/Oktoberfest-Can-Website.png
END:VEVENT
BEGIN:VEVENT
DTSTART;VALUE=DATE:20230818
DTEND;VALUE=DATE:20230819
DTSTAMP:20260423T081055
CREATED:20230616T193548Z
LAST-MODIFIED:20230727T200822Z
UID:10000098-1692316800-1692403199@czigmeisterbrewing.com
SUMMARY:Release: Deep Sea Series Gleam
DESCRIPTION:Gleam is one of our favorites from the Deep Sea Series making waves in the taproom yet again. Brewed with Citra & Sabro hops and sitting at 7%\, this beauty is pulling through notes of lemon\, orange zest\, light coconut\, and daaaaank if you ask us.
URL:https://czigmeisterbrewing.com/event/release-deep-sea-series-gleam-2/
LOCATION:Czig Meister Brewery\, 106 Valentine Street\, Hackettstown\, NJ\, 07840\, United States
CATEGORIES:BEER RELEASES
ATTACH;FMTTYPE=image/png:https://czigmeisterbrewing.com/wp-content/uploads/Gleam-Website.png
END:VEVENT
BEGIN:VEVENT
DTSTART;VALUE=DATE:20230819
DTEND;VALUE=DATE:20230820
DTSTAMP:20260423T081055
CREATED:20230707T182242Z
LAST-MODIFIED:20230707T182242Z
UID:10000106-1692403200-1692489599@czigmeisterbrewing.com
SUMMARY:Live Music Saturdays: Liz Wojtal and Next of Kin
DESCRIPTION:On Saturday August 19th\, Liz Wojtal and Next of Kin are bringing all the jams from 6:30-9:30pm! No cover and an all around good time\, come hang in the biergarten with some summertime music🎼🍻
URL:https://czigmeisterbrewing.com/event/live-music-saturdays-liz-wojtal-and-next-of-kin/
LOCATION:Czig Meister Brewery\, 106 Valentine Street\, Hackettstown\, NJ\, 07840\, United States
CATEGORIES:IN HOUSE
ATTACH;FMTTYPE=image/png:https://czigmeisterbrewing.com/wp-content/uploads/Liz-Wojtal-Next-of-Kin-August-19th.png
END:VEVENT
BEGIN:VEVENT
DTSTART;VALUE=DATE:20230826
DTEND;VALUE=DATE:20230827
DTSTAMP:20260423T081055
CREATED:20230201T151725Z
LAST-MODIFIED:20230809T134051Z
UID:10000077-1693008000-1693094399@czigmeisterbrewing.com
SUMMARY:End of Summer Block Party!
DESCRIPTION:Get ready for a day filled with fun activities\, including live music \, team games \, and much more. Bring your friends and family and enjoy the summer sun  while sipping on some delicious brews from Czig Meister
URL:https://czigmeisterbrewing.com/event/end-of-summer-block-party/
LOCATION:Czig Meister Brewery\, 106 Valentine Street\, Hackettstown\, NJ\, 07840\, United States
CATEGORIES:Featured,IN HOUSE
ATTACH;FMTTYPE=image/png:https://czigmeisterbrewing.com/wp-content/uploads/End-of-Summer-Block-Party-Website.png
END:VEVENT
END:VCALENDAR