BEGIN:VCALENDAR
VERSION:2.0
PRODID:-//Czig Meister Brewing Company - ECPv6.15.20//NONSGML v1.0//EN
CALSCALE:GREGORIAN
METHOD:PUBLISH
X-ORIGINAL-URL:https://czigmeisterbrewing.com
X-WR-CALDESC:Events for Czig Meister Brewing Company
REFRESH-INTERVAL;VALUE=DURATION:PT1H
X-Robots-Tag:noindex
X-PUBLISHED-TTL:PT1H
BEGIN:VTIMEZONE
TZID:America/New_York
BEGIN:DAYLIGHT
TZOFFSETFROM:-0500
TZOFFSETTO:-0400
TZNAME:EDT
DTSTART:20220313T070000
END:DAYLIGHT
BEGIN:STANDARD
TZOFFSETFROM:-0400
TZOFFSETTO:-0500
TZNAME:EST
DTSTART:20221106T060000
END:STANDARD
BEGIN:DAYLIGHT
TZOFFSETFROM:-0500
TZOFFSETTO:-0400
TZNAME:EDT
DTSTART:20230312T070000
END:DAYLIGHT
BEGIN:STANDARD
TZOFFSETFROM:-0400
TZOFFSETTO:-0500
TZNAME:EST
DTSTART:20231105T060000
END:STANDARD
BEGIN:DAYLIGHT
TZOFFSETFROM:-0500
TZOFFSETTO:-0400
TZNAME:EDT
DTSTART:20240310T070000
END:DAYLIGHT
BEGIN:STANDARD
TZOFFSETFROM:-0400
TZOFFSETTO:-0500
TZNAME:EST
DTSTART:20241103T060000
END:STANDARD
END:VTIMEZONE
BEGIN:VEVENT
DTSTART;VALUE=DATE:20230505
DTEND;VALUE=DATE:20230506
DTSTAMP:20260423T143456
CREATED:20230323T155937Z
LAST-MODIFIED:20230323T155937Z
UID:10000086-1683244800-1683331199@czigmeisterbrewing.com
SUMMARY:Beer Release: Strawberry Cream Ale
DESCRIPTION:On Friday May 5th\, our Strawberry Cream Ale is back! Conditioned on strawberries\, lactose\, and vanilla\, this spring time favorite is everything you’ve been waiting for to complete your seasonal line up.
URL:https://czigmeisterbrewing.com/event/beer-release-strawberry-cream-ale/
LOCATION:Czig Meister Brewery\, 106 Valentine Street\, Hackettstown\, NJ\, 07840\, United States
CATEGORIES:BEER RELEASES
ATTACH;FMTTYPE=image/png:https://czigmeisterbrewing.com/wp-content/uploads/Strawberry-Cream-Website.png
END:VEVENT
BEGIN:VEVENT
DTSTART;VALUE=DATE:20230512
DTEND;VALUE=DATE:20230513
DTSTAMP:20260423T143456
CREATED:20230323T160815Z
LAST-MODIFIED:20230323T160815Z
UID:10000087-1683849600-1683935999@czigmeisterbrewing.com
SUMMARY:Beer Release: Deep Sea Series Boom Haka Rakau
DESCRIPTION:Releasing on Friday\, May 12th\, Boom Haka Rakau is back! Brewed with Citra\, Mosaic\, & Rakau hops\, this 6.9% NEIPA is creamy\, fluffy\, daaaaank & gives you those melon & berry notes to hit on the back end.
URL:https://czigmeisterbrewing.com/event/beer-release-deep-sea-series-boom-haka-rakau/
LOCATION:Czig Meister Brewery\, 106 Valentine Street\, Hackettstown\, NJ\, 07840\, United States
CATEGORIES:BEER RELEASES
ATTACH;FMTTYPE=image/png:https://czigmeisterbrewing.com/wp-content/uploads/Boom-Haka-Website.png
END:VEVENT
BEGIN:VEVENT
DTSTART;VALUE=DATE:20230519
DTEND;VALUE=DATE:20230520
DTSTAMP:20260423T143456
CREATED:20230323T155101Z
LAST-MODIFIED:20230323T155101Z
UID:10000085-1684454400-1684540799@czigmeisterbrewing.com
SUMMARY:Beer Release: Easy Peasy Summer Shandy
DESCRIPTION:On Friday May 19th\, we’ll be dropping Easy Peasy\, our Summer Shandy! Soak up the sunshine with this 4.3% summer in a glass. This easy drinker is made with lemons\, limes\, and tangerines\, making it a staple in our fridges during these hot days. Available on draft and in 16oz 4-packs and 12oz 12-packs to go.
URL:https://czigmeisterbrewing.com/event/beer-release-easy-peasy-summer-shandy/
LOCATION:NJ
CATEGORIES:BEER RELEASES
ATTACH;FMTTYPE=image/png:https://czigmeisterbrewing.com/wp-content/uploads/Easy-Peasy-Website.png
END:VEVENT
BEGIN:VEVENT
DTSTART;VALUE=DATE:20230520
DTEND;VALUE=DATE:20230521
DTSTAMP:20260423T143456
CREATED:20230201T143655Z
LAST-MODIFIED:20230201T152722Z
UID:10000074-1684540800-1684627199@czigmeisterbrewing.com
SUMMARY:Maifest 2023
DESCRIPTION:A part of International Day in Hackettstown hosted by the Hackettstown Business Improvement District! \nCheck back soon for more details about this event!
URL:https://czigmeisterbrewing.com/event/maifest-2023/
LOCATION:Czig Meister Brewery\, 106 Valentine Street\, Hackettstown\, NJ\, 07840\, United States
CATEGORIES:Featured,IN HOUSE
ATTACH;FMTTYPE=image/png:https://czigmeisterbrewing.com/wp-content/uploads/Maifest-2023-Website.png
END:VEVENT
BEGIN:VEVENT
DTSTART;VALUE=DATE:20230526
DTEND;VALUE=DATE:20230527
DTSTAMP:20260423T143456
CREATED:20230330T172947Z
LAST-MODIFIED:20230330T172947Z
UID:10000095-1685059200-1685145599@czigmeisterbrewing.com
SUMMARY:Beer Release: Sundial Series Zenith
DESCRIPTION:🍊🍑🥭Reach the peak of flavor with Zenith\, the newest addition to our Sundial Series. This fruited sour is conditioned on orange\, mango\, and peach for a juicy and refreshing taste. Take a sip and let Zenith transport you to new heights.
URL:https://czigmeisterbrewing.com/event/beer-release-sundial-series-zenith/
LOCATION:Czig Meister Brewery\, 106 Valentine Street\, Hackettstown\, NJ\, 07840\, United States
CATEGORIES:BEER RELEASES
ATTACH;FMTTYPE=image/png:https://czigmeisterbrewing.com/wp-content/uploads/Zenith-Website.png
END:VEVENT
END:VCALENDAR