BEGIN:VCALENDAR
VERSION:2.0
PRODID:-//Czig Meister Brewing Company - ECPv6.15.20//NONSGML v1.0//EN
CALSCALE:GREGORIAN
METHOD:PUBLISH
X-WR-CALNAME:Czig Meister Brewing Company
X-ORIGINAL-URL:https://czigmeisterbrewing.com
X-WR-CALDESC:Events for Czig Meister Brewing Company
REFRESH-INTERVAL;VALUE=DURATION:PT1H
X-Robots-Tag:noindex
X-PUBLISHED-TTL:PT1H
BEGIN:VTIMEZONE
TZID:America/New_York
BEGIN:DAYLIGHT
TZOFFSETFROM:-0500
TZOFFSETTO:-0400
TZNAME:EDT
DTSTART:20240310T070000
END:DAYLIGHT
BEGIN:STANDARD
TZOFFSETFROM:-0400
TZOFFSETTO:-0500
TZNAME:EST
DTSTART:20241103T060000
END:STANDARD
BEGIN:DAYLIGHT
TZOFFSETFROM:-0500
TZOFFSETTO:-0400
TZNAME:EDT
DTSTART:20250309T070000
END:DAYLIGHT
BEGIN:STANDARD
TZOFFSETFROM:-0400
TZOFFSETTO:-0500
TZNAME:EST
DTSTART:20251102T060000
END:STANDARD
BEGIN:DAYLIGHT
TZOFFSETFROM:-0500
TZOFFSETTO:-0400
TZNAME:EDT
DTSTART:20260308T070000
END:DAYLIGHT
BEGIN:STANDARD
TZOFFSETFROM:-0400
TZOFFSETTO:-0500
TZNAME:EST
DTSTART:20261101T060000
END:STANDARD
END:VTIMEZONE
BEGIN:VEVENT
DTSTART;TZID=America/New_York:20251123T120000
DTEND;TZID=America/New_York:20251123T160000
DTSTAMP:20260423T120801
CREATED:20251111T201106Z
LAST-MODIFIED:20251111T201106Z
UID:10001660-1763899200-1763913600@czigmeisterbrewing.com
SUMMARY:Harvest Market: West End Farmers Market
DESCRIPTION:Second Annual Harvest Pop-Up Market  Sunday\, November 23rd | 12 PM – 4 PM Czig Meister Brewing CompanyHosted by West End Farmers’ Market & Czig Meister Brewing\nJoin us for a festive afternoon celebrating our local farmers\, makers\, and small businesses!\nShop Small and Support Local:Discover farm-fresh meats\, eggs\, baked goods\, and produce straight from our community growers. Grab your goodies for your thanksgiving meal. Turkey Pick up from Four Fields Farm\, Sourdough from the Bread Boutique\, fresh pies from Tranquility Temptations\, Fish and Seafood from The Market at Panther Valley\, and SO MUCH MORE!\nHandcrafted for the Holidays:Find one-of-a-kind gifts\, art\, and crafts made by talented local artisans — perfect for early holiday shopping!\n Delicious Eats: Savor mouthwatering Argentinian Hot Food and pastries from Sizzle BBQ Seasonal Sips: Enjoy craft beer\, seltzer\, cocktails and mocktails!\nEvery purchase you make supports local families\, farmers\, and small businesses from our own community.\nSo come out\, raise a glass\, meet your neighbors\, and celebrate the best of local this harvest season. We can’t wait to see you there!
URL:https://czigmeisterbrewing.com/event/harvest-market-west-end-farmers-market/
LOCATION:Czig Meister Brewery\, 106 Valentine Street\, Hackettstown\, NJ\, 07840\, United States
CATEGORIES:IN HOUSE
ATTACH;FMTTYPE=image/png:https://czigmeisterbrewing.com/wp-content/uploads/Website-Event-Covers-2-65-1.png
END:VEVENT
BEGIN:VEVENT
DTSTART;TZID=America/New_York:20251122T183000
DTEND;TZID=America/New_York:20251122T213000
DTSTAMP:20260423T120801
CREATED:20251020T135848Z
LAST-MODIFIED:20251020T135849Z
UID:10001396-1763836200-1763847000@czigmeisterbrewing.com
SUMMARY:Live Music: Adventures of Matte Black
DESCRIPTION:On November 22nd\, Live music from Adventures of Matte Black at 6:30-9:30pm. \nKick back with a cold pint and enjoy some great live music!!
URL:https://czigmeisterbrewing.com/event/live-music-adventures-of-matte-black/
LOCATION:Czig Meister Brewery\, 106 Valentine Street\, Hackettstown\, NJ\, 07840\, United States
CATEGORIES:IN HOUSE
END:VEVENT
BEGIN:VEVENT
DTSTART;VALUE=DATE:20251121
DTEND;VALUE=DATE:20251122
DTSTAMP:20260423T120801
CREATED:20251117T155141Z
LAST-MODIFIED:20251117T155141Z
UID:10001672-1763683200-1763769599@czigmeisterbrewing.com
SUMMARY:New Beer Release: Tiramisu
DESCRIPTION:Brewed with a Dark Roasted Peruvian Blend\, Madagascar vanilla\, Ghanian cacao nibs\, and lactose. What starts out as a silky milk porter gets conditioned on the above ingredients to bring you the traditional flavors of tiramisu bringing you delicacy in a glass. \nCoffee Beans for local coffee shop: Greenes Beans right here in Hackettstown
URL:https://czigmeisterbrewing.com/event/new-beer-release-tiramisu/
LOCATION:Czig Meister Brewery\, 106 Valentine Street\, Hackettstown\, NJ\, 07840\, United States
CATEGORIES:BEER RELEASES
ATTACH;FMTTYPE=image/png:https://czigmeisterbrewing.com/wp-content/uploads/Tiramisu-Resize-Website.png
END:VEVENT
BEGIN:VEVENT
DTSTART;TZID=America/New_York:20251120T190000
DTEND;TZID=America/New_York:20251120T210000
DTSTAMP:20260423T120801
CREATED:20251020T140403Z
LAST-MODIFIED:20251020T140403Z
UID:10000716-1763665200-1763672400@czigmeisterbrewing.com
SUMMARY:Trivia Revolution
DESCRIPTION:Join us and trivia revolution for a night of useless facts\, hanging out with your pals\, and most importantly… craft beer! Test your knowledge\, win some prizes\, and have a good time!
URL:https://czigmeisterbrewing.com/event/trivia-revolution-2/2025-11-20/
LOCATION:Czig Meister Brewery\, 106 Valentine Street\, Hackettstown\, NJ\, 07840\, United States
CATEGORIES:IN HOUSE
ATTACH;FMTTYPE=image/png:https://czigmeisterbrewing.com/wp-content/uploads/Trivia-Website-1-e1745940869244.png
END:VEVENT
BEGIN:VEVENT
DTSTART;TZID=America/New_York:20251115T183000
DTEND;TZID=America/New_York:20251115T213000
DTSTAMP:20260423T120801
CREATED:20251020T135151Z
LAST-MODIFIED:20251020T135151Z
UID:10001395-1763231400-1763242200@czigmeisterbrewing.com
SUMMARY:Live Music: Reggaelar People
DESCRIPTION:On November 15th\, Live music from Reggaelar People at 6:30-9:30pm. \nKick back with a cold pint and enjoy some great live music!!
URL:https://czigmeisterbrewing.com/event/live-music-reggaelar-people/
LOCATION:Czig Meister Brewery\, 106 Valentine Street\, Hackettstown\, NJ\, 07840\, United States
CATEGORIES:IN HOUSE
END:VEVENT
BEGIN:VEVENT
DTSTART;TZID=America/New_York:20251114T190000
DTEND;TZID=America/New_York:20251114T210000
DTSTAMP:20260423T120801
CREATED:20251020T134947Z
LAST-MODIFIED:20251020T134948Z
UID:10001394-1763146800-1763154000@czigmeisterbrewing.com
SUMMARY:Bingo
DESCRIPTION:Join us for our once a month bingo night!
URL:https://czigmeisterbrewing.com/event/bingo/
LOCATION:Czig Meister Brewery\, 106 Valentine Street\, Hackettstown\, NJ\, 07840\, United States
CATEGORIES:IN HOUSE
ATTACH;FMTTYPE=image/png:https://czigmeisterbrewing.com/wp-content/uploads/Bingo-1200-x-675-px-4.png
END:VEVENT
BEGIN:VEVENT
DTSTART;TZID=America/New_York:20251113T190000
DTEND;TZID=America/New_York:20251113T210000
DTSTAMP:20260423T120801
CREATED:20251020T140403Z
LAST-MODIFIED:20251020T140403Z
UID:10000715-1763060400-1763067600@czigmeisterbrewing.com
SUMMARY:Trivia Revolution
DESCRIPTION:Join us and trivia revolution for a night of useless facts\, hanging out with your pals\, and most importantly… craft beer! Test your knowledge\, win some prizes\, and have a good time!
URL:https://czigmeisterbrewing.com/event/trivia-revolution-2/2025-11-13/
LOCATION:Czig Meister Brewery\, 106 Valentine Street\, Hackettstown\, NJ\, 07840\, United States
CATEGORIES:IN HOUSE
ATTACH;FMTTYPE=image/png:https://czigmeisterbrewing.com/wp-content/uploads/Trivia-Website-1-e1745940869244.png
END:VEVENT
BEGIN:VEVENT
DTSTART;TZID=America/New_York:20251108T120000
DTEND;TZID=America/New_York:20251108T220000
DTSTAMP:20260423T120801
CREATED:20251008T170952Z
LAST-MODIFIED:20251008T170952Z
UID:10001389-1762603200-1762639200@czigmeisterbrewing.com
SUMMARY:Barrel Fest
DESCRIPTION:Join us Saturday\, November 8th | 12PM – 10PM⁠\n⁠\nOur Barrel Fest is happening;  Our tents will be staying up for this event. Here is what to expect:⁠\n⁠\n 20+ Barrel aged Beers on tap ⁠\n Food Trucks in the lower lot⁠\n Live music\n⁠\n Save the date\, bring your crew\, and come thirsty.⁠\nIt’s going to be a day you don’t want to miss!⁠
URL:https://czigmeisterbrewing.com/event/barrel-fest/
LOCATION:Czig Meister Brewery\, 106 Valentine Street\, Hackettstown\, NJ\, 07840\, United States
CATEGORIES:Featured,IN HOUSE
ATTACH;FMTTYPE=image/png:https://czigmeisterbrewing.com/wp-content/uploads/Bathroom-Poster-1200-x-675-px.png
END:VEVENT
BEGIN:VEVENT
DTSTART;TZID=America/New_York:20251106T190000
DTEND;TZID=America/New_York:20251106T210000
DTSTAMP:20260423T120801
CREATED:20251020T140403Z
LAST-MODIFIED:20251020T140403Z
UID:10000714-1762455600-1762462800@czigmeisterbrewing.com
SUMMARY:Trivia Revolution
DESCRIPTION:Join us and trivia revolution for a night of useless facts\, hanging out with your pals\, and most importantly… craft beer! Test your knowledge\, win some prizes\, and have a good time!
URL:https://czigmeisterbrewing.com/event/trivia-revolution-2/2025-11-06/
LOCATION:Czig Meister Brewery\, 106 Valentine Street\, Hackettstown\, NJ\, 07840\, United States
CATEGORIES:IN HOUSE
ATTACH;FMTTYPE=image/png:https://czigmeisterbrewing.com/wp-content/uploads/Trivia-Website-1-e1745940869244.png
END:VEVENT
BEGIN:VEVENT
DTSTART;TZID=America/New_York:20251102T120000
DTEND;TZID=America/New_York:20251102T160000
DTSTAMP:20260423T120801
CREATED:20251020T134617Z
LAST-MODIFIED:20251020T134617Z
UID:10001393-1762084800-1762099200@czigmeisterbrewing.com
SUMMARY:Czig Meister: Dog Adoption
DESCRIPTION:Join us on November 2nd for a tail-wagging good time at our DOG ADOPTION EVENT featuring amazing local animal rescues! Come meet adorable dogs and puppies looking for their forever homes. Whether you’re looking for a playful puppy or a chill adult dog\, your new family member could be waiting for you! \nWhile you’re here\, enjoy: Great local beer\, West End Farmers Market and some live music. Let’s find these pups the loving homes they deserve. See you there!! \n*Interested in a dog? Please visit the rescue’s website ad\, fill out an application prior to the event to streamline the adoption process.
URL:https://czigmeisterbrewing.com/event/czig-meister-dog-adoption/
LOCATION:Czig Meister Brewery\, 106 Valentine Street\, Hackettstown\, NJ\, 07840\, United States
CATEGORIES:Featured
ATTACH;FMTTYPE=image/png:https://czigmeisterbrewing.com/wp-content/uploads/Website-Event-Covers-2-63-1.png
END:VEVENT
BEGIN:VEVENT
DTSTART;TZID=America/New_York:20251101T183000
DTEND;TZID=America/New_York:20251101T213000
DTSTAMP:20260423T120801
CREATED:20251008T124117Z
LAST-MODIFIED:20251020T153528Z
UID:10001388-1762021800-1762032600@czigmeisterbrewing.com
SUMMARY:Live Music: Water Street
DESCRIPTION:On November 1st\, Live music from Water Street at 6:30-9:30pm. \nKick back with a cold pint and enjoy some great live music!!
URL:https://czigmeisterbrewing.com/event/live-music-water-street-2/
LOCATION:Czig Meister Brewery\, 106 Valentine Street\, Hackettstown\, NJ\, 07840\, United States
CATEGORIES:IN HOUSE
END:VEVENT
BEGIN:VEVENT
DTSTART;TZID=America/New_York:20251031T180000
DTEND;TZID=America/New_York:20251031T220000
DTSTAMP:20260423T120801
CREATED:20251001T140117Z
LAST-MODIFIED:20251001T140117Z
UID:10001271-1761933600-1761948000@czigmeisterbrewing.com
SUMMARY:Halloween Party
DESCRIPTION:The Halloween Party is BACK at Czig Meister Brewing! \nGet ready for a night of chills\, thrills\, and killer brews! \n‍♀️ Costume Contest – Dress to impress for a chance to win awesome prizes!\n Live Music by The Tonighters – from 6:30–9:30PM.\n The Fright Flight Returns – Our spooky seasonal beer flight is back. \nGrab your costume\, gather your crew\, and come celebrate Halloween the Czig way—costumes\, cold beers\, and good vibes all night long!
URL:https://czigmeisterbrewing.com/event/halloween-party-2/
LOCATION:Czig Meister Brewery\, 106 Valentine Street\, Hackettstown\, NJ\, 07840\, United States
CATEGORIES:IN HOUSE
END:VEVENT
BEGIN:VEVENT
DTSTART;TZID=America/New_York:20251030T190000
DTEND;TZID=America/New_York:20251030T210000
DTSTAMP:20260423T120801
CREATED:20251020T140403Z
LAST-MODIFIED:20251020T140403Z
UID:10000713-1761850800-1761858000@czigmeisterbrewing.com
SUMMARY:Trivia Revolution
DESCRIPTION:Join us and trivia revolution for a night of useless facts\, hanging out with your pals\, and most importantly… craft beer! Test your knowledge\, win some prizes\, and have a good time!
URL:https://czigmeisterbrewing.com/event/trivia-revolution-2/2025-10-30/
LOCATION:Czig Meister Brewery\, 106 Valentine Street\, Hackettstown\, NJ\, 07840\, United States
CATEGORIES:IN HOUSE
ATTACH;FMTTYPE=image/png:https://czigmeisterbrewing.com/wp-content/uploads/Trivia-Website-1-e1745940869244.png
END:VEVENT
BEGIN:VEVENT
DTSTART;TZID=America/New_York:20251029T190000
DTEND;TZID=America/New_York:20251029T200000
DTSTAMP:20260423T120801
CREATED:20251006T131412Z
LAST-MODIFIED:20251020T153711Z
UID:10001387-1761764400-1761768000@czigmeisterbrewing.com
SUMMARY:Moss Society Class
DESCRIPTION:Boo-ze\, brews & blooms! \nWe’re back at Czig Meister Brewing for a spook-tacular Moss & Mingle. \nWednesday\, October 29th\n7:00 PM\nCzig Meister Brewing — 106 Valentine St\, Hackettstown\, NJ \nThe real horror story? Waiting too long to buy your ticket. \nGet your ticket before it disappears.
URL:https://czigmeisterbrewing.com/event/moss-society-class-2/
LOCATION:Czig Meister Brewery\, 106 Valentine Street\, Hackettstown\, NJ\, 07840\, United States
CATEGORIES:IN HOUSE
END:VEVENT
BEGIN:VEVENT
DTSTART;TZID=America/New_York:20251025T183000
DTEND;TZID=America/New_York:20251025T213000
DTSTAMP:20260423T120801
CREATED:20251006T130955Z
LAST-MODIFIED:20251020T153608Z
UID:10001386-1761417000-1761427800@czigmeisterbrewing.com
SUMMARY:Live Music: Harmony Garage Band
DESCRIPTION:On October 25th\, Live music from The Harmony Garage Band at 6:30-9:30pm. \nKick back with a cold pint and enjoy some great live music!!
URL:https://czigmeisterbrewing.com/event/live-music-harmony-garage-band/
LOCATION:Czig Meister Brewery\, 106 Valentine Street\, Hackettstown\, NJ\, 07840\, United States
CATEGORIES:IN HOUSE
END:VEVENT
BEGIN:VEVENT
DTSTART;TZID=America/New_York:20251024T190000
DTEND;TZID=America/New_York:20251024T210000
DTSTAMP:20260423T120801
CREATED:20251001T151336Z
LAST-MODIFIED:20251001T151336Z
UID:10001272-1761332400-1761339600@czigmeisterbrewing.com
SUMMARY:Movie Night
DESCRIPTION:Join us for our final movie night of the season! We’ll be under the tents\, so bring some blankets — and we’ll take care of the beer. \n Guess the Movie: \nBefore a girl from Kansas landed in Oz\, two unlikely friends — one green\, one gleaming — changed the world. One became “good\,” the other was called “Evil.” \nCan you name the movie?
URL:https://czigmeisterbrewing.com/event/movie-night-5/
LOCATION:Czig Meister Brewery\, 106 Valentine Street\, Hackettstown\, NJ\, 07840\, United States
CATEGORIES:IN HOUSE
END:VEVENT
BEGIN:VEVENT
DTSTART;VALUE=DATE:20251024
DTEND;VALUE=DATE:20251025
DTSTAMP:20260423T120801
CREATED:20251017T132120Z
LAST-MODIFIED:20251017T132120Z
UID:10001392-1761264000-1761350399@czigmeisterbrewing.com
SUMMARY:New Beer Release: Deep Sea- Maelstrom
DESCRIPTION:On Friday\, October 24th a brand new Deep Sea will be released (Maelstrom). \nNEW FROM THE DEEP: MAELSTROM\nPrepare to be pulled under — Maelstrom is the latest swell in our Deep Sea Series — a brand new release bursting with flavor!! \nMaelstrom is a 7% New England IPA brewed with a wild blend of Dolcita\, Motueka\, Sabro\, and Idaho 7 hops\, creating a vortex of flavor of soft tropical fruit\, zesty citrus\, smooth coconut\, and juicy stone fruit. \nNo dry hops. No shortcuts. Just a swirling storm of hop character. \nDive in before the current shifts.
URL:https://czigmeisterbrewing.com/event/new-beer-release-deep-sea-maelstrom/
LOCATION:Czig Meister Brewery\, 106 Valentine Street\, Hackettstown\, NJ\, 07840\, United States
CATEGORIES:BEER RELEASES
ATTACH;FMTTYPE=image/png:https://czigmeisterbrewing.com/wp-content/uploads/Master-Cans-with-labels-1200-x-675-px.png
END:VEVENT
BEGIN:VEVENT
DTSTART;TZID=America/New_York:20251023T190000
DTEND;TZID=America/New_York:20251023T210000
DTSTAMP:20260423T120801
CREATED:20251020T140403Z
LAST-MODIFIED:20251020T140403Z
UID:10000712-1761246000-1761253200@czigmeisterbrewing.com
SUMMARY:Trivia Revolution
DESCRIPTION:Join us and trivia revolution for a night of useless facts\, hanging out with your pals\, and most importantly… craft beer! Test your knowledge\, win some prizes\, and have a good time!
URL:https://czigmeisterbrewing.com/event/trivia-revolution-2/2025-10-23/
LOCATION:Czig Meister Brewery\, 106 Valentine Street\, Hackettstown\, NJ\, 07840\, United States
CATEGORIES:IN HOUSE
ATTACH;FMTTYPE=image/png:https://czigmeisterbrewing.com/wp-content/uploads/Trivia-Website-1-e1745940869244.png
END:VEVENT
BEGIN:VEVENT
DTSTART;VALUE=DATE:20251023
DTEND;VALUE=DATE:20251024
DTSTAMP:20260423T120801
CREATED:20251014T181140Z
LAST-MODIFIED:20251017T123642Z
UID:10001391-1761177600-1761263999@czigmeisterbrewing.com
SUMMARY:New Beer Release: Sundial Series - Chrono Shift
DESCRIPTION:On Friday October\, 24th Chrono Shift is BACK! \nChrono Shift – Imperial Fruited Sour Ale\nABV: 8.4% | Style: Fruited Kettle Sour | Availability: Anniversary Limited Release \nBrewed to commemorate our 5th anniversary\, Chrono Shift is the time-warped\, turbocharged version of our beloved Sunset Sherbet. Conditioned on raspberry\, passion fruit\, tangerine\, key lime\, vanilla beans\, and lactose\, it delivers intense fruit character with a smooth\, creamy body and vibrant acidity. \nAt 8.4%\, this imperial sour is lush\, layered\, and built for celebration. Sip slow — time flies.
URL:https://czigmeisterbrewing.com/event/new-beer-release-sundial-series-chrono-shift/
LOCATION:Czig Meister Brewery\, 106 Valentine Street\, Hackettstown\, NJ\, 07840\, United States
CATEGORIES:BEER RELEASES
ATTACH;FMTTYPE=image/jpeg:https://czigmeisterbrewing.com/wp-content/uploads/Chrono-Shift-Website.jpg
END:VEVENT
BEGIN:VEVENT
DTSTART;TZID=America/New_York:20251022T180000
DTEND;TZID=America/New_York:20251022T200000
DTSTAMP:20260423T120801
CREATED:20250910T135245Z
LAST-MODIFIED:20251020T153425Z
UID:10001270-1761156000-1761163200@czigmeisterbrewing.com
SUMMARY:Czig Meister: Ghost Hunting 101
DESCRIPTION:It’s time to get spooked! \nJoin us for a spine-tingling night of spirits—both kinds! Gina from Shivers  will lead a hands-on ghost hunting class right here at the brewery. Learn how real investigators detect paranormal activity using ghost-hunting tools\, techniques\, and your own intuition. \nTickets includes: Equipment and 1 beer \nhttps://www.meetup.com/shivershaunted/events/310954339/?slug=shivershaunted&eventId=308107795&isFirstPublish=true
URL:https://czigmeisterbrewing.com/event/czig-meister-ghost-hunting-101/
LOCATION:Czig Meister Brewery\, 106 Valentine Street\, Hackettstown\, NJ\, 07840\, United States
CATEGORIES:IN HOUSE
ATTACH;FMTTYPE=image/png:https://czigmeisterbrewing.com/wp-content/uploads/Website-Event-Covers-2-54.png
END:VEVENT
BEGIN:VEVENT
DTSTART;TZID=America/New_York:20251018T183000
DTEND;TZID=America/New_York:20251018T213000
DTSTAMP:20260423T120801
CREATED:20250910T133745Z
LAST-MODIFIED:20250910T133745Z
UID:10001269-1760812200-1760823000@czigmeisterbrewing.com
SUMMARY:Live Music: Black Radish
DESCRIPTION:On October 18th\, Live music from The Black Radish at 6:30-9:30pm. \nKick back with a cold pint and enjoy some great live music!!
URL:https://czigmeisterbrewing.com/event/live-music-black-radish/
LOCATION:Czig Meister Brewery\, 106 Valentine Street\, Hackettstown\, NJ\, 07840\, United States
CATEGORIES:Featured,IN HOUSE
END:VEVENT
BEGIN:VEVENT
DTSTART;TZID=America/New_York:20251018T120000
DTEND;TZID=America/New_York:20251018T200000
DTSTAMP:20260423T120801
CREATED:20250910T133604Z
LAST-MODIFIED:20250910T133604Z
UID:10001268-1760788800-1760817600@czigmeisterbrewing.com
SUMMARY:Food Truck: Sizzle
DESCRIPTION:On October 18th\, we will be having Sizzle BBQ food truck. Stop on by the brewery for beer and food from Sizzle. \nThey will be here 12-8pm.
URL:https://czigmeisterbrewing.com/event/food-truck-sizzle-2/
LOCATION:Czig Meister Brewery\, 106 Valentine Street\, Hackettstown\, NJ\, 07840\, United States
CATEGORIES:Featured,IN HOUSE
END:VEVENT
BEGIN:VEVENT
DTSTART;TZID=America/New_York:20251018T110000
DTEND;TZID=America/New_York:20251019T173000
DTSTAMP:20260423T120801
CREATED:20251006T130720Z
LAST-MODIFIED:20251006T130720Z
UID:10001385-1760785200-1760895000@czigmeisterbrewing.com
SUMMARY:Tranquility Farms Fall Fest
DESCRIPTION:Join us at Tranquility farms Saturday and Sunday all through October for there fall festival. We will be pouring: 11am-6pm! \nThere will be: \n-Pumpkin Picking \n-Hayrides \n-Corn Maze \n-Live Music \nCome stop by for a beer!
URL:https://czigmeisterbrewing.com/event/tranquility-farms-fall-fest/
LOCATION:Tranquility Farms\, 47 Decker Pond Rd.\, Green Township\, 07821\, United States
CATEGORIES:OUTDOOR BEER FESTIVALS
END:VEVENT
BEGIN:VEVENT
DTSTART;TZID=America/New_York:20251017T200000
DTEND;TZID=America/New_York:20251017T220000
DTSTAMP:20260423T120801
CREATED:20250910T132916Z
LAST-MODIFIED:20250910T132916Z
UID:10001266-1760731200-1760738400@czigmeisterbrewing.com
SUMMARY:Rocky Horror Picture Show
DESCRIPTION:Do the time warp again with us & Cosmic Light Cabaret for another night of Rocky Horror… right under our biergarten tent!\nTickets are $30 and include a prop bag\, a devirginilization ceremony for first timers\, a costume contest\, and live musical performances throughout! This event will be outside underneath our tent\, so please plan and dress accordingly!\n\n\n\nGet your tickets here: https://czigmeister.ecwid.com/21-October-18th-8pm-Rocky-Horror-Picture-Show-**OUTDOORS**-p592139542\n\nDoors: 7pmShow: 8pm21+
URL:https://czigmeisterbrewing.com/event/rocky-horror-picture-show-2/
LOCATION:Czig Meister Brewery\, 106 Valentine Street\, Hackettstown\, NJ\, 07840\, United States
CATEGORIES:Featured,IN HOUSE
ATTACH;FMTTYPE=image/png:https://czigmeisterbrewing.com/wp-content/uploads/Website-Event-Covers-2-55-1.png
END:VEVENT
BEGIN:VEVENT
DTSTART;VALUE=DATE:20251017
DTEND;VALUE=DATE:20251018
DTSTAMP:20260423T120801
CREATED:20251014T180742Z
LAST-MODIFIED:20251014T180742Z
UID:10001390-1760659200-1760745599@czigmeisterbrewing.com
SUMMARY:New Beer Release: Chaos
DESCRIPTION:On Friday\, October 17th- Chaos is BACK!! \nRich\, complex\, and darkly elegant—Chaos is our take on a Belgian-Style Dubbel\, brewed with tradition in mind and just enough unpredictability to keep you coming back for more.  \nClocking in at 6.4% ABV\, Chaos layers Weyermann Barke Pils\, Munich\, Vienna\, Crystal 120\, and Roast Barley malts with a touch of dextrose to create a deep amber ale full of dark fruit\, toffee\, light spice\, and a warming\, dry finish.  \nChaos is now available in 4-packs and on draft. Sip slowly\, let the Chaos unfold..⚔️
URL:https://czigmeisterbrewing.com/event/new-beer-release-chaos/
LOCATION:Czig Meister Brewery\, 106 Valentine Street\, Hackettstown\, NJ\, 07840\, United States
CATEGORIES:BEER RELEASES
ATTACH;FMTTYPE=image/png:https://czigmeisterbrewing.com/wp-content/uploads/Chaos-Website.png
END:VEVENT
BEGIN:VEVENT
DTSTART;TZID=America/New_York:20251016T190000
DTEND;TZID=America/New_York:20251016T210000
DTSTAMP:20260423T120801
CREATED:20250616T175331Z
LAST-MODIFIED:20250616T175331Z
UID:10000711-1760641200-1760648400@czigmeisterbrewing.com
SUMMARY:Trivia Revolution
DESCRIPTION:Join us and trivia revolution for a night of useless facts\, hanging out with your pals\, and most importantly… craft beer! Test your knowledge\, win some prizes\, and have a good time!
URL:https://czigmeisterbrewing.com/event/trivia-revolution/2025-10-16/
LOCATION:Czig Meister Brewery\, 106 Valentine Street\, Hackettstown\, NJ\, 07840\, United States
CATEGORIES:IN HOUSE
ATTACH;FMTTYPE=image/png:https://czigmeisterbrewing.com/wp-content/uploads/Trivia-Website-1-e1745940869244.png
END:VEVENT
BEGIN:VEVENT
DTSTART;TZID=America/New_York:20251015T180000
DTEND;TZID=America/New_York:20251015T200000
DTSTAMP:20260423T120801
CREATED:20250910T133412Z
LAST-MODIFIED:20251014T175725Z
UID:10001267-1760551200-1760558400@czigmeisterbrewing.com
SUMMARY:Paint & Sip Wood Sign
DESCRIPTION:Get ready to tap into your creative side and celebrate the cozy vibes of fall! Join Staci at Czig Meister Brewing for a fun-filled Paint & Sip Wood Sign Workshop\, where you’ll create your own handcrafted fall-themed wood sign – perfect for adding a rustic touch to your seasonal décor. \n️ No experience? No problem!
URL:https://czigmeisterbrewing.com/event/paint-sip-wood-sign/
LOCATION:NJ
CATEGORIES:IN HOUSE
ATTACH;FMTTYPE=image/png:https://czigmeisterbrewing.com/wp-content/uploads/Website-Event-Covers-2-56.png
END:VEVENT
BEGIN:VEVENT
DTSTART;TZID=America/New_York:20251011T183000
DTEND;TZID=America/New_York:20251011T213000
DTSTAMP:20260423T120801
CREATED:20250910T131657Z
LAST-MODIFIED:20250910T131657Z
UID:10001264-1760207400-1760218200@czigmeisterbrewing.com
SUMMARY:Live Music: Six Blade Knife
DESCRIPTION:On October 11th\, Live music from Six Blade Knife at 6:30-9:30pm. \nKick back with a cold pint and enjoy some great live music!!
URL:https://czigmeisterbrewing.com/event/live-music-six-blade-knife-2/
LOCATION:Czig Meister Brewery\, 106 Valentine Street\, Hackettstown\, NJ\, 07840\, United States
CATEGORIES:Featured,IN HOUSE
END:VEVENT
BEGIN:VEVENT
DTSTART;TZID=America/New_York:20251011T120000
DTEND;TZID=America/New_York:20251011T200000
DTSTAMP:20260423T120801
CREATED:20250910T132031Z
LAST-MODIFIED:20250910T132031Z
UID:10001265-1760184000-1760212800@czigmeisterbrewing.com
SUMMARY:Food Truck: Sizzle
DESCRIPTION:On October 11th\, we will be having Sizzle BBQ food truck. Stop on by the brewery for beer and food from Sizzle. \nThey will be here 12-8pm.
URL:https://czigmeisterbrewing.com/event/food-truck-sizzle/
LOCATION:Czig Meister Brewery\, 106 Valentine Street\, Hackettstown\, NJ\, 07840\, United States
CATEGORIES:Featured,IN HOUSE
END:VEVENT
BEGIN:VEVENT
DTSTART;TZID=America/New_York:20251011T110000
DTEND;TZID=America/New_York:20251012T173000
DTSTAMP:20260423T120801
CREATED:20251006T130338Z
LAST-MODIFIED:20251006T130516Z
UID:10001273-1760180400-1760290200@czigmeisterbrewing.com
SUMMARY:Tranquility Fall Fest
DESCRIPTION:Join us at Tranquility farms Saturday and Sunday all through October for there fall festival. We will be pouring: 11am-6pm! \nThere will be: \n-Pumpkin Picking \n-Hayrides \n-Corn Maze \n-Live Music \nCome stop by for a beer!
URL:https://czigmeisterbrewing.com/event/tranquility-fall-fest/
LOCATION:Tranquility Farms\, 47 Decker Pond Rd.\, Green Township\, 07821\, United States
CATEGORIES:OUTDOOR BEER FESTIVALS
END:VEVENT
END:VCALENDAR