BEGIN:VCALENDAR
VERSION:2.0
PRODID:-//Czig Meister Brewing Company - ECPv6.15.20//NONSGML v1.0//EN
CALSCALE:GREGORIAN
METHOD:PUBLISH
X-WR-CALNAME:Czig Meister Brewing Company
X-ORIGINAL-URL:https://czigmeisterbrewing.com
X-WR-CALDESC:Events for Czig Meister Brewing Company
REFRESH-INTERVAL;VALUE=DURATION:PT1H
X-Robots-Tag:noindex
X-PUBLISHED-TTL:PT1H
BEGIN:VTIMEZONE
TZID:America/New_York
BEGIN:DAYLIGHT
TZOFFSETFROM:-0500
TZOFFSETTO:-0400
TZNAME:EDT
DTSTART:20230312T070000
END:DAYLIGHT
BEGIN:STANDARD
TZOFFSETFROM:-0400
TZOFFSETTO:-0500
TZNAME:EST
DTSTART:20231105T060000
END:STANDARD
BEGIN:DAYLIGHT
TZOFFSETFROM:-0500
TZOFFSETTO:-0400
TZNAME:EDT
DTSTART:20240310T070000
END:DAYLIGHT
BEGIN:STANDARD
TZOFFSETFROM:-0400
TZOFFSETTO:-0500
TZNAME:EST
DTSTART:20241103T060000
END:STANDARD
BEGIN:DAYLIGHT
TZOFFSETFROM:-0500
TZOFFSETTO:-0400
TZNAME:EDT
DTSTART:20250309T070000
END:DAYLIGHT
BEGIN:STANDARD
TZOFFSETFROM:-0400
TZOFFSETTO:-0500
TZNAME:EST
DTSTART:20251102T060000
END:STANDARD
END:VTIMEZONE
BEGIN:VEVENT
DTSTART;VALUE=DATE:20241025
DTEND;VALUE=DATE:20241026
DTSTAMP:20260422T050008
CREATED:20241008T184346Z
LAST-MODIFIED:20241008T184942Z
UID:10000410-1729814400-1729900799@czigmeisterbrewing.com
SUMMARY:Beer Release: Chaos Belgian Dubbel
DESCRIPTION:6.3% Notes of toffee\, brown sugar\, pie spices\, brown bread\, raisin\, dark cherry. The tradition of Belgian monks brewing this style using holy water goes back to the late 19th century\, and here we use Hackettstown water to add a little magic to every brew.
URL:https://czigmeisterbrewing.com/event/beer-release-chaos-belgian-dubbel-2/
LOCATION:NJ
CATEGORIES:BEER RELEASES
ATTACH;FMTTYPE=image/png:https://czigmeisterbrewing.com/wp-content/uploads/Website-Event-Covers-2-38.png
END:VEVENT
BEGIN:VEVENT
DTSTART;VALUE=DATE:20241025
DTEND;VALUE=DATE:20241026
DTSTAMP:20260422T050008
CREATED:20241008T185818Z
LAST-MODIFIED:20241008T185818Z
UID:10000412-1729814400-1729900799@czigmeisterbrewing.com
SUMMARY:Beer Release: Miner Black Lager
DESCRIPTION:Miner\, the first beer of ours to place in the World Beer Cup\, makes its way out of the mines and into your glass. Easy drinking at 4.6%\, smooth\, crisp\, and notes of dark roast coffee with a nice clean finish.
URL:https://czigmeisterbrewing.com/event/beer-release-miner-black-lager-2/
LOCATION:NJ
CATEGORIES:BEER RELEASES
ATTACH;FMTTYPE=image/png:https://czigmeisterbrewing.com/wp-content/uploads/Website-Event-Covers-2-40.png
END:VEVENT
BEGIN:VEVENT
DTSTART;VALUE=DATE:20241026
DTEND;VALUE=DATE:20241027
DTSTAMP:20260422T050008
CREATED:20240919T142358Z
LAST-MODIFIED:20240919T143117Z
UID:10000381-1729944000-1729962000@czigmeisterbrewing.com
SUMMARY:Fall Fest @ Tranquillity Farms
DESCRIPTION:Join us as the beer vendor for Tranquillity Farms Fall Festival!
URL:https://czigmeisterbrewing.com/event/fall-fest-tranquillity-farms/2024-10-26/
LOCATION:Tranquility Farms\, 47 Decker Pond Rd.\, Green Township\, 07821\, United States
CATEGORIES:OUTDOOR BEER FESTIVALS
ATTACH;FMTTYPE=image/png:https://czigmeisterbrewing.com/wp-content/uploads/Website-Event-Covers-2-15.png
END:VEVENT
BEGIN:VEVENT
DTSTART;TZID=America/New_York:20241026T190000
DTEND;TZID=America/New_York:20241026T213000
DTSTAMP:20260422T050008
CREATED:20241024T140832Z
LAST-MODIFIED:20241024T140843Z
UID:10000416-1729969200-1729978200@czigmeisterbrewing.com
SUMMARY:Live Music | Harry Noble & Joe Cirotti
DESCRIPTION:No cover!
URL:https://czigmeisterbrewing.com/event/live-music-harry-noble-joe-cirotti/
LOCATION:NJ
ATTACH;FMTTYPE=image/png:https://czigmeisterbrewing.com/wp-content/uploads/Website-Event-Covers-2-46.png
END:VEVENT
BEGIN:VEVENT
DTSTART;VALUE=DATE:20241102
DTEND;VALUE=DATE:20241103
DTSTAMP:20260422T050008
CREATED:20240827T225929Z
LAST-MODIFIED:20241008T160417Z
UID:10000372-1730505600-1730591999@czigmeisterbrewing.com
SUMMARY:Barrel Aged Beer Fest
DESCRIPTION:Join us as we celebrate barrel aged beers at the brewery!
URL:https://czigmeisterbrewing.com/event/barrel-aged-beer-fest/
LOCATION:NJ
CATEGORIES:Featured,IN HOUSE
ATTACH;FMTTYPE=image/png:https://czigmeisterbrewing.com/wp-content/uploads/Website-Event-Covers-2-27.png
END:VEVENT
BEGIN:VEVENT
DTSTART;TZID=America/New_York:20241104T080000
DTEND;TZID=America/New_York:20241104T170000
DTSTAMP:20260422T050008
CREATED:20241104T191022Z
LAST-MODIFIED:20241104T193001Z
UID:10000422-1730707200-1730739600@czigmeisterbrewing.com
SUMMARY:Veterans Day Weekend Special
DESCRIPTION:$1 from every pour of Tradesman\, our Helles Lager\, will be donated to Backpacks For Life!
URL:https://czigmeisterbrewing.com/event/veterans-day-weekend-special/
LOCATION:NJ
CATEGORIES:IN HOUSE
ATTACH;FMTTYPE=image/png:https://czigmeisterbrewing.com/wp-content/uploads/Website-Event-Covers-2-52.png
END:VEVENT
BEGIN:VEVENT
DTSTART;TZID=America/New_York:20241108T190000
DTEND;TZID=America/New_York:20241108T210000
DTSTAMP:20260422T050008
CREATED:20241007T193208Z
LAST-MODIFIED:20241119T175115Z
UID:10000399-1731092400-1731099600@czigmeisterbrewing.com
SUMMARY:Beers & Bingo | Bingo Night!
DESCRIPTION:Join us for our once a month bingo night!
URL:https://czigmeisterbrewing.com/event/beers-bingo-bingo-night/2024-11-08/
LOCATION:NJ
CATEGORIES:IN HOUSE
ATTACH;FMTTYPE=image/png:https://czigmeisterbrewing.com/wp-content/uploads/Website-Event-Covers-2-32.png
END:VEVENT
BEGIN:VEVENT
DTSTART;TZID=America/New_York:20241109T080000
DTEND;TZID=America/New_York:20241109T170000
DTSTAMP:20260422T050008
CREATED:20241007T194703Z
LAST-MODIFIED:20241104T193037Z
UID:10000402-1731139200-1731171600@czigmeisterbrewing.com
SUMMARY:Live Music | Toll Collectors Trio
DESCRIPTION:No cover | 6:30-9:30
URL:https://czigmeisterbrewing.com/event/live-music-the-poor-horseman/2024-11-09/1/
LOCATION:NJ
CATEGORIES:IN HOUSE
ATTACH;FMTTYPE=image/png:https://czigmeisterbrewing.com/wp-content/uploads/Website-Event-Covers-2-33.png
END:VEVENT
BEGIN:VEVENT
DTSTART;TZID=America/New_York:20241109T183000
DTEND;TZID=America/New_York:20241109T213000
DTSTAMP:20260422T050008
CREATED:20241007T194703Z
LAST-MODIFIED:20241104T193037Z
UID:10000401-1731177000-1731187800@czigmeisterbrewing.com
SUMMARY:Live Music | Toll Collectors Trio
DESCRIPTION:No cover | 6:30-9:30
URL:https://czigmeisterbrewing.com/event/live-music-the-poor-horseman/2024-11-09/2/
LOCATION:NJ
CATEGORIES:IN HOUSE
ATTACH;FMTTYPE=image/png:https://czigmeisterbrewing.com/wp-content/uploads/Website-Event-Covers-2-33.png
END:VEVENT
BEGIN:VEVENT
DTSTART;TZID=America/New_York:20241114T190000
DTEND;TZID=America/New_York:20241114T213000
DTSTAMP:20260422T050008
CREATED:20241007T202743Z
LAST-MODIFIED:20241007T202743Z
UID:10000409-1731610800-1731619800@czigmeisterbrewing.com
SUMMARY:Theme Trivia | Gilmore Girls
DESCRIPTION:7pm – Free to play – win gift cards!
URL:https://czigmeisterbrewing.com/event/theme-trivia-gilmore-girls/
LOCATION:NJ
CATEGORIES:IN HOUSE
ATTACH;FMTTYPE=image/png:https://czigmeisterbrewing.com/wp-content/uploads/Website-Event-Covers-2-37.png
END:VEVENT
BEGIN:VEVENT
DTSTART;VALUE=DATE:20241115
DTEND;VALUE=DATE:20241116
DTSTAMP:20260422T050008
CREATED:20241008T184826Z
LAST-MODIFIED:20241008T184826Z
UID:10000411-1731628800-1731715199@czigmeisterbrewing.com
SUMMARY:Beer Release: Tis The Season Fruited Sour
DESCRIPTION:Tis the Season is 6.2% cranberry & tangerine sour made to compliment whatever food that brings you back home this holiday season. We hope this beer makes however you celebrate\, just feel a bit more festive.
URL:https://czigmeisterbrewing.com/event/beer-release-tis-the-season-fruited-sour/
LOCATION:NJ
CATEGORIES:BEER RELEASES
ATTACH;FMTTYPE=image/png:https://czigmeisterbrewing.com/wp-content/uploads/Website-Event-Covers-2-39.png
END:VEVENT
BEGIN:VEVENT
DTSTART;VALUE=DATE:20241115
DTEND;VALUE=DATE:20241116
DTSTAMP:20260422T050008
CREATED:20241008T190856Z
LAST-MODIFIED:20241008T190856Z
UID:10000413-1731628800-1731715199@czigmeisterbrewing.com
SUMMARY:Beer Release: Tiramisu Milk Porter
DESCRIPTION:Brewed with a Dark Roasted Peruvian Blend\, Madagascar vanilla\, Ghanian cacao nibs\, and lactose. What starts out as a silky milk porter gets conditioned on the above ingredients to bring you the traditional flavors of tiramisu bringing you delicacy in a glass.
URL:https://czigmeisterbrewing.com/event/beer-release-tiramisu-milk-porter/
LOCATION:NJ
CATEGORIES:BEER RELEASES
ATTACH;FMTTYPE=image/png:https://czigmeisterbrewing.com/wp-content/uploads/Website-Event-Covers-2-41.png
END:VEVENT
BEGIN:VEVENT
DTSTART;TZID=America/New_York:20241116T183000
DTEND;TZID=America/New_York:20241116T213000
DTSTAMP:20260422T050008
CREATED:20241007T195611Z
LAST-MODIFIED:20241007T195611Z
UID:10000404-1731781800-1731792600@czigmeisterbrewing.com
SUMMARY:Live Music | Turkey Mountain Brothers
DESCRIPTION:6:30-9:30 | No cover!
URL:https://czigmeisterbrewing.com/event/live-music-turkey-mountain-brothers/
LOCATION:NJ
CATEGORIES:IN HOUSE
ATTACH;FMTTYPE=image/png:https://czigmeisterbrewing.com/wp-content/uploads/Website-Event-Covers-2-33.png
END:VEVENT
BEGIN:VEVENT
DTSTART;VALUE=DATE:20241120
DTEND;VALUE=DATE:20241121
DTSTAMP:20260422T050008
CREATED:20241119T183139Z
LAST-MODIFIED:20241119T183224Z
UID:10000428-1732060800-1732147199@czigmeisterbrewing.com
SUMMARY:Beer Release: True Zealand New Zealand Hopped Lager
DESCRIPTION:5.6% Hopped Lager with New Zealand Hops
URL:https://czigmeisterbrewing.com/event/beer-release-true-zealand-new-zealand-hopped-lager/
LOCATION:NJ
CATEGORIES:BEER RELEASES
ATTACH;FMTTYPE=image/png:https://czigmeisterbrewing.com/wp-content/uploads/Website-Event-Covers-2-61.png
END:VEVENT
BEGIN:VEVENT
DTSTART;VALUE=DATE:20241121
DTEND;VALUE=DATE:20241122
DTSTAMP:20260422T050008
CREATED:20240809T200928Z
LAST-MODIFIED:20241030T202133Z
UID:10000301-1732147200-1732233599@czigmeisterbrewing.com
SUMMARY:Trivia Night
DESCRIPTION:Join us and trivia revolution for a night of useless facts\, hanging out with your pals\, and most importantly… craft beer! Test your knowledge\, win some prizes\, and have a good time
URL:https://czigmeisterbrewing.com/event/trivia-night-12/2024-11-21/
LOCATION:Czig Meister Brewery\, 106 Valentine Street\, Hackettstown\, NJ\, 07840\, United States
CATEGORIES:IN HOUSE
ATTACH;FMTTYPE=image/png:https://czigmeisterbrewing.com/wp-content/uploads/Trivia-Website.png
END:VEVENT
BEGIN:VEVENT
DTSTART;VALUE=DATE:20241121
DTEND;VALUE=DATE:20241122
DTSTAMP:20260422T050008
CREATED:20240926T172959Z
LAST-MODIFIED:20240926T172959Z
UID:10000386-1732208400-1732219200@czigmeisterbrewing.com
SUMMARY:Food Truck | Why Not Burgerz
DESCRIPTION:Burgers\, fries\, and their special “Chop Meister”
URL:https://czigmeisterbrewing.com/event/food-truck-why-not-burgerz/2024-11-21/
LOCATION:NJ
ATTACH;FMTTYPE=image/png:https://czigmeisterbrewing.com/wp-content/uploads/Website-Event-Covers-2-20.png
END:VEVENT
BEGIN:VEVENT
DTSTART;VALUE=DATE:20241122
DTEND;VALUE=DATE:20241123
DTSTAMP:20260422T050008
CREATED:20241119T182754Z
LAST-MODIFIED:20241119T182754Z
UID:10000427-1732233600-1732319999@czigmeisterbrewing.com
SUMMARY:Beer Release: Deep Sea Series Sunburst NEIPA
DESCRIPTION:7.1% | NEIPA brewed with Citra\, Amarillo\, and El Dorado. Expect pops of fruity candied citrus\, orange melange\, lime\, and tangerine.
URL:https://czigmeisterbrewing.com/event/beer-release-deep-sea-series-sunburst-neipa/
LOCATION:NJ
CATEGORIES:BEER RELEASES
ATTACH;FMTTYPE=image/png:https://czigmeisterbrewing.com/wp-content/uploads/Website-Event-Covers-2-60.png
END:VEVENT
BEGIN:VEVENT
DTSTART;TZID=America/New_York:20241123T170000
DTEND;TZID=America/New_York:20241123T200000
DTSTAMP:20260422T050008
CREATED:20241119T184633Z
LAST-MODIFIED:20241119T184633Z
UID:10000432-1732381200-1732392000@czigmeisterbrewing.com
SUMMARY:Food Truck | Tia B's Street Tacos
DESCRIPTION:
URL:https://czigmeisterbrewing.com/event/food-truck-tia-bs-street-tacos-3/
LOCATION:NJ
CATEGORIES:IN HOUSE
ATTACH;FMTTYPE=image/png:https://czigmeisterbrewing.com/wp-content/uploads/Website-Event-Covers-2-22.png
END:VEVENT
BEGIN:VEVENT
DTSTART;TZID=America/New_York:20241123T183000
DTEND;TZID=America/New_York:20241123T213000
DTSTAMP:20260422T050008
CREATED:20241119T184232Z
LAST-MODIFIED:20241119T184232Z
UID:10000429-1732386600-1732397400@czigmeisterbrewing.com
SUMMARY:Live Music Series: Water Street Band
DESCRIPTION:
URL:https://czigmeisterbrewing.com/event/live-music-series-water-street-band/
LOCATION:NJ
CATEGORIES:IN HOUSE
ATTACH;FMTTYPE=image/png:https://czigmeisterbrewing.com/wp-content/uploads/Website-Event-Covers-2-33.png
END:VEVENT
BEGIN:VEVENT
DTSTART;VALUE=DATE:20241124
DTEND;VALUE=DATE:20241125
DTSTAMP:20260422T050008
CREATED:20241119T185718Z
LAST-MODIFIED:20241119T192006Z
UID:10000434-1732406400-1732492799@czigmeisterbrewing.com
SUMMARY:Food Truck: Trailside Farms Breakfast Street Tacos
DESCRIPTION:
URL:https://czigmeisterbrewing.com/event/food-truck-trailside-farms-breakfast-street-tacos/
LOCATION:NJ
CATEGORIES:IN HOUSE
ATTACH;FMTTYPE=image/png:https://czigmeisterbrewing.com/wp-content/uploads/Website-Event-Covers-2-64.png
END:VEVENT
BEGIN:VEVENT
DTSTART;TZID=America/New_York:20241124T120000
DTEND;TZID=America/New_York:20241124T160000
DTSTAMP:20260422T050008
CREATED:20241003T201951Z
LAST-MODIFIED:20241003T201952Z
UID:10000392-1732449600-1732464000@czigmeisterbrewing.com
SUMMARY:Harvest Market with West End Farmers' Market
DESCRIPTION:
URL:https://czigmeisterbrewing.com/event/harvest-market-with-west-end-farmers-market/
LOCATION:NJ
ATTACH;FMTTYPE=image/png:https://czigmeisterbrewing.com/wp-content/uploads/Website-Event-Covers-2-23.png
END:VEVENT
BEGIN:VEVENT
DTSTART;TZID=America/New_York:20241127T120000
DTEND;TZID=America/New_York:20241128T000000
DTSTAMP:20260422T050008
CREATED:20241104T170827Z
LAST-MODIFIED:20241104T171106Z
UID:10000421-1732708800-1732752000@czigmeisterbrewing.com
SUMMARY:Thanksgiving Eve Party!
DESCRIPTION:Join us the day before Thanksgiving for our annual Thanksgiving Eve party!\n\nLive Music from The Tonighters 8-11pm\n\nBeer & Hard Seltzer Specials:Cranberry Sauce SourCranberry Orange Ginger Hard Seltzer
URL:https://czigmeisterbrewing.com/event/thanksgiving-eve-party/
LOCATION:NJ
CATEGORIES:IN HOUSE
ATTACH;FMTTYPE=image/png:https://czigmeisterbrewing.com/wp-content/uploads/Website-Event-Covers-2-51.png
END:VEVENT
BEGIN:VEVENT
DTSTART;VALUE=DATE:20241129
DTEND;VALUE=DATE:20241202
DTSTAMP:20260422T050008
CREATED:20241119T202313Z
LAST-MODIFIED:20241119T202313Z
UID:10000436-1732838400-1733097599@czigmeisterbrewing.com
SUMMARY:Shop Small Weekend Deals
DESCRIPTION:Get a $5 gift card with every $50 spent on to-go! \nFirst 50 customers to take advantage of this deal and spend $100\, get a free 4-pack of wooden coasters!
URL:https://czigmeisterbrewing.com/event/shop-small-weekend-deals/
LOCATION:NJ
CATEGORIES:IN HOUSE
ATTACH;FMTTYPE=image/png:https://czigmeisterbrewing.com/wp-content/uploads/Website-Event-Covers-2-67.png
END:VEVENT
BEGIN:VEVENT
DTSTART;VALUE=DATE:20241130
DTEND;VALUE=DATE:20241201
DTSTAMP:20260422T050008
CREATED:20241030T195609Z
LAST-MODIFIED:20241030T195609Z
UID:10000419-1732924800-1733011199@czigmeisterbrewing.com
SUMMARY:Hometown Hang
DESCRIPTION:Join us for our Second Annual Hometown Hang! \nWe’ll have live music from The Noble Brothers and a food drive for Trinity Food Pantry
URL:https://czigmeisterbrewing.com/event/hometown-hang/
LOCATION:Czig Meister Brewery\, 106 Valentine Street\, Hackettstown\, NJ\, 07840\, United States
CATEGORIES:IN HOUSE
ATTACH;FMTTYPE=image/png:https://czigmeisterbrewing.com/wp-content/uploads/Website-Event-Covers-2-50.png
END:VEVENT
BEGIN:VEVENT
DTSTART;VALUE=DATE:20241130
DTEND;VALUE=DATE:20241201
DTSTAMP:20260422T050008
CREATED:20241119T185422Z
LAST-MODIFIED:20241119T185422Z
UID:10000433-1732924800-1733011199@czigmeisterbrewing.com
SUMMARY:Food Truck: Pandan Room
DESCRIPTION:Pandan Room will be here with their food pop up from 5-9pm!
URL:https://czigmeisterbrewing.com/event/food-truck-pandan-room/
LOCATION:NJ
CATEGORIES:IN HOUSE
ATTACH;FMTTYPE=image/png:https://czigmeisterbrewing.com/wp-content/uploads/Website-Event-Covers-2-63.png
END:VEVENT
BEGIN:VEVENT
DTSTART;TZID=America/New_York:20241205T180000
DTEND;TZID=America/New_York:20241205T193000
DTSTAMP:20260422T050008
CREATED:20241107T145544Z
LAST-MODIFIED:20241112T175256Z
UID:10000423-1733421600-1733427000@czigmeisterbrewing.com
SUMMARY:SOLD OUT: Hops & Holly | Wreath Making Class 6pm
DESCRIPTION:Join Creek Bend Farm at Czig Meister to celebrate the most wonderful time of the year by crafting your one-of-a-kind 18” grapevine wreath: a symbol of warmth\, joy\, and a festive welcome to all. Choose from a variety of materials like farm fresh cedar & evergreens\, dried florals\, cinnamon sticks\, star anise\, dehydrated oranges\, metallic accents\, and decorative elements to create a wreath that suits your unique style. \n$55 ticket includes your first pint and an 18 inch wreath.
URL:https://czigmeisterbrewing.com/event/hops-holly-wreath-making-class/
LOCATION:NJ
CATEGORIES:IN HOUSE
ATTACH;FMTTYPE=image/png:https://czigmeisterbrewing.com/wp-content/uploads/Website-Event-Covers-2-53.png
END:VEVENT
BEGIN:VEVENT
DTSTART;TZID=America/New_York:20241205T200000
DTEND;TZID=America/New_York:20241205T213000
DTSTAMP:20260422T050008
CREATED:20241112T175232Z
LAST-MODIFIED:20241112T175232Z
UID:10000424-1733428800-1733434200@czigmeisterbrewing.com
SUMMARY:SECOND CLASS ADDED! Hops & Holly | Wreath Making Class 8pm
DESCRIPTION:We sold out the first time slot\, so we added one for 8pm! Join Creek Bend Farm at Czig Meister to celebrate the most wonderful time of the year by crafting your one-of-a-kind 18” grapevine wreath: a symbol of warmth\, joy\, and a festive welcome to all. Choose from a variety of materials like farm fresh cedar & evergreens\, dried florals\, cinnamon sticks\, star anise\, dehydrated oranges\, metallic accents\, and decorative elements to create a wreath that suits your unique style. \n$55 ticket includes your first pint and an 18 inch wreath. \nTickets available here: https://czigmeister.ecwid.com/December-5th-8pm-Hops-&-Holly-Wreath-Making-Class-p708591298 \n 
URL:https://czigmeisterbrewing.com/event/second-class-added-hops-holly-wreath-making-class-8pm/
LOCATION:NJ
CATEGORIES:IN HOUSE
ATTACH;FMTTYPE=image/png:https://czigmeisterbrewing.com/wp-content/uploads/Website-Event-Covers-2-55.png
END:VEVENT
BEGIN:VEVENT
DTSTART;TZID=America/New_York:20241206T140000
DTEND;TZID=America/New_York:20241206T200000
DTSTAMP:20260422T050008
CREATED:20241007T202332Z
LAST-MODIFIED:20241007T202332Z
UID:10000408-1733493600-1733515200@czigmeisterbrewing.com
SUMMARY:Food Truck | Cousins Maine Lobster
DESCRIPTION:2-9pm | check out their website: https://www.cousinsmainelobster.com/locations/freehold-nj/
URL:https://czigmeisterbrewing.com/event/food-truck-cousins-maine-lobster/2024-12-06/
LOCATION:NJ
CATEGORIES:IN HOUSE
ATTACH;FMTTYPE=image/png:https://czigmeisterbrewing.com/wp-content/uploads/Website-Event-Covers-2-36.png
END:VEVENT
BEGIN:VEVENT
DTSTART;TZID=America/New_York:20241206T190000
DTEND;TZID=America/New_York:20241206T210000
DTSTAMP:20260422T050008
CREATED:20241007T193208Z
LAST-MODIFIED:20241119T175115Z
UID:10000425-1733511600-1733518800@czigmeisterbrewing.com
SUMMARY:Beers & Bingo | Bingo Night!
DESCRIPTION:Join us for our once a month bingo night!
URL:https://czigmeisterbrewing.com/event/beers-bingo-bingo-night/2024-12-06/
LOCATION:NJ
CATEGORIES:IN HOUSE
ATTACH;FMTTYPE=image/png:https://czigmeisterbrewing.com/wp-content/uploads/Website-Event-Covers-2-32.png
END:VEVENT
BEGIN:VEVENT
DTSTART;TZID=America/New_York:20241207T183000
DTEND;TZID=America/New_York:20241207T213000
DTSTAMP:20260422T050008
CREATED:20241119T184406Z
LAST-MODIFIED:20241119T184406Z
UID:10000430-1733596200-1733607000@czigmeisterbrewing.com
SUMMARY:Live Music: Foster Children
DESCRIPTION:No cover | 6:30-9:30
URL:https://czigmeisterbrewing.com/event/live-music-foster-children/
LOCATION:NJ
CATEGORIES:IN HOUSE
ATTACH;FMTTYPE=image/png:https://czigmeisterbrewing.com/wp-content/uploads/Website-Event-Covers-2-62.png
END:VEVENT
END:VCALENDAR