BEGIN:VCALENDAR
VERSION:2.0
PRODID:-//Czig Meister Brewing Company - ECPv6.15.20//NONSGML v1.0//EN
CALSCALE:GREGORIAN
METHOD:PUBLISH
X-WR-CALNAME:Czig Meister Brewing Company
X-ORIGINAL-URL:https://czigmeisterbrewing.com
X-WR-CALDESC:Events for Czig Meister Brewing Company
REFRESH-INTERVAL;VALUE=DURATION:PT1H
X-Robots-Tag:noindex
X-PUBLISHED-TTL:PT1H
BEGIN:VTIMEZONE
TZID:America/New_York
BEGIN:DAYLIGHT
TZOFFSETFROM:-0500
TZOFFSETTO:-0400
TZNAME:EDT
DTSTART:20250309T070000
END:DAYLIGHT
BEGIN:STANDARD
TZOFFSETFROM:-0400
TZOFFSETTO:-0500
TZNAME:EST
DTSTART:20251102T060000
END:STANDARD
BEGIN:DAYLIGHT
TZOFFSETFROM:-0500
TZOFFSETTO:-0400
TZNAME:EDT
DTSTART:20260308T070000
END:DAYLIGHT
BEGIN:STANDARD
TZOFFSETFROM:-0400
TZOFFSETTO:-0500
TZNAME:EST
DTSTART:20261101T060000
END:STANDARD
BEGIN:DAYLIGHT
TZOFFSETFROM:-0500
TZOFFSETTO:-0400
TZNAME:EDT
DTSTART:20270314T070000
END:DAYLIGHT
BEGIN:STANDARD
TZOFFSETFROM:-0400
TZOFFSETTO:-0500
TZNAME:EST
DTSTART:20271107T060000
END:STANDARD
END:VTIMEZONE
BEGIN:VEVENT
DTSTART;VALUE=DATE:20260228
DTEND;VALUE=DATE:20260301
DTSTAMP:20260423T003736
CREATED:20260206T153749Z
LAST-MODIFIED:20260206T153749Z
UID:10001710-1772236800-1772323199@czigmeisterbrewing.com
SUMMARY:Leprechaun Crawl
DESCRIPTION:Gather your friends and family and enjoy the Hackettstown Leprechaun Crawl!\n\nOn Saturday\, February 28th\, dress like a Leprechaun or wear your favorite GREEN attire as you visit the participating businesses to kick off the celebration!\n\nEach sheet provides a coupon for one beer each at Marley’s Gotham Grill\, Man Skirt Brewing\, and Czig Meister Brewing Company. New this year\, enjoy a “Green Fairy” Absinthe Shot at Living Spirits Distillery.\nSelections vary per location.\n\nTickets can be purchased on the BID website\, at the BID office(219 Main St)\, Living Spirits Distillery\, Czig Meister Brewing\, Marley’s Gotham Grille\, Man Skirt and Doggie Styleashes.\n\nPRESALE TICKETS are $25 through February 27\, 2026.or $30 after February 28\n\nEnter to Win a “Pot of Gold” Prize Basket of Goodies from Hackettstown BID Merchants. Simply fill in your name and phone number on the back of the Leprechaun Crawl Tickets before redeeming to enter.
URL:https://czigmeisterbrewing.com/event/leprechaun-crawl/
LOCATION:NJ
CATEGORIES:Featured
END:VEVENT
BEGIN:VEVENT
DTSTART;TZID=America/New_York:20260227T190000
DTEND;TZID=America/New_York:20260227T210000
DTSTAMP:20260423T003736
CREATED:20260204T195858Z
LAST-MODIFIED:20260204T195858Z
UID:10001707-1772218800-1772226000@czigmeisterbrewing.com
SUMMARY:Music Bingo
DESCRIPTION:Join us with Revolution Entertainment for a night of Music Bingo! 🎶 It’s free to play and packed with great tunes\, awesome prizes\, and of course\, great beer. Grab your friends and get ready for a fun night out! \nFriday\, February 27th 7-9pm
URL:https://czigmeisterbrewing.com/event/music-bingo/
LOCATION:Czig Meister Brewery\, 106 Valentine Street\, Hackettstown\, NJ\, 07840\, United States
CATEGORIES:IN HOUSE
ATTACH;FMTTYPE=image/png:https://czigmeisterbrewing.com/wp-content/uploads/Website-Event-Covers-2-90.png
END:VEVENT
BEGIN:VEVENT
DTSTART;VALUE=DATE:20260227
DTEND;VALUE=DATE:20260228
DTSTAMP:20260423T003736
CREATED:20260225T134527Z
LAST-MODIFIED:20260225T134527Z
UID:10001728-1772150400-1772236799@czigmeisterbrewing.com
SUMMARY:New Beer Release: Sundial Series- Eventide
DESCRIPTION:🌒 EVENTIDE DESCENDS — DARK BERRIES\, BRIGHT TARTNESS 🌘 \nAs the sun dips low\, Eventide rises — a bold new entry in our Sundial Series of fruit-forward sours. \nConditioned on a deep blend of blueberry\, raspberry\, and blackberry\, this 7.1% Fruited Sour Ale pours rich and vibrant with layers of jammy fruit\, subtle tannins\, and clean\, balanced tartness. Kettle soured for structure and fermented smooth\, Eventide brings the dusk — and the flavor.
URL:https://czigmeisterbrewing.com/event/new-beer-release-sundial-series-eventide/
LOCATION:Czig Meister Brewery\, 106 Valentine Street\, Hackettstown\, NJ\, 07840\, United States
CATEGORIES:BEER RELEASES
ATTACH;FMTTYPE=image/png:https://czigmeisterbrewing.com/wp-content/uploads/Eventide-Website.png
END:VEVENT
BEGIN:VEVENT
DTSTART;TZID=America/New_York:20260226T190000
DTEND;TZID=America/New_York:20260226T210000
DTSTAMP:20260423T003736
CREATED:20251020T140621Z
LAST-MODIFIED:20260318T125856Z
UID:10001408-1772132400-1772139600@czigmeisterbrewing.com
SUMMARY:Trivia Revolution
DESCRIPTION:Join us and trivia revolution for a night of useless facts\, hanging out with your pals\, and most importantly… craft beer! Test your knowledge\, win some prizes\, and have a good time!
URL:https://czigmeisterbrewing.com/event/trivia-revolution-3/2026-02-26/
LOCATION:Czig Meister Brewery\, 106 Valentine Street\, Hackettstown\, NJ\, 07840\, United States
CATEGORIES:Featured,IN HOUSE
ATTACH;FMTTYPE=image/png:https://czigmeisterbrewing.com/wp-content/uploads/Trivia-Website-1-e1745940869244.png
END:VEVENT
BEGIN:VEVENT
DTSTART;TZID=America/New_York:20260222T140000
DTEND;TZID=America/New_York:20260222T170000
DTSTAMP:20260423T003736
CREATED:20260114T135616Z
LAST-MODIFIED:20260114T135633Z
UID:10001705-1771768800-1771779600@czigmeisterbrewing.com
SUMMARY:Bugs and Suds Fly Tying
DESCRIPTION:Join Dan\, February 22nd from 2–5pm for our Bugs & Suds fly-tying. Come relax with a pint and good company!
URL:https://czigmeisterbrewing.com/event/bugs-and-suds-fly-tying-2/
LOCATION:Czig Meister Brewery\, 106 Valentine Street\, Hackettstown\, NJ\, 07840\, United States
CATEGORIES:IN HOUSE
END:VEVENT
BEGIN:VEVENT
DTSTART;TZID=America/New_York:20260221T183000
DTEND;TZID=America/New_York:20260221T213000
DTSTAMP:20260423T003736
CREATED:20260114T133757Z
LAST-MODIFIED:20260114T133757Z
UID:10001704-1771698600-1771709400@czigmeisterbrewing.com
SUMMARY:Live Music: B.D Lenz
DESCRIPTION:On February 21st\, Live music from B.D Lenz at 6:30-9:30pm. \nKick back with a cold pint and enjoy some great live music!!
URL:https://czigmeisterbrewing.com/event/live-music-b-d-lenz/
LOCATION:Czig Meister Brewery\, 106 Valentine Street\, Hackettstown\, NJ\, 07840\, United States
CATEGORIES:IN HOUSE
END:VEVENT
BEGIN:VEVENT
DTSTART;TZID=America/New_York:20260220T150000
DTEND;TZID=America/New_York:20260220T230000
DTSTAMP:20260423T003736
CREATED:20260204T202053Z
LAST-MODIFIED:20260204T202054Z
UID:10001709-1771599600-1771628400@czigmeisterbrewing.com
SUMMARY:Tap Takeover: At Tipton's Tavern
DESCRIPTION:It’s a tap takeover at Tiptons Tavern from 3 PM to close! 🍻 \nWe’re pulling up with giveaways\, good vibes\, and great pours. Come see us at Tipton’s Tavern on Friday\, February 20th—don’t miss it!
URL:https://czigmeisterbrewing.com/event/tap-takeover-at-tiptons-tavern/
LOCATION:Czig Meister Brewery\, 106 Valentine Street\, Hackettstown\, NJ\, 07840\, United States
CATEGORIES:IN HOUSE
END:VEVENT
BEGIN:VEVENT
DTSTART;TZID=America/New_York:20260219T190000
DTEND;TZID=America/New_York:20260219T210000
DTSTAMP:20260423T003736
CREATED:20251020T140621Z
LAST-MODIFIED:20260318T125856Z
UID:10001407-1771527600-1771534800@czigmeisterbrewing.com
SUMMARY:Trivia Revolution
DESCRIPTION:Join us and trivia revolution for a night of useless facts\, hanging out with your pals\, and most importantly… craft beer! Test your knowledge\, win some prizes\, and have a good time!
URL:https://czigmeisterbrewing.com/event/trivia-revolution-3/2026-02-19/
LOCATION:Czig Meister Brewery\, 106 Valentine Street\, Hackettstown\, NJ\, 07840\, United States
CATEGORIES:Featured,IN HOUSE
ATTACH;FMTTYPE=image/png:https://czigmeisterbrewing.com/wp-content/uploads/Trivia-Website-1-e1745940869244.png
END:VEVENT
BEGIN:VEVENT
DTSTART;VALUE=DATE:20260219
DTEND;VALUE=DATE:20260220
DTSTAMP:20260423T003736
CREATED:20260217T191137Z
LAST-MODIFIED:20260219T153900Z
UID:10001721-1771459200-1771545599@czigmeisterbrewing.com
SUMMARY:New Beer Release: 78 Fire
DESCRIPTION:Brewed in honor of the Hackettstown Volunteer Fire Department\, 78 Fire is our annual Irish-style Red Ale—a bold\, malty tribute to those who run toward the flames. \n  \nAt 6.3% ABV and 27 IBUs\, it’s brewed with Simpsons Golden Promise\, roasted barley\, and crystal malts for notes of toffee\, toasted bread\, and just a hint of roast. East Kent Goldings hops add earthy balance\, while English ale yeast provides a subtle fruitiness and a clean finish. \nReleased each year leading up to St. Patrick’s Day\, with proceeds supporting the Hackettstown Fire Department. \nNow available on draft and in 4-packs—raise a glass for the heroes in red.
URL:https://czigmeisterbrewing.com/event/new-beer-release-78-fire/
LOCATION:Czig Meister Brewery\, 106 Valentine Street\, Hackettstown\, NJ\, 07840\, United States
CATEGORIES:BEER RELEASES
ATTACH;FMTTYPE=image/png:https://czigmeisterbrewing.com/wp-content/uploads/78-Fire-Website.png
END:VEVENT
BEGIN:VEVENT
DTSTART;TZID=America/New_York:20260218T183000
DTEND;TZID=America/New_York:20260218T203000
DTSTAMP:20260423T003736
CREATED:20260106T154752Z
LAST-MODIFIED:20260106T154752Z
UID:10001697-1771439400-1771446600@czigmeisterbrewing.com
SUMMARY:Moss Society Class
DESCRIPTION:Moss Society is BACK-with a little extra love at Czig Meister Brewing for a Love-filled Moss & Mingle. \nWednesday\, February 7:00 PM Czig Meister Brewing — 106 Valentine St\, Hackettstown\, NJ \nThe real heartbreak? Waiting too long to buy your ticket. Snag yours before this date night disappears. 💕🍻🌸
URL:https://czigmeisterbrewing.com/event/moss-society-class-3/
LOCATION:Czig Meister Brewery\, 106 Valentine Street\, Hackettstown\, NJ\, 07840\, United States
CATEGORIES:IN HOUSE
ATTACH;FMTTYPE=image/png:https://czigmeisterbrewing.com/wp-content/uploads/Website-Event-Covers-2-93.png
END:VEVENT
BEGIN:VEVENT
DTSTART;TZID=America/New_York:20260218T120000
DTEND;TZID=America/New_York:20260218T200000
DTSTAMP:20260423T003736
CREATED:20260217T191011Z
LAST-MODIFIED:20260217T191011Z
UID:10001720-1771416000-1771444800@czigmeisterbrewing.com
SUMMARY:New Beer Release: Deep Sea Series- Stargazer
DESCRIPTION:Stargazer has returned to our Deep Sea Series lineup\, and it’s shining brighter than ever. \nThis New England IPA is loaded with Galaxy and Mosaic hops\, bursting with waves of passionfruit\, ripe peach\, and vibrant tropical citrus. \nBuilt on a soft\, hazy base of Golden Promise\, white wheat\, malted oats\, and flaked oats\, this 6.8% ABV. \nJuicy. Radiant. Cosmic.\nBack on draft and in 4-packs — catch it before it slips beyond the horizon. 🌌
URL:https://czigmeisterbrewing.com/event/new-beer-release-deep-sea-series-stargazer/
LOCATION:Czig Meister Brewery\, 106 Valentine Street\, Hackettstown\, NJ\, 07840\, United States
CATEGORIES:BEER RELEASES
END:VEVENT
BEGIN:VEVENT
DTSTART;TZID=America/New_York:20260215T130000
DTEND;TZID=America/New_York:20260215T160000
DTSTAMP:20260423T003736
CREATED:20260114T133524Z
LAST-MODIFIED:20260114T133524Z
UID:10001703-1771160400-1771171200@czigmeisterbrewing.com
SUMMARY:Live Music: Jimmy Pink
DESCRIPTION:On February 15th\, Live music from Jimmy Pink at 1-4pm. \nKick back with a cold pint and enjoy some great live music!!
URL:https://czigmeisterbrewing.com/event/live-music-jimmy-pink/
LOCATION:Czig Meister Brewery\, 106 Valentine Street\, Hackettstown\, NJ\, 07840\, United States
CATEGORIES:IN HOUSE
END:VEVENT
BEGIN:VEVENT
DTSTART;TZID=America/New_York:20260214T120000
DTEND;TZID=America/New_York:20260214T220000
DTSTAMP:20260423T003736
CREATED:20251230T203120Z
LAST-MODIFIED:20260210T153719Z
UID:10001695-1771070400-1771106400@czigmeisterbrewing.com
SUMMARY:Stout Fest
DESCRIPTION:Our 9th Annual Stout Fest is officially set for February 14\, 2026 from 12-10pm⁠⁠Join us for a full day of 40+ rich stouts. We will have food trucks\, and cozy fire pits to keep the good vibes (and warm hands) going all day long ⁠ As well as The Cigar Lounge is returning!⁠⁠Grab your crew\, raise a glass\, and get ready for another great Stout Fest. \nThis event has a limited beer menu: \n\nHuntsman -Kolsch\nBlacksmith – Oatmeal Stout\nShipwright – West Coast IPA\nHacketts Tea – Lemon Hard Tea\nAmber Lager\nMiner – Black Lager\nTiramisu – Milk Porter\nGuv’nor – British Mild\nDeep Sea Elani – NEIPA
URL:https://czigmeisterbrewing.com/event/stout-fest/
LOCATION:Czig Meister Brewery\, 106 Valentine Street\, Hackettstown\, NJ\, 07840\, United States
CATEGORIES:Featured,IN HOUSE
ATTACH;FMTTYPE=image/png:https://czigmeisterbrewing.com/wp-content/uploads/Website-Event-Covers-2-97.png
END:VEVENT
BEGIN:VEVENT
DTSTART;TZID=America/New_York:20260213T190000
DTEND;TZID=America/New_York:20260213T210000
DTSTAMP:20260423T003736
CREATED:20260114T133137Z
LAST-MODIFIED:20260114T133137Z
UID:10001702-1771009200-1771016400@czigmeisterbrewing.com
SUMMARY:Bingo Night
DESCRIPTION:Join us for our once a month bingo night!
URL:https://czigmeisterbrewing.com/event/bingo-night-7/
LOCATION:Czig Meister Brewery\, 106 Valentine Street\, Hackettstown\, NJ\, 07840\, United States
CATEGORIES:Featured,IN HOUSE
ATTACH;FMTTYPE=image/png:https://czigmeisterbrewing.com/wp-content/uploads/Bingo-1200-x-675-px-8.png
END:VEVENT
BEGIN:VEVENT
DTSTART;TZID=America/New_York:20260212T190000
DTEND;TZID=America/New_York:20260212T210000
DTSTAMP:20260423T003736
CREATED:20251020T140621Z
LAST-MODIFIED:20260318T125856Z
UID:10001406-1770922800-1770930000@czigmeisterbrewing.com
SUMMARY:Trivia Revolution
DESCRIPTION:Join us and trivia revolution for a night of useless facts\, hanging out with your pals\, and most importantly… craft beer! Test your knowledge\, win some prizes\, and have a good time!
URL:https://czigmeisterbrewing.com/event/trivia-revolution-3/2026-02-12/
LOCATION:Czig Meister Brewery\, 106 Valentine Street\, Hackettstown\, NJ\, 07840\, United States
CATEGORIES:Featured,IN HOUSE
ATTACH;FMTTYPE=image/png:https://czigmeisterbrewing.com/wp-content/uploads/Trivia-Website-1-e1745940869244.png
END:VEVENT
BEGIN:VEVENT
DTSTART;TZID=America/New_York:20260211T180000
DTEND;TZID=America/New_York:20260211T193000
DTSTAMP:20260423T003736
CREATED:20260106T153539Z
LAST-MODIFIED:20260106T153539Z
UID:10001696-1770832800-1770838200@czigmeisterbrewing.com
SUMMARY:Beer & Chocolate Pairing
DESCRIPTION:Join us alongside Enchanted Chocolates for a special Beer & Chocolate Pairing on February 11th at 6:00 PM! Enjoy a thoughtfully curated flight of four beers\, each expertly paired with four unique\, handcrafted chocolates from Enchanted Chocolates. Discover how rich flavors\, sweet notes\, and bold brews come together for a truly indulgent experience. \nSpots are very limited — only 20 seats available\, so don’t wait to reserve yours! \n📅 February 11th\n⏰ 6:00 PM\n🍺🍫 Beer & Chocolate Pairing (21+) \nTickets- $35
URL:https://czigmeisterbrewing.com/event/beer-chocolate-pairing/
LOCATION:Czig Meister Brewery\, 106 Valentine Street\, Hackettstown\, NJ\, 07840\, United States
CATEGORIES:IN HOUSE
ATTACH;FMTTYPE=image/png:https://czigmeisterbrewing.com/wp-content/uploads/Website-Event-Covers-2-98.png
END:VEVENT
BEGIN:VEVENT
DTSTART;TZID=America/New_York:20260208T130000
DTEND;TZID=America/New_York:20260208T160000
DTSTAMP:20260423T003736
CREATED:20260114T132413Z
LAST-MODIFIED:20260114T132413Z
UID:10001701-1770555600-1770566400@czigmeisterbrewing.com
SUMMARY:Live Music: Madison Gerish
DESCRIPTION:On February 8th\, Live music from Madison Gerish at 1-4pm. \nKick back with a cold pint and enjoy some great live music!!
URL:https://czigmeisterbrewing.com/event/live-music-madison-gerish-3/
LOCATION:Czig Meister Brewery\, 106 Valentine Street\, Hackettstown\, NJ\, 07840\, United States
CATEGORIES:IN HOUSE
END:VEVENT
BEGIN:VEVENT
DTSTART;TZID=America/New_York:20260207T183000
DTEND;TZID=America/New_York:20260207T213000
DTSTAMP:20260423T003736
CREATED:20260113T210043Z
LAST-MODIFIED:20260113T210043Z
UID:10001700-1770489000-1770499800@czigmeisterbrewing.com
SUMMARY:Live Music: Mosey Beat
DESCRIPTION:On February 7th\, Live music from Mosey Beat at 6:30-9:30pm. \nKick back with a cold pint and enjoy some great live music!!
URL:https://czigmeisterbrewing.com/event/live-music-mosey-beat-2/
LOCATION:Czig Meister Brewery\, 106 Valentine Street\, Hackettstown\, NJ\, 07840\, United States
CATEGORIES:IN HOUSE
END:VEVENT
BEGIN:VEVENT
DTSTART;TZID=America/New_York:20260206T190000
DTEND;TZID=America/New_York:20260206T210000
DTSTAMP:20260423T003736
CREATED:20260119T144207Z
LAST-MODIFIED:20260119T144207Z
UID:10001706-1770404400-1770411600@czigmeisterbrewing.com
SUMMARY:Blooms & Brews
DESCRIPTION:Join Calico Country Flowers at Czig Meister Brewing for a fun and relaxing evening! Sip on a delicious pint while learning how to create your own beautiful floral arrangement with guidance from their professional florists. All flowers\, supplies\, and step-by-step instruction are included—no experience necessary. This is the perfect night out and just in time for Valentine’s Day.\nDate: Friday\, February 6th at 7pmCost: $45 per person (includes 1 pint)Reservations: Please call 908-852-0556 to reserve your spot.
URL:https://czigmeisterbrewing.com/event/blooms-brews/
LOCATION:Czig Meister Brewery\, 106 Valentine Street\, Hackettstown\, NJ\, 07840\, United States
CATEGORIES:Featured,IN HOUSE
ATTACH;FMTTYPE=image/png:https://czigmeisterbrewing.com/wp-content/uploads/Website-Event-Covers-2-101.png
END:VEVENT
BEGIN:VEVENT
DTSTART;TZID=America/New_York:20260205T190000
DTEND;TZID=America/New_York:20260205T210000
DTSTAMP:20260423T003736
CREATED:20251020T140621Z
LAST-MODIFIED:20260318T125856Z
UID:10001405-1770318000-1770325200@czigmeisterbrewing.com
SUMMARY:Trivia Revolution
DESCRIPTION:Join us and trivia revolution for a night of useless facts\, hanging out with your pals\, and most importantly… craft beer! Test your knowledge\, win some prizes\, and have a good time!
URL:https://czigmeisterbrewing.com/event/trivia-revolution-3/2026-02-05/
LOCATION:Czig Meister Brewery\, 106 Valentine Street\, Hackettstown\, NJ\, 07840\, United States
CATEGORIES:Featured,IN HOUSE
ATTACH;FMTTYPE=image/png:https://czigmeisterbrewing.com/wp-content/uploads/Trivia-Website-1-e1745940869244.png
END:VEVENT
BEGIN:VEVENT
DTSTART;TZID=America/New_York:20260204T180000
DTEND;TZID=America/New_York:20260204T190000
DTSTAMP:20260423T003736
CREATED:20260113T205805Z
LAST-MODIFIED:20260113T205819Z
UID:10001699-1770228000-1770231600@czigmeisterbrewing.com
SUMMARY:Bonsai Bar
DESCRIPTION:Join us for an evening of creativity and craft beer at the Czig Meister Brewing Company\, hosted by Bonsai Bar. This unique event combines the art of bonsai with the joy of craft beer\, offering a fun and engaging experience for all. \nFor just $85\, you’ll receive expert guidance from the Bonsai Bar team on how to create your very own bonsai tree. \nYour ticket includes all the materials you’ll need to create your bonsai\, as well as your very own Dwarf Jade to take home and nurture. Plus\, you’ll get to enjoy some of Czig Meister’s finest brews while you work on your creation. \nDon’t miss this opportunity to learn a new skill\, meet fellow bonsai enthusiasts\, and enjoy some great beer. We can’t wait to see you there! \nGet your tickets here! https://bonsaibar.com/products/czig-meister-brewing?variant=51698275942768
URL:https://czigmeisterbrewing.com/event/bonsai-bar-8/
LOCATION:Czig Meister Brewery\, 106 Valentine Street\, Hackettstown\, NJ\, 07840\, United States
CATEGORIES:IN HOUSE
ATTACH;FMTTYPE=image/jpeg:https://czigmeisterbrewing.com/wp-content/uploads/Bonsai-Bar-Website.jpg
END:VEVENT
BEGIN:VEVENT
DTSTART;TZID=America/New_York:20260131T183000
DTEND;TZID=America/New_York:20260131T213000
DTSTAMP:20260423T003736
CREATED:20260113T205557Z
LAST-MODIFIED:20260113T205557Z
UID:10001698-1769884200-1769895000@czigmeisterbrewing.com
SUMMARY:Live Music: Mike Frank and Friends
DESCRIPTION:On January 31st\, Live music from Mike Frank and Friends at 6:30-9:30pm. \nKick back with a cold pint and enjoy some great live music!!
URL:https://czigmeisterbrewing.com/event/live-music-mike-frank-and-friends/
LOCATION:Czig Meister Brewery\, 106 Valentine Street\, Hackettstown\, NJ\, 07840\, United States
CATEGORIES:IN HOUSE
END:VEVENT
BEGIN:VEVENT
DTSTART;TZID=America/New_York:20260129T190000
DTEND;TZID=America/New_York:20260129T210000
DTSTAMP:20260423T003736
CREATED:20251020T140621Z
LAST-MODIFIED:20260318T125856Z
UID:10001404-1769713200-1769720400@czigmeisterbrewing.com
SUMMARY:Trivia Revolution
DESCRIPTION:Join us and trivia revolution for a night of useless facts\, hanging out with your pals\, and most importantly… craft beer! Test your knowledge\, win some prizes\, and have a good time!
URL:https://czigmeisterbrewing.com/event/trivia-revolution-3/2026-01-29/
LOCATION:Czig Meister Brewery\, 106 Valentine Street\, Hackettstown\, NJ\, 07840\, United States
CATEGORIES:Featured,IN HOUSE
ATTACH;FMTTYPE=image/png:https://czigmeisterbrewing.com/wp-content/uploads/Trivia-Website-1-e1745940869244.png
END:VEVENT
BEGIN:VEVENT
DTSTART;TZID=America/New_York:20260124T183000
DTEND;TZID=America/New_York:20260124T213000
DTSTAMP:20260423T003736
CREATED:20251219T164809Z
LAST-MODIFIED:20251219T164809Z
UID:10001694-1769279400-1769290200@czigmeisterbrewing.com
SUMMARY:Live Music: Cold Hill Band
DESCRIPTION:On January 24th\, Live music from The Cold Hill Band at 6:30-9:30pm. \nKick back with a cold pint and enjoy some great live music!!
URL:https://czigmeisterbrewing.com/event/live-music-cold-hill-band-2/
LOCATION:Czig Meister Brewery\, 106 Valentine Street\, Hackettstown\, NJ\, 07840\, United States
CATEGORIES:IN HOUSE
END:VEVENT
BEGIN:VEVENT
DTSTART;TZID=America/New_York:20260123T190000
DTEND;TZID=America/New_York:20260123T210000
DTSTAMP:20260423T003736
CREATED:20251219T164549Z
LAST-MODIFIED:20251219T164632Z
UID:10001693-1769194800-1769202000@czigmeisterbrewing.com
SUMMARY:Music Bingo: Revolution Entertainment
DESCRIPTION:Join us with Revolution Entertainment for a night of Music Bingo! 🎶 It’s free to play and packed with great tunes\, awesome prizes\, and of course\, great beer. Grab your friends and get ready for a fun night out! \nFriday\, January 23rd 7-9pm
URL:https://czigmeisterbrewing.com/event/music-bingo-revolution-entertainment/
LOCATION:Czig Meister Brewery\, 106 Valentine Street\, Hackettstown\, NJ\, 07840\, United States
CATEGORIES:IN HOUSE
ATTACH;FMTTYPE=image/png:https://czigmeisterbrewing.com/wp-content/uploads/Website-Event-Covers-2-90.png
END:VEVENT
BEGIN:VEVENT
DTSTART;TZID=America/New_York:20260122T190000
DTEND;TZID=America/New_York:20260122T210000
DTSTAMP:20260423T003736
CREATED:20251020T140621Z
LAST-MODIFIED:20260318T125856Z
UID:10001403-1769108400-1769115600@czigmeisterbrewing.com
SUMMARY:Trivia Revolution
DESCRIPTION:Join us and trivia revolution for a night of useless facts\, hanging out with your pals\, and most importantly… craft beer! Test your knowledge\, win some prizes\, and have a good time!
URL:https://czigmeisterbrewing.com/event/trivia-revolution-3/2026-01-22/
LOCATION:Czig Meister Brewery\, 106 Valentine Street\, Hackettstown\, NJ\, 07840\, United States
CATEGORIES:Featured,IN HOUSE
ATTACH;FMTTYPE=image/png:https://czigmeisterbrewing.com/wp-content/uploads/Trivia-Website-1-e1745940869244.png
END:VEVENT
BEGIN:VEVENT
DTSTART;TZID=America/New_York:20260118T140000
DTEND;TZID=America/New_York:20260118T170000
DTSTAMP:20260423T003736
CREATED:20251205T152738Z
LAST-MODIFIED:20251205T152738Z
UID:10001690-1768744800-1768755600@czigmeisterbrewing.com
SUMMARY:Live Acoustic Music: Declan O'Hara
DESCRIPTION:On January 18th\, Live Acoustic music from Declan O’Hara at 2-5pm. \nKick back with a cold pint and enjoy some great live music!!
URL:https://czigmeisterbrewing.com/event/live-acoustic-music-declan-ohara/
LOCATION:Czig Meister Brewery\, 106 Valentine Street\, Hackettstown\, NJ\, 07840\, United States
CATEGORIES:IN HOUSE
END:VEVENT
BEGIN:VEVENT
DTSTART;TZID=America/New_York:20260117T183000
DTEND;TZID=America/New_York:20260117T213000
DTSTAMP:20260423T003736
CREATED:20251219T164045Z
LAST-MODIFIED:20251219T164045Z
UID:10001692-1768674600-1768685400@czigmeisterbrewing.com
SUMMARY:Live Music: Jesse Bardwell & The Noble Brothers
DESCRIPTION:On January 17th\, Live music from Jesse Bardwell and The Noble Brothers at 6:30-9:30pm. \nKick back with a cold pint and enjoy some great live music!!
URL:https://czigmeisterbrewing.com/event/live-music-jesse-bardwell-the-noble-brothers/
LOCATION:Czig Meister Brewery\, 106 Valentine Street\, Hackettstown\, NJ\, 07840\, United States
CATEGORIES:IN HOUSE
END:VEVENT
BEGIN:VEVENT
DTSTART;TZID=America/New_York:20260116T210000
DTEND;TZID=America/New_York:20260116T210000
DTSTAMP:20260423T003736
CREATED:20251202T143503Z
LAST-MODIFIED:20251202T143541Z
UID:10001679-1768597200-1768597200@czigmeisterbrewing.com
SUMMARY:The Lounge at Czig Meister
DESCRIPTION:Psst\, pals… we’re cooking up a real knockout on Fri\, Jan 16th. We’re marking the day they banned the giggle water — by celebrating anyway. Step into The Lounge at Czig Meister for a night of jazz\, champagne (Inspired Czelter)\, and secret passwords. Don’t forget your flapper dresses and vintage fits- it’s 1920s night. \nOnly 110 tickets exist \n**THIS IS NOT A DOG FRIENDLY EVENT** \nTicket space is limited for this one only night event you do not want to miss. \n$20 ticket gets you: \nPassword to get in (emailed the week of the event) \nLive 1920s Jazz Band \nVintage Vibe Tribe \nComplimentary “welcome” champagne (Inspired Czelter) upon arrival \nDate and Time: January 16th\, 2026 9pm \nLocation: 106 Valentine Street\, Hackettstown NJ \n  \nTicket Link: https://czigmeister.ecwid.com/Shhh-The-Lounge-at-Czig-Meister-21-9-00-Midnight-p712900833
URL:https://czigmeisterbrewing.com/event/the-lounge-at-czig-meister/
LOCATION:Czig Meister Brewery\, 106 Valentine Street\, Hackettstown\, NJ\, 07840\, United States
CATEGORIES:Featured,IN HOUSE
ATTACH;FMTTYPE=image/png:https://czigmeisterbrewing.com/wp-content/uploads/Website-Event-Covers-2-88.png
END:VEVENT
BEGIN:VEVENT
DTSTART;TZID=America/New_York:20260115T190000
DTEND;TZID=America/New_York:20260115T210000
DTSTAMP:20260423T003736
CREATED:20251020T140621Z
LAST-MODIFIED:20260318T125856Z
UID:10001402-1768503600-1768510800@czigmeisterbrewing.com
SUMMARY:Trivia Revolution
DESCRIPTION:Join us and trivia revolution for a night of useless facts\, hanging out with your pals\, and most importantly… craft beer! Test your knowledge\, win some prizes\, and have a good time!
URL:https://czigmeisterbrewing.com/event/trivia-revolution-3/2026-01-15/
LOCATION:Czig Meister Brewery\, 106 Valentine Street\, Hackettstown\, NJ\, 07840\, United States
CATEGORIES:Featured,IN HOUSE
ATTACH;FMTTYPE=image/png:https://czigmeisterbrewing.com/wp-content/uploads/Trivia-Website-1-e1745940869244.png
END:VEVENT
END:VCALENDAR