BEGIN:VCALENDAR
VERSION:2.0
PRODID:-//Czig Meister Brewing Company - ECPv6.15.20//NONSGML v1.0//EN
CALSCALE:GREGORIAN
METHOD:PUBLISH
X-ORIGINAL-URL:https://czigmeisterbrewing.com
X-WR-CALDESC:Events for Czig Meister Brewing Company
REFRESH-INTERVAL;VALUE=DURATION:PT1H
X-Robots-Tag:noindex
X-PUBLISHED-TTL:PT1H
BEGIN:VTIMEZONE
TZID:America/New_York
BEGIN:DAYLIGHT
TZOFFSETFROM:-0500
TZOFFSETTO:-0400
TZNAME:EDT
DTSTART:20250309T070000
END:DAYLIGHT
BEGIN:STANDARD
TZOFFSETFROM:-0400
TZOFFSETTO:-0500
TZNAME:EST
DTSTART:20251102T060000
END:STANDARD
BEGIN:DAYLIGHT
TZOFFSETFROM:-0500
TZOFFSETTO:-0400
TZNAME:EDT
DTSTART:20260308T070000
END:DAYLIGHT
BEGIN:STANDARD
TZOFFSETFROM:-0400
TZOFFSETTO:-0500
TZNAME:EST
DTSTART:20261101T060000
END:STANDARD
BEGIN:DAYLIGHT
TZOFFSETFROM:-0500
TZOFFSETTO:-0400
TZNAME:EDT
DTSTART:20270314T070000
END:DAYLIGHT
BEGIN:STANDARD
TZOFFSETFROM:-0400
TZOFFSETTO:-0500
TZNAME:EST
DTSTART:20271107T060000
END:STANDARD
END:VTIMEZONE
BEGIN:VEVENT
DTSTART;TZID=America/New_York:20260510T110000
DTEND;TZID=America/New_York:20260510T180000
DTSTAMP:20260422T132938
CREATED:20260408T121955Z
LAST-MODIFIED:20260408T151414Z
UID:10001762-1778410800-1778436000@czigmeisterbrewing.com
SUMMARY:Mother's Day!!
DESCRIPTION:Happy Mother’s Day to all the amazing moms out there!! 🌸💖 \nToday is all about celebrating YOU — and what better way to do that than with a pint of beer and some beautiful weather? 🍻☀️ \nBring your mom by the brewery and treat her to a relaxing\, fun-filled day. We’re open from 11am–6pm — can’t wait to celebrate with you!
URL:https://czigmeisterbrewing.com/event/mothers-day-2/
LOCATION:Czig Meister Brewery\, 106 Valentine Street\, Hackettstown\, NJ\, 07840\, United States
CATEGORIES:IN HOUSE
END:VEVENT
BEGIN:VEVENT
DTSTART;TZID=America/New_York:20260514T190000
DTEND;TZID=America/New_York:20260514T210000
DTSTAMP:20260422T132938
CREATED:20251020T140621Z
LAST-MODIFIED:20260318T125856Z
UID:10001419-1778785200-1778792400@czigmeisterbrewing.com
SUMMARY:Trivia Revolution
DESCRIPTION:Join us and trivia revolution for a night of useless facts\, hanging out with your pals\, and most importantly… craft beer! Test your knowledge\, win some prizes\, and have a good time!
URL:https://czigmeisterbrewing.com/event/trivia-revolution-3/2026-05-14/
LOCATION:Czig Meister Brewery\, 106 Valentine Street\, Hackettstown\, NJ\, 07840\, United States
CATEGORIES:Featured,IN HOUSE
ATTACH;FMTTYPE=image/png:https://czigmeisterbrewing.com/wp-content/uploads/Trivia-Website-1-e1745940869244.png
END:VEVENT
BEGIN:VEVENT
DTSTART;TZID=America/New_York:20260516T120000
DTEND;TZID=America/New_York:20260516T220000
DTSTAMP:20260422T132938
CREATED:20260408T122245Z
LAST-MODIFIED:20260408T122245Z
UID:10001763-1778932800-1778968800@czigmeisterbrewing.com
SUMMARY:Maifest
DESCRIPTION:Join us on May 16th for an unforgettable day as part of Hackettstown Maifest! ⁠⁠You won’t want to miss this full lineup of fun\, food\, and festivities — plus food trucks and the return of our fan-favorite beer spike! ⁠⁠ Here’s what we’ve got planned:⁠• Barrel Tapping – 12:30 PM⁠• Jimmy Pink & The Ego – 12:45–3:45 PM⁠• Steinhold Competition (Women’s & Men’s) – 4:00PM⁠• Maipole Dancers – 4:30 PM⁠• Uncle Stump – 6:30–9:30 PM⁠⁠Bring your friends\, bring your energy\, and celebrate Maifest with us all day long!
URL:https://czigmeisterbrewing.com/event/maifest/
LOCATION:Czig Meister Brewery\, 106 Valentine Street\, Hackettstown\, NJ\, 07840\, United States
CATEGORIES:IN HOUSE
ATTACH;FMTTYPE=image/png:https://czigmeisterbrewing.com/wp-content/uploads/Maifest.png
END:VEVENT
BEGIN:VEVENT
DTSTART;TZID=America/New_York:20260516T160000
DTEND;TZID=America/New_York:20260516T210000
DTSTAMP:20260422T132938
CREATED:20260408T124545Z
LAST-MODIFIED:20260408T124545Z
UID:10001765-1778947200-1778965200@czigmeisterbrewing.com
SUMMARY:Meadowlands Beer Festival
DESCRIPTION:Join us on May 16th at Meadowlands Racetrack for their Beer Festival! 🍻 \nWe’ll be pouring from 4–9pm\, bringing all the good vibes and great brews with us. It’s the perfect way to spend the day—cold beer\, live energy\, and a whole lot of fun.
URL:https://czigmeisterbrewing.com/event/meadowlands-beer-festival/
LOCATION:NJ
CATEGORIES:OUTDOOR BEER FESTIVALS
END:VEVENT
BEGIN:VEVENT
DTSTART;VALUE=DATE:20260518
DTEND;VALUE=DATE:20260525
DTSTAMP:20260422T132938
CREATED:20260408T125246Z
LAST-MODIFIED:20260408T125246Z
UID:10001766-1779062400-1779667199@czigmeisterbrewing.com
SUMMARY:Memorial Can sale
DESCRIPTION:Kick off summer the right way 🍻 \nFrom May 18th through May 24th\, we’re rolling out our biggest can sale of the season! Just in time for Memorial Day Weekend\, enjoy special deals on select 4-packs and cases all week long. \nWhether you’ve got BBQs\, beach days\, or backyard lounging on the agenda\, now’s the time to stock up on your favorite brews and celebrate in style ☀️
URL:https://czigmeisterbrewing.com/event/memorial-can-sale/
LOCATION:Czig Meister Brewery\, 106 Valentine Street\, Hackettstown\, NJ\, 07840\, United States
CATEGORIES:IN HOUSE
ATTACH;FMTTYPE=image/png:https://czigmeisterbrewing.com/wp-content/uploads/Website-Event-Covers-2-107.png
END:VEVENT
BEGIN:VEVENT
DTSTART;TZID=America/New_York:20260521T190000
DTEND;TZID=America/New_York:20260521T210000
DTSTAMP:20260422T132938
CREATED:20251020T140621Z
LAST-MODIFIED:20260318T125856Z
UID:10001420-1779390000-1779397200@czigmeisterbrewing.com
SUMMARY:Trivia Revolution
DESCRIPTION:Join us and trivia revolution for a night of useless facts\, hanging out with your pals\, and most importantly… craft beer! Test your knowledge\, win some prizes\, and have a good time!
URL:https://czigmeisterbrewing.com/event/trivia-revolution-3/2026-05-21/
LOCATION:Czig Meister Brewery\, 106 Valentine Street\, Hackettstown\, NJ\, 07840\, United States
CATEGORIES:Featured,IN HOUSE
ATTACH;FMTTYPE=image/png:https://czigmeisterbrewing.com/wp-content/uploads/Trivia-Website-1-e1745940869244.png
END:VEVENT
BEGIN:VEVENT
DTSTART;TZID=America/New_York:20260522T183000
DTEND;TZID=America/New_York:20260522T200000
DTSTAMP:20260422T132938
CREATED:20260408T125827Z
LAST-MODIFIED:20260408T125827Z
UID:10001767-1779474600-1779480000@czigmeisterbrewing.com
SUMMARY:Peony & Early Spring Florals Workshop Class
DESCRIPTION:Join Creek Bend at Czig Meister Brewing as we toast to warmer weather and the first fragrant Jersey blooms 🌸🍻 \nCreate your own stunning floral arrangement by choosing your vessel and designing with locally grown peonies and early spring blooms from Creek Bend. You may also see specialty favorites like ranunculus\, anemone\, baptisia\, salvia\, and lupine—depending on what Mother Nature has in store. \nYour ticket includes your first beverage\, so sip while you design and enjoy a relaxing\, creative experience. Cheers to spring! 🌿✨
URL:https://czigmeisterbrewing.com/event/peony-early-spring-florals-workshop-class/
LOCATION:Czig Meister Brewery\, 106 Valentine Street\, Hackettstown\, NJ\, 07840\, United States
CATEGORIES:IN HOUSE
ATTACH;FMTTYPE=image/png:https://czigmeisterbrewing.com/wp-content/uploads/Website-Event-Covers-2-105.png
END:VEVENT
BEGIN:VEVENT
DTSTART;TZID=America/New_York:20260523T120000
DTEND;TZID=America/New_York:20260523T220000
DTSTAMP:20260422T132938
CREATED:20260408T130353Z
LAST-MODIFIED:20260408T130353Z
UID:10001768-1779537600-1779573600@czigmeisterbrewing.com
SUMMARY:Backyard BBQ
DESCRIPTION:Our Backyard BBQs are BACK!! 🔥🍻 \nJoin us Saturday\, May 23rd for a full day of great beer\, live music\, and incredible food. \nWe’ve got a double set lined up with the Mike Smith Group kicking things off from 2–5pm\, followed by Jesse Bardwell & Friends closing out the night from 6:30–9:30pm 🎶 \nPlus\, Sizzle will be on-site serving up mouthwatering Argentine BBQ 2-8pm \nCome hang\, grab a pint\, enjoy some amazing eats\, and soak in the music from day to night — it’s the perfect way to spend your Saturday!
URL:https://czigmeisterbrewing.com/event/backyard-bbq-4/
LOCATION:Czig Meister Brewery\, 106 Valentine Street\, Hackettstown\, NJ\, 07840\, United States
CATEGORIES:IN HOUSE
ATTACH;FMTTYPE=image/png:https://czigmeisterbrewing.com/wp-content/uploads/Black-Wall-Texture-Barbecue-Feast-Invitation-4-x-6-in-1920-x-1080-px-3.png
END:VEVENT
BEGIN:VEVENT
DTSTART;TZID=America/New_York:20260525T120000
DTEND;TZID=America/New_York:20260525T180000
DTSTAMP:20260422T132938
CREATED:20260408T131031Z
LAST-MODIFIED:20260408T131031Z
UID:10001769-1779710400-1779732000@czigmeisterbrewing.com
SUMMARY:Memorial Day: We Are Open
DESCRIPTION:Today we raise a glass to honor and remember those who have served and made the ultimate sacrifice for our country 🇺🇸 \nThis Memorial Day\, we thank you for your service and hold space to reflect and remember. \nWe’ll be open from 12–6pm — stop by for a pint and join us in a toast to those who gave so much.
URL:https://czigmeisterbrewing.com/event/memorial-day-we-are-open/
LOCATION:Czig Meister Brewery\, 106 Valentine Street\, Hackettstown\, NJ\, 07840\, United States
CATEGORIES:IN HOUSE
END:VEVENT
BEGIN:VEVENT
DTSTART;TZID=America/New_York:20260528T190000
DTEND;TZID=America/New_York:20260528T210000
DTSTAMP:20260422T132938
CREATED:20251020T140621Z
LAST-MODIFIED:20260318T125856Z
UID:10001421-1779994800-1780002000@czigmeisterbrewing.com
SUMMARY:Trivia Revolution
DESCRIPTION:Join us and trivia revolution for a night of useless facts\, hanging out with your pals\, and most importantly… craft beer! Test your knowledge\, win some prizes\, and have a good time!
URL:https://czigmeisterbrewing.com/event/trivia-revolution-3/2026-05-28/
LOCATION:Czig Meister Brewery\, 106 Valentine Street\, Hackettstown\, NJ\, 07840\, United States
CATEGORIES:Featured,IN HOUSE
ATTACH;FMTTYPE=image/png:https://czigmeisterbrewing.com/wp-content/uploads/Trivia-Website-1-e1745940869244.png
END:VEVENT
BEGIN:VEVENT
DTSTART;TZID=America/New_York:20260529T190000
DTEND;TZID=America/New_York:20260529T210000
DTSTAMP:20260422T132938
CREATED:20260408T152941Z
LAST-MODIFIED:20260408T152941Z
UID:10001770-1780081200-1780088400@czigmeisterbrewing.com
SUMMARY:Music Bingo Night
DESCRIPTION:Join us with Revolution Entertainment for a night of Music Bingo! 🎶 It’s free to play and packed with great tunes\, awesome prizes\, and of course\, great beer. Grab your friends and get ready for a fun night out! \nFriday\, May 29th  7-9pm
URL:https://czigmeisterbrewing.com/event/music-bingo-night/
LOCATION:Czig Meister Brewery\, 106 Valentine Street\, Hackettstown\, NJ\, 07840\, United States
CATEGORIES:IN HOUSE
ATTACH;FMTTYPE=image/png:https://czigmeisterbrewing.com/wp-content/uploads/Trivia-Stories-1920-x-1080-px-3.png
END:VEVENT
BEGIN:VEVENT
DTSTART;TZID=America/New_York:20260603T180000
DTEND;TZID=America/New_York:20260603T193000
DTSTAMP:20260422T132938
CREATED:20260413T130721Z
LAST-MODIFIED:20260413T130722Z
UID:10001771-1780509600-1780515000@czigmeisterbrewing.com
SUMMARY:Bonsai Bar
DESCRIPTION:Join us for an evening of creativity and craft beer at the Czig Meister Brewing Company\, hosted by Bonsai Bar. This unique event combines the art of bonsai with the joy of craft beer\, offering a fun and engaging experience for all. \nFor just $85\, you’ll receive expert guidance from the Bonsai Bar team on how to create your very own bonsai tree. \nYour ticket includes all the materials you’ll need to create your bonsai\, as well as your very own Dwarf Jade to take home and nurture. Plus\, you’ll get to enjoy some of Czig Meister’s finest brews while you work on your creation. \nDon’t miss this opportunity to learn a new skill\, meet fellow bonsai enthusiasts\, and enjoy some great beer. We can’t wait to see you there! \nGet your tickets here! https://bonsaibar.com/products/czig-meister-brewing?variant=51698275942768
URL:https://czigmeisterbrewing.com/event/bonsai-bar-9/
LOCATION:Czig Meister Brewery\, 106 Valentine Street\, Hackettstown\, NJ\, 07840\, United States
CATEGORIES:IN HOUSE
ATTACH;FMTTYPE=image/png:https://czigmeisterbrewing.com/wp-content/uploads/Website-Event-Covers-2-108.png
END:VEVENT
BEGIN:VEVENT
DTSTART;TZID=America/New_York:20260604T190000
DTEND;TZID=America/New_York:20260604T210000
DTSTAMP:20260422T132938
CREATED:20251020T140621Z
LAST-MODIFIED:20260318T125856Z
UID:10001422-1780599600-1780606800@czigmeisterbrewing.com
SUMMARY:Trivia Revolution
DESCRIPTION:Join us and trivia revolution for a night of useless facts\, hanging out with your pals\, and most importantly… craft beer! Test your knowledge\, win some prizes\, and have a good time!
URL:https://czigmeisterbrewing.com/event/trivia-revolution-3/2026-06-04/
LOCATION:Czig Meister Brewery\, 106 Valentine Street\, Hackettstown\, NJ\, 07840\, United States
CATEGORIES:Featured,IN HOUSE
ATTACH;FMTTYPE=image/png:https://czigmeisterbrewing.com/wp-content/uploads/Trivia-Website-1-e1745940869244.png
END:VEVENT
BEGIN:VEVENT
DTSTART;TZID=America/New_York:20260611T190000
DTEND;TZID=America/New_York:20260611T210000
DTSTAMP:20260422T132938
CREATED:20251020T140621Z
LAST-MODIFIED:20260318T125856Z
UID:10001423-1781204400-1781211600@czigmeisterbrewing.com
SUMMARY:Trivia Revolution
DESCRIPTION:Join us and trivia revolution for a night of useless facts\, hanging out with your pals\, and most importantly… craft beer! Test your knowledge\, win some prizes\, and have a good time!
URL:https://czigmeisterbrewing.com/event/trivia-revolution-3/2026-06-11/
LOCATION:Czig Meister Brewery\, 106 Valentine Street\, Hackettstown\, NJ\, 07840\, United States
CATEGORIES:Featured,IN HOUSE
ATTACH;FMTTYPE=image/png:https://czigmeisterbrewing.com/wp-content/uploads/Trivia-Website-1-e1745940869244.png
END:VEVENT
BEGIN:VEVENT
DTSTART;TZID=America/New_York:20260618T190000
DTEND;TZID=America/New_York:20260618T210000
DTSTAMP:20260422T132938
CREATED:20251020T140621Z
LAST-MODIFIED:20260318T125856Z
UID:10001424-1781809200-1781816400@czigmeisterbrewing.com
SUMMARY:Trivia Revolution
DESCRIPTION:Join us and trivia revolution for a night of useless facts\, hanging out with your pals\, and most importantly… craft beer! Test your knowledge\, win some prizes\, and have a good time!
URL:https://czigmeisterbrewing.com/event/trivia-revolution-3/2026-06-18/
LOCATION:Czig Meister Brewery\, 106 Valentine Street\, Hackettstown\, NJ\, 07840\, United States
CATEGORIES:Featured,IN HOUSE
ATTACH;FMTTYPE=image/png:https://czigmeisterbrewing.com/wp-content/uploads/Trivia-Website-1-e1745940869244.png
END:VEVENT
BEGIN:VEVENT
DTSTART;TZID=America/New_York:20260625T190000
DTEND;TZID=America/New_York:20260625T210000
DTSTAMP:20260422T132938
CREATED:20251020T140621Z
LAST-MODIFIED:20260318T125856Z
UID:10001425-1782414000-1782421200@czigmeisterbrewing.com
SUMMARY:Trivia Revolution
DESCRIPTION:Join us and trivia revolution for a night of useless facts\, hanging out with your pals\, and most importantly… craft beer! Test your knowledge\, win some prizes\, and have a good time!
URL:https://czigmeisterbrewing.com/event/trivia-revolution-3/2026-06-25/
LOCATION:Czig Meister Brewery\, 106 Valentine Street\, Hackettstown\, NJ\, 07840\, United States
CATEGORIES:Featured,IN HOUSE
ATTACH;FMTTYPE=image/png:https://czigmeisterbrewing.com/wp-content/uploads/Trivia-Website-1-e1745940869244.png
END:VEVENT
BEGIN:VEVENT
DTSTART;TZID=America/New_York:20260702T190000
DTEND;TZID=America/New_York:20260702T210000
DTSTAMP:20260422T132938
CREATED:20251020T140621Z
LAST-MODIFIED:20260318T125856Z
UID:10001426-1783018800-1783026000@czigmeisterbrewing.com
SUMMARY:Trivia Revolution
DESCRIPTION:Join us and trivia revolution for a night of useless facts\, hanging out with your pals\, and most importantly… craft beer! Test your knowledge\, win some prizes\, and have a good time!
URL:https://czigmeisterbrewing.com/event/trivia-revolution-3/2026-07-02/
LOCATION:Czig Meister Brewery\, 106 Valentine Street\, Hackettstown\, NJ\, 07840\, United States
CATEGORIES:Featured,IN HOUSE
ATTACH;FMTTYPE=image/png:https://czigmeisterbrewing.com/wp-content/uploads/Trivia-Website-1-e1745940869244.png
END:VEVENT
BEGIN:VEVENT
DTSTART;TZID=America/New_York:20260709T190000
DTEND;TZID=America/New_York:20260709T210000
DTSTAMP:20260422T132938
CREATED:20251020T140621Z
LAST-MODIFIED:20260318T125856Z
UID:10001427-1783623600-1783630800@czigmeisterbrewing.com
SUMMARY:Trivia Revolution
DESCRIPTION:Join us and trivia revolution for a night of useless facts\, hanging out with your pals\, and most importantly… craft beer! Test your knowledge\, win some prizes\, and have a good time!
URL:https://czigmeisterbrewing.com/event/trivia-revolution-3/2026-07-09/
LOCATION:Czig Meister Brewery\, 106 Valentine Street\, Hackettstown\, NJ\, 07840\, United States
CATEGORIES:Featured,IN HOUSE
ATTACH;FMTTYPE=image/png:https://czigmeisterbrewing.com/wp-content/uploads/Trivia-Website-1-e1745940869244.png
END:VEVENT
BEGIN:VEVENT
DTSTART;TZID=America/New_York:20260716T190000
DTEND;TZID=America/New_York:20260716T210000
DTSTAMP:20260422T132938
CREATED:20251020T140621Z
LAST-MODIFIED:20260318T125856Z
UID:10001428-1784228400-1784235600@czigmeisterbrewing.com
SUMMARY:Trivia Revolution
DESCRIPTION:Join us and trivia revolution for a night of useless facts\, hanging out with your pals\, and most importantly… craft beer! Test your knowledge\, win some prizes\, and have a good time!
URL:https://czigmeisterbrewing.com/event/trivia-revolution-3/2026-07-16/
LOCATION:Czig Meister Brewery\, 106 Valentine Street\, Hackettstown\, NJ\, 07840\, United States
CATEGORIES:Featured,IN HOUSE
ATTACH;FMTTYPE=image/png:https://czigmeisterbrewing.com/wp-content/uploads/Trivia-Website-1-e1745940869244.png
END:VEVENT
BEGIN:VEVENT
DTSTART;TZID=America/New_York:20260723T190000
DTEND;TZID=America/New_York:20260723T210000
DTSTAMP:20260422T132938
CREATED:20251020T140621Z
LAST-MODIFIED:20260318T125856Z
UID:10001429-1784833200-1784840400@czigmeisterbrewing.com
SUMMARY:Trivia Revolution
DESCRIPTION:Join us and trivia revolution for a night of useless facts\, hanging out with your pals\, and most importantly… craft beer! Test your knowledge\, win some prizes\, and have a good time!
URL:https://czigmeisterbrewing.com/event/trivia-revolution-3/2026-07-23/
LOCATION:Czig Meister Brewery\, 106 Valentine Street\, Hackettstown\, NJ\, 07840\, United States
CATEGORIES:Featured,IN HOUSE
ATTACH;FMTTYPE=image/png:https://czigmeisterbrewing.com/wp-content/uploads/Trivia-Website-1-e1745940869244.png
END:VEVENT
BEGIN:VEVENT
DTSTART;TZID=America/New_York:20260730T190000
DTEND;TZID=America/New_York:20260730T210000
DTSTAMP:20260422T132938
CREATED:20251020T140621Z
LAST-MODIFIED:20260318T125856Z
UID:10001430-1785438000-1785445200@czigmeisterbrewing.com
SUMMARY:Trivia Revolution
DESCRIPTION:Join us and trivia revolution for a night of useless facts\, hanging out with your pals\, and most importantly… craft beer! Test your knowledge\, win some prizes\, and have a good time!
URL:https://czigmeisterbrewing.com/event/trivia-revolution-3/2026-07-30/
LOCATION:Czig Meister Brewery\, 106 Valentine Street\, Hackettstown\, NJ\, 07840\, United States
CATEGORIES:Featured,IN HOUSE
ATTACH;FMTTYPE=image/png:https://czigmeisterbrewing.com/wp-content/uploads/Trivia-Website-1-e1745940869244.png
END:VEVENT
BEGIN:VEVENT
DTSTART;TZID=America/New_York:20260806T190000
DTEND;TZID=America/New_York:20260806T210000
DTSTAMP:20260422T132938
CREATED:20251020T140621Z
LAST-MODIFIED:20260318T125856Z
UID:10001431-1786042800-1786050000@czigmeisterbrewing.com
SUMMARY:Trivia Revolution
DESCRIPTION:Join us and trivia revolution for a night of useless facts\, hanging out with your pals\, and most importantly… craft beer! Test your knowledge\, win some prizes\, and have a good time!
URL:https://czigmeisterbrewing.com/event/trivia-revolution-3/2026-08-06/
LOCATION:Czig Meister Brewery\, 106 Valentine Street\, Hackettstown\, NJ\, 07840\, United States
CATEGORIES:Featured,IN HOUSE
ATTACH;FMTTYPE=image/png:https://czigmeisterbrewing.com/wp-content/uploads/Trivia-Website-1-e1745940869244.png
END:VEVENT
BEGIN:VEVENT
DTSTART;TZID=America/New_York:20260813T190000
DTEND;TZID=America/New_York:20260813T210000
DTSTAMP:20260422T132938
CREATED:20251020T140621Z
LAST-MODIFIED:20260318T125856Z
UID:10001432-1786647600-1786654800@czigmeisterbrewing.com
SUMMARY:Trivia Revolution
DESCRIPTION:Join us and trivia revolution for a night of useless facts\, hanging out with your pals\, and most importantly… craft beer! Test your knowledge\, win some prizes\, and have a good time!
URL:https://czigmeisterbrewing.com/event/trivia-revolution-3/2026-08-13/
LOCATION:Czig Meister Brewery\, 106 Valentine Street\, Hackettstown\, NJ\, 07840\, United States
CATEGORIES:Featured,IN HOUSE
ATTACH;FMTTYPE=image/png:https://czigmeisterbrewing.com/wp-content/uploads/Trivia-Website-1-e1745940869244.png
END:VEVENT
BEGIN:VEVENT
DTSTART;TZID=America/New_York:20260820T190000
DTEND;TZID=America/New_York:20260820T210000
DTSTAMP:20260422T132938
CREATED:20251020T140621Z
LAST-MODIFIED:20260318T125856Z
UID:10001433-1787252400-1787259600@czigmeisterbrewing.com
SUMMARY:Trivia Revolution
DESCRIPTION:Join us and trivia revolution for a night of useless facts\, hanging out with your pals\, and most importantly… craft beer! Test your knowledge\, win some prizes\, and have a good time!
URL:https://czigmeisterbrewing.com/event/trivia-revolution-3/2026-08-20/
LOCATION:Czig Meister Brewery\, 106 Valentine Street\, Hackettstown\, NJ\, 07840\, United States
CATEGORIES:Featured,IN HOUSE
ATTACH;FMTTYPE=image/png:https://czigmeisterbrewing.com/wp-content/uploads/Trivia-Website-1-e1745940869244.png
END:VEVENT
BEGIN:VEVENT
DTSTART;TZID=America/New_York:20260827T190000
DTEND;TZID=America/New_York:20260827T210000
DTSTAMP:20260422T132938
CREATED:20251020T140621Z
LAST-MODIFIED:20260318T125856Z
UID:10001434-1787857200-1787864400@czigmeisterbrewing.com
SUMMARY:Trivia Revolution
DESCRIPTION:Join us and trivia revolution for a night of useless facts\, hanging out with your pals\, and most importantly… craft beer! Test your knowledge\, win some prizes\, and have a good time!
URL:https://czigmeisterbrewing.com/event/trivia-revolution-3/2026-08-27/
LOCATION:Czig Meister Brewery\, 106 Valentine Street\, Hackettstown\, NJ\, 07840\, United States
CATEGORIES:Featured,IN HOUSE
ATTACH;FMTTYPE=image/png:https://czigmeisterbrewing.com/wp-content/uploads/Trivia-Website-1-e1745940869244.png
END:VEVENT
BEGIN:VEVENT
DTSTART;TZID=America/New_York:20260903T190000
DTEND;TZID=America/New_York:20260903T210000
DTSTAMP:20260422T132938
CREATED:20251020T140621Z
LAST-MODIFIED:20260318T125856Z
UID:10001435-1788462000-1788469200@czigmeisterbrewing.com
SUMMARY:Trivia Revolution
DESCRIPTION:Join us and trivia revolution for a night of useless facts\, hanging out with your pals\, and most importantly… craft beer! Test your knowledge\, win some prizes\, and have a good time!
URL:https://czigmeisterbrewing.com/event/trivia-revolution-3/2026-09-03/
LOCATION:Czig Meister Brewery\, 106 Valentine Street\, Hackettstown\, NJ\, 07840\, United States
CATEGORIES:Featured,IN HOUSE
ATTACH;FMTTYPE=image/png:https://czigmeisterbrewing.com/wp-content/uploads/Trivia-Website-1-e1745940869244.png
END:VEVENT
BEGIN:VEVENT
DTSTART;TZID=America/New_York:20260910T190000
DTEND;TZID=America/New_York:20260910T210000
DTSTAMP:20260422T132938
CREATED:20251020T140621Z
LAST-MODIFIED:20260318T125856Z
UID:10001436-1789066800-1789074000@czigmeisterbrewing.com
SUMMARY:Trivia Revolution
DESCRIPTION:Join us and trivia revolution for a night of useless facts\, hanging out with your pals\, and most importantly… craft beer! Test your knowledge\, win some prizes\, and have a good time!
URL:https://czigmeisterbrewing.com/event/trivia-revolution-3/2026-09-10/
LOCATION:Czig Meister Brewery\, 106 Valentine Street\, Hackettstown\, NJ\, 07840\, United States
CATEGORIES:Featured,IN HOUSE
ATTACH;FMTTYPE=image/png:https://czigmeisterbrewing.com/wp-content/uploads/Trivia-Website-1-e1745940869244.png
END:VEVENT
BEGIN:VEVENT
DTSTART;TZID=America/New_York:20260917T190000
DTEND;TZID=America/New_York:20260917T210000
DTSTAMP:20260422T132938
CREATED:20251020T140621Z
LAST-MODIFIED:20260318T125856Z
UID:10001437-1789671600-1789678800@czigmeisterbrewing.com
SUMMARY:Trivia Revolution
DESCRIPTION:Join us and trivia revolution for a night of useless facts\, hanging out with your pals\, and most importantly… craft beer! Test your knowledge\, win some prizes\, and have a good time!
URL:https://czigmeisterbrewing.com/event/trivia-revolution-3/2026-09-17/
LOCATION:Czig Meister Brewery\, 106 Valentine Street\, Hackettstown\, NJ\, 07840\, United States
CATEGORIES:Featured,IN HOUSE
ATTACH;FMTTYPE=image/png:https://czigmeisterbrewing.com/wp-content/uploads/Trivia-Website-1-e1745940869244.png
END:VEVENT
BEGIN:VEVENT
DTSTART;TZID=America/New_York:20260924T190000
DTEND;TZID=America/New_York:20260924T210000
DTSTAMP:20260422T132938
CREATED:20251020T140621Z
LAST-MODIFIED:20260318T125856Z
UID:10001438-1790276400-1790283600@czigmeisterbrewing.com
SUMMARY:Trivia Revolution
DESCRIPTION:Join us and trivia revolution for a night of useless facts\, hanging out with your pals\, and most importantly… craft beer! Test your knowledge\, win some prizes\, and have a good time!
URL:https://czigmeisterbrewing.com/event/trivia-revolution-3/2026-09-24/
LOCATION:Czig Meister Brewery\, 106 Valentine Street\, Hackettstown\, NJ\, 07840\, United States
CATEGORIES:Featured,IN HOUSE
ATTACH;FMTTYPE=image/png:https://czigmeisterbrewing.com/wp-content/uploads/Trivia-Website-1-e1745940869244.png
END:VEVENT
BEGIN:VEVENT
DTSTART;TZID=America/New_York:20261001T190000
DTEND;TZID=America/New_York:20261001T210000
DTSTAMP:20260422T132938
CREATED:20251020T140621Z
LAST-MODIFIED:20260318T125856Z
UID:10001439-1790881200-1790888400@czigmeisterbrewing.com
SUMMARY:Trivia Revolution
DESCRIPTION:Join us and trivia revolution for a night of useless facts\, hanging out with your pals\, and most importantly… craft beer! Test your knowledge\, win some prizes\, and have a good time!
URL:https://czigmeisterbrewing.com/event/trivia-revolution-3/2026-10-01/
LOCATION:Czig Meister Brewery\, 106 Valentine Street\, Hackettstown\, NJ\, 07840\, United States
CATEGORIES:Featured,IN HOUSE
ATTACH;FMTTYPE=image/png:https://czigmeisterbrewing.com/wp-content/uploads/Trivia-Website-1-e1745940869244.png
END:VEVENT
END:VCALENDAR