BEGIN:VCALENDAR
VERSION:2.0
PRODID:-//Czig Meister Brewing Company - ECPv6.15.20//NONSGML v1.0//EN
CALSCALE:GREGORIAN
METHOD:PUBLISH
X-WR-CALNAME:Czig Meister Brewing Company
X-ORIGINAL-URL:https://czigmeisterbrewing.com
X-WR-CALDESC:Events for Czig Meister Brewing Company
REFRESH-INTERVAL;VALUE=DURATION:PT1H
X-Robots-Tag:noindex
X-PUBLISHED-TTL:PT1H
BEGIN:VTIMEZONE
TZID:America/New_York
BEGIN:DAYLIGHT
TZOFFSETFROM:-0500
TZOFFSETTO:-0400
TZNAME:EDT
DTSTART:20240310T070000
END:DAYLIGHT
BEGIN:STANDARD
TZOFFSETFROM:-0400
TZOFFSETTO:-0500
TZNAME:EST
DTSTART:20241103T060000
END:STANDARD
BEGIN:DAYLIGHT
TZOFFSETFROM:-0500
TZOFFSETTO:-0400
TZNAME:EDT
DTSTART:20250309T070000
END:DAYLIGHT
BEGIN:STANDARD
TZOFFSETFROM:-0400
TZOFFSETTO:-0500
TZNAME:EST
DTSTART:20251102T060000
END:STANDARD
BEGIN:DAYLIGHT
TZOFFSETFROM:-0500
TZOFFSETTO:-0400
TZNAME:EDT
DTSTART:20260308T070000
END:DAYLIGHT
BEGIN:STANDARD
TZOFFSETFROM:-0400
TZOFFSETTO:-0500
TZNAME:EST
DTSTART:20261101T060000
END:STANDARD
END:VTIMEZONE
BEGIN:VEVENT
DTSTART;TZID=America/New_York:20250626T190000
DTEND;TZID=America/New_York:20250626T220000
DTSTAMP:20260423T192121
CREATED:20250210T145317Z
LAST-MODIFIED:20250402T141409Z
UID:10000622-1750964400-1750975200@czigmeisterbrewing.com
SUMMARY:Trivia Night | Trivia Revolution
DESCRIPTION:Join us and trivia revolution for a night of useless facts\, hanging out with your pals\, and most importantly… craft beer! Test your knowledge\, win some prizes\, and have a good time
URL:https://czigmeisterbrewing.com/event/trivia-night-trivia-revolution-3/2025-06-26/
LOCATION:Czig Meister Brewery\, 106 Valentine Street\, Hackettstown\, NJ\, 07840\, United States
CATEGORIES:IN HOUSE
ATTACH;FMTTYPE=image/png:https://czigmeisterbrewing.com/wp-content/uploads/Trivia-Website-1-e1745940869244.png
END:VEVENT
BEGIN:VEVENT
DTSTART;TZID=America/New_York:20250627T190000
DTEND;TZID=America/New_York:20250627T210000
DTSTAMP:20260423T192121
CREATED:20250528T160106Z
LAST-MODIFIED:20250528T160106Z
UID:10000691-1751050800-1751058000@czigmeisterbrewing.com
SUMMARY:Live Comedy Night
DESCRIPTION:Live Comedy Night \n Friday\, June 27th |  7–9 PM | 21+ \nGet ready for an evening full of laughs! Join us on Friday\, June 27th from 7 to 9 PM for Live Comedy Night\, featuring a lineup of hilarious comedians ready to keep the good times flowing. \nLimited Spots- $25 per ticket \nLink Below: \nhttps://czigmeister.ecwid.com/Live-Comedy-Night-p755084692
URL:https://czigmeisterbrewing.com/event/live-comedy-night/
LOCATION:Czig Meister Brewery\, 106 Valentine Street\, Hackettstown\, NJ\, 07840\, United States
CATEGORIES:Featured,IN HOUSE
ATTACH;FMTTYPE=image/png:https://czigmeisterbrewing.com/wp-content/uploads/Comedy-Night.png
END:VEVENT
BEGIN:VEVENT
DTSTART;TZID=America/New_York:20250628T183000
DTEND;TZID=America/New_York:20250628T213000
DTSTAMP:20260423T192121
CREATED:20250527T150441Z
LAST-MODIFIED:20250527T150441Z
UID:10000690-1751135400-1751146200@czigmeisterbrewing.com
SUMMARY:Live Music: Mosey Beat
DESCRIPTION:On June 28th\, Live music from Mosey Beat at 6:30-9:30pm. \nKick back with a cold pint and enjoy some great live music!!
URL:https://czigmeisterbrewing.com/event/live-music-mosey-beat/
LOCATION:Czig Meister Brewery\, 106 Valentine Street\, Hackettstown\, NJ\, 07840\, United States
CATEGORIES:IN HOUSE
END:VEVENT
BEGIN:VEVENT
DTSTART;TZID=America/New_York:20250630T150000
DTEND;TZID=America/New_York:20250706T200000
DTSTAMP:20260423T192121
CREATED:20250616T122812Z
LAST-MODIFIED:20250630T131924Z
UID:10000692-1751295600-1751832000@czigmeisterbrewing.com
SUMMARY:Can Sale; 4th of July
DESCRIPTION:Starting June 30th through July 6th we’re rolling out special discounts on select 4-packs and cases to help you celebrate this 4th of July in style. \nWhether you’re heading to a backyard BBQ\, watching fireworks\, or just soaking up the summer sun\, stock up on your favorite brews and make it a holiday to remember. \nWe will be closed 4th of July and closing earlier on July 6th!
URL:https://czigmeisterbrewing.com/event/can-sale-4th-of-july/
LOCATION:Czig Meister Brewery\, 106 Valentine Street\, Hackettstown\, NJ\, 07840\, United States
CATEGORIES:IN HOUSE
END:VEVENT
BEGIN:VEVENT
DTSTART;TZID=America/New_York:20250703T120000
DTEND;TZID=America/New_York:20250703T213000
DTSTAMP:20260423T192121
CREATED:20250616T172201Z
LAST-MODIFIED:20250619T190419Z
UID:10000694-1751544000-1751578200@czigmeisterbrewing.com
SUMMARY:Backyard BBQ Party
DESCRIPTION:Backyard BBQ is back!! \nOn July 3rd\, we’re turning our brewery into the ultimate backyard bash with mouthwatering BBQ\, live music\, cold beer\, and good times all around. Whether you’re a foodie\, a beer lover\, or just looking for a fun day out — there’s something for everyone! \nFree entry! Just bring your crew and your appetite. \nLocal Restaurant Appreciation: Sizzle \nLive Music: \n\nPaul Derin 2-5pm\n The Foster Children 6:30-9:30pm\n\nRemember to come hungry\, bring your friends\, and enjoy some awesome beer!!
URL:https://czigmeisterbrewing.com/event/backyard-bbq-party/
LOCATION:Czig Meister Brewery\, 106 Valentine Street\, Hackettstown\, NJ\, 07840\, United States
CATEGORIES:IN HOUSE
ATTACH;FMTTYPE=image/png:https://czigmeisterbrewing.com/wp-content/uploads/Black-Wall-Texture-Barbecue-Feast-Invitation-4-x-6-in-1200-x-675-px.png
END:VEVENT
BEGIN:VEVENT
DTSTART;VALUE=DATE:20250704
DTEND;VALUE=DATE:20250705
DTSTAMP:20260423T192121
CREATED:20250616T172729Z
LAST-MODIFIED:20250616T172729Z
UID:10000695-1751587200-1751673599@czigmeisterbrewing.com
SUMMARY:4th of July
DESCRIPTION:Czig Meister will be closed for Independence Day! \n  \n 
URL:https://czigmeisterbrewing.com/event/4th-of-july/
LOCATION:Czig Meister Brewery\, 106 Valentine Street\, Hackettstown\, NJ\, 07840\, United States
CATEGORIES:IN HOUSE
END:VEVENT
BEGIN:VEVENT
DTSTART;TZID=America/New_York:20250706T110000
DTEND;TZID=America/New_York:20250706T140000
DTSTAMP:20260423T192121
CREATED:20250616T174632Z
LAST-MODIFIED:20250616T174632Z
UID:10000696-1751799600-1751810400@czigmeisterbrewing.com
SUMMARY:Czig Meister: Closing Early
DESCRIPTION:Czig Meister Brewing Company will be open from 11 AM to 2 PM only on Sunday\, July 6th as we celebrate our incredible team with a Staff Party!
URL:https://czigmeisterbrewing.com/event/czig-meister-closing-early-2/
LOCATION:Czig Meister Brewery\, 106 Valentine Street\, Hackettstown\, NJ\, 07840\, United States
CATEGORIES:IN HOUSE
END:VEVENT
BEGIN:VEVENT
DTSTART;TZID=America/New_York:20250710T190000
DTEND;TZID=America/New_York:20250710T210000
DTSTAMP:20260423T192121
CREATED:20250616T175331Z
LAST-MODIFIED:20250616T175331Z
UID:10000697-1752174000-1752181200@czigmeisterbrewing.com
SUMMARY:Trivia Revolution
DESCRIPTION:Join us and trivia revolution for a night of useless facts\, hanging out with your pals\, and most importantly… craft beer! Test your knowledge\, win some prizes\, and have a good time!
URL:https://czigmeisterbrewing.com/event/trivia-revolution/2025-07-10/
LOCATION:Czig Meister Brewery\, 106 Valentine Street\, Hackettstown\, NJ\, 07840\, United States
CATEGORIES:IN HOUSE
ATTACH;FMTTYPE=image/png:https://czigmeisterbrewing.com/wp-content/uploads/Trivia-Website-1-e1745940869244.png
END:VEVENT
BEGIN:VEVENT
DTSTART;TZID=America/New_York:20250711T190000
DTEND;TZID=America/New_York:20250711T210000
DTSTAMP:20260423T192121
CREATED:20250616T175918Z
LAST-MODIFIED:20250616T175918Z
UID:10000955-1752260400-1752267600@czigmeisterbrewing.com
SUMMARY:Bingo Night
DESCRIPTION:Join us for our once a month bingo night!
URL:https://czigmeisterbrewing.com/event/bingo-night-2/
LOCATION:Czig Meister Brewery\, 106 Valentine Street\, Hackettstown\, NJ\, 07840\, United States
CATEGORIES:IN HOUSE
END:VEVENT
BEGIN:VEVENT
DTSTART;TZID=America/New_York:20250712T120000
DTEND;TZID=America/New_York:20250712T220000
DTSTAMP:20260423T192121
CREATED:20250626T161157Z
LAST-MODIFIED:20250626T161157Z
UID:10000961-1752321600-1752357600@czigmeisterbrewing.com
SUMMARY:Christmas in July: Hackettstown Event
DESCRIPTION:Who says you have to wait ’til December? \nOn Saturday\, July 12th we are celebrating Christmas a little early this year; with Christmas in July!! It will be a Hackettstown wide event! \nWe’re bringing the holiday cheer early with festive brews\, cool slushies\, and summer vibes with a wintery twist. \nWe got christmas music and movies rocking all day long!! Buy a flight and get a FREE 4oz pour of everyone’s favorite holiday beer: Tiramisu! \nRock your best ugly tank top and come celebrate the most wonderful time of the summer!
URL:https://czigmeisterbrewing.com/event/christmas-in-july-hackettstown-event/
LOCATION:Czig Meister Brewery\, 106 Valentine Street\, Hackettstown\, NJ\, 07840\, United States
CATEGORIES:Featured,IN HOUSE
ATTACH;FMTTYPE=image/png:https://czigmeisterbrewing.com/wp-content/uploads/Blue-White-Illustrative-Welcome-July-Poster-1200-x-675-px.png
END:VEVENT
BEGIN:VEVENT
DTSTART;TZID=America/New_York:20250712T183000
DTEND;TZID=America/New_York:20250712T213000
DTSTAMP:20260423T192121
CREATED:20250616T180203Z
LAST-MODIFIED:20250616T180203Z
UID:10000956-1752345000-1752355800@czigmeisterbrewing.com
SUMMARY:Live Music: Chen Band
DESCRIPTION:On July 12th\, Live music from The Chen Band at 6:30-9:30pm. \nKick back with a cold pint and enjoy some great live music!!
URL:https://czigmeisterbrewing.com/event/live-music-chen-band/
LOCATION:Czig Meister Brewery\, 106 Valentine Street\, Hackettstown\, NJ\, 07840\, United States
CATEGORIES:IN HOUSE
END:VEVENT
BEGIN:VEVENT
DTSTART;TZID=America/New_York:20250713T130000
DTEND;TZID=America/New_York:20250713T140000
DTSTAMP:20260423T192121
CREATED:20250616T181012Z
LAST-MODIFIED:20250619T191142Z
UID:10000957-1752411600-1752415200@czigmeisterbrewing.com
SUMMARY:Mac & Cheese Pairing
DESCRIPTION:Join our friends from Fromage on July 13th at 1pm as they host a Mac & Cheese pairing. What better way to enhance your experience than pairing our craft beers with Mac & Cheese? Each beer is thoughtfully chosen to elevate the bold\, savory flavors of Mac & Cheese\, making every bite and sip a perfect match. \n$60 \nOnly 20 spots available. \nTicket Link: \nhttps://czigmeister.ecwid.com/Mac-&-Cheese-Pairing-p760198621
URL:https://czigmeisterbrewing.com/event/mac-cheese-pairing/
LOCATION:Czig Meister Brewery\, 106 Valentine Street\, Hackettstown\, NJ\, 07840\, United States
CATEGORIES:IN HOUSE
ATTACH;FMTTYPE=image/png:https://czigmeisterbrewing.com/wp-content/uploads/Cheese-Lovers-Day-Recipes-Photocentric-Instagram-Post-1200-x-675-px-1200-x-675-px.png
END:VEVENT
BEGIN:VEVENT
DTSTART;TZID=America/New_York:20250717T190000
DTEND;TZID=America/New_York:20250717T210000
DTSTAMP:20260423T192121
CREATED:20250616T175331Z
LAST-MODIFIED:20250616T175331Z
UID:10000698-1752778800-1752786000@czigmeisterbrewing.com
SUMMARY:Trivia Revolution
DESCRIPTION:Join us and trivia revolution for a night of useless facts\, hanging out with your pals\, and most importantly… craft beer! Test your knowledge\, win some prizes\, and have a good time!
URL:https://czigmeisterbrewing.com/event/trivia-revolution/2025-07-17/
LOCATION:Czig Meister Brewery\, 106 Valentine Street\, Hackettstown\, NJ\, 07840\, United States
CATEGORIES:IN HOUSE
ATTACH;FMTTYPE=image/png:https://czigmeisterbrewing.com/wp-content/uploads/Trivia-Website-1-e1745940869244.png
END:VEVENT
BEGIN:VEVENT
DTSTART;TZID=America/New_York:20250718T180000
DTEND;TZID=America/New_York:20250718T210000
DTSTAMP:20260423T192121
CREATED:20250616T181819Z
LAST-MODIFIED:20250616T181819Z
UID:10000958-1752861600-1752872400@czigmeisterbrewing.com
SUMMARY:Movie Night
DESCRIPTION:On July 18th Czig Meister movie nights are BACK!! Come enjoy a move outside under our tent with a pint of beer! \nTwo coworkers head to their boss’s beach house for a relaxing weekend—only to discover he’s dead. To avoid suspicion (and keep the party going)\, they pretend he’s still alive… with hilariously bizarre results. \n  \nGuess the Movie?
URL:https://czigmeisterbrewing.com/event/movie-night-3/
LOCATION:Czig Meister Brewery\, 106 Valentine Street\, Hackettstown\, NJ\, 07840\, United States
CATEGORIES:IN HOUSE
END:VEVENT
BEGIN:VEVENT
DTSTART;TZID=America/New_York:20250719T120000
DTEND;TZID=America/New_York:20250719T220000
DTSTAMP:20260423T192121
CREATED:20250519T192647Z
LAST-MODIFIED:20250623T180559Z
UID:10000683-1752926400-1752962400@czigmeisterbrewing.com
SUMMARY:A Grateful Summer Music & Art Fest
DESCRIPTION:Welcome to A Grateful Summer | Music & Arts Fest! Join us for a day filled with live music\, local art\, and good vibes at Czig Meister Brewing in Hackettstown\, NJ. Get ready to groove to some awesome tunes\, check out local artists\, and enjoy delicious craft beer in a laid-back setting. Don’t miss out on this opportunity to celebrate summer with fellow music and art enthusiasts. Head on over to our event page for the most updated info. Come appreciate the arts and sounds of the summer of love with us! Each ticket gets you all day access to the brewery for an all day event\, and each ticket comes with a commemorative bracelet for the event. Get your tickets now! More info to come…\n\nLive Music Schedule:Uncle StumpMike Frank & FriendsThe Noble BrothersThis Old Engine\n\n\nThank you to our Main Sponsor: Valley Plumbing (Heating\, cooling\, and Lawn sprinklers\, LLC) in Hackettstown\, NJ
URL:https://czigmeisterbrewing.com/event/a-grateful-summer-music-art-fest/
LOCATION:Czig Meister Brewery\, 106 Valentine Street\, Hackettstown\, NJ\, 07840\, United States
CATEGORIES:Featured,IN HOUSE
ATTACH;FMTTYPE=image/png:https://czigmeisterbrewing.com/wp-content/uploads/Major-Events-21.png
END:VEVENT
BEGIN:VEVENT
DTSTART;TZID=America/New_York:20250723T180000
DTEND;TZID=America/New_York:20250723T200000
DTSTAMP:20260423T192121
CREATED:20250616T183331Z
LAST-MODIFIED:20250616T183331Z
UID:10000960-1753293600-1753300800@czigmeisterbrewing.com
SUMMARY:Bonsai Bar
DESCRIPTION:Join us for an evening of creativity and craft beer at the Czig Meister Brewing Company\, hosted by Bonsai Bar. This unique event combines the art of bonsai with the joy of craft beer\, offering a fun and engaging experience for all. \nFor just $75\, you’ll receive expert guidance from the Bonsai Bar team on how to create your very own bonsai tree. \nYour ticket includes all the materials you’ll need to create your bonsai\, as well as your very own Dwarf Jade to take home and nurture. Plus\, you’ll get to enjoy some of Czig Meister’s finest brews while you work on your creation. \nDon’t miss this opportunity to learn a new skill\, meet fellow bonsai enthusiasts\, and enjoy some great beer. We can’t wait to see you there! \nGet your tickets here! https://bonsaibar.com/products/czig-meister-brewing?variant=51698275942768
URL:https://czigmeisterbrewing.com/event/bonsai-bar-6/
LOCATION:Czig Meister Brewery\, 106 Valentine Street\, Hackettstown\, NJ\, 07840\, United States
CATEGORIES:IN HOUSE
ATTACH;FMTTYPE=image/jpeg:https://czigmeisterbrewing.com/wp-content/uploads/Bonsai-Bar-Website.jpg
END:VEVENT
BEGIN:VEVENT
DTSTART;TZID=America/New_York:20250724T190000
DTEND;TZID=America/New_York:20250724T210000
DTSTAMP:20260423T192121
CREATED:20250616T175331Z
LAST-MODIFIED:20250616T175331Z
UID:10000699-1753383600-1753390800@czigmeisterbrewing.com
SUMMARY:Trivia Revolution
DESCRIPTION:Join us and trivia revolution for a night of useless facts\, hanging out with your pals\, and most importantly… craft beer! Test your knowledge\, win some prizes\, and have a good time!
URL:https://czigmeisterbrewing.com/event/trivia-revolution/2025-07-24/
LOCATION:Czig Meister Brewery\, 106 Valentine Street\, Hackettstown\, NJ\, 07840\, United States
CATEGORIES:IN HOUSE
ATTACH;FMTTYPE=image/png:https://czigmeisterbrewing.com/wp-content/uploads/Trivia-Website-1-e1745940869244.png
END:VEVENT
BEGIN:VEVENT
DTSTART;TZID=America/New_York:20250725T200000
DTEND;TZID=America/New_York:20250725T220000
DTSTAMP:20260423T192121
CREATED:20250627T122626Z
LAST-MODIFIED:20250707T154024Z
UID:10000962-1753473600-1753480800@czigmeisterbrewing.com
SUMMARY:Mamma Mia: Sing Along
DESCRIPTION:On Friday\, July 25th starting at 8pm! \nGrab your dancing queens and get ready to belt out every song from Mamma Mia!! \nThat’s right our Mamma Mia sing-along is back with our friends from The Cosmic Light Cabaret. They will be doing a performance alongside the movie as we all dance and sing! \nWear your best 70s sparkle \nDancing highly encouraged \nThis will be right under our tents\, so come join us for a beer and sing all night long! \nGrab your tickets now!
URL:https://czigmeisterbrewing.com/event/mamma-mia-sing-along/
LOCATION:Czig Meister Brewery\, 106 Valentine Street\, Hackettstown\, NJ\, 07840\, United States
CATEGORIES:Featured,IN HOUSE
ATTACH;FMTTYPE=image/png:https://czigmeisterbrewing.com/wp-content/uploads/Comedy-Night-4-x-6-in-1200-x-675-px-2.png
END:VEVENT
BEGIN:VEVENT
DTSTART;VALUE=DATE:20250726
DTEND;VALUE=DATE:20250803
DTSTAMP:20260423T192121
CREATED:20250721T143503Z
LAST-MODIFIED:20250721T143503Z
UID:10000973-1753488000-1754179199@czigmeisterbrewing.com
SUMMARY:Warren County Farmers Fair
DESCRIPTION:Czig Meister is headed to the Warren County Farmers’ Fair!We’ll be pouring all week long — so come grab a cold one! \n️ Saturday\, July 26th – Saturday\, August 2nd Warren County Farmers’ Fair \nStop by\, say hi\, and enjoy your favorite Czig brews while taking in all the fair fun!
URL:https://czigmeisterbrewing.com/event/warren-county-farmers-fair-2/
LOCATION:Warren County Fairgrounds\, 1350 Strykers Road\, Phillipsburg\, NJ\, 08865\, United States
CATEGORIES:OUTDOOR BEER FESTIVALS
END:VEVENT
BEGIN:VEVENT
DTSTART;TZID=America/New_York:20250727T140000
DTEND;TZID=America/New_York:20250727T170000
DTSTAMP:20260423T192121
CREATED:20250708T145829Z
LAST-MODIFIED:20250708T145829Z
UID:10000964-1753624800-1753635600@czigmeisterbrewing.com
SUMMARY:Live Music: Madison Gerish
DESCRIPTION:On July 27th\, Live music from Madison Gerish at 2-5pm. \nKick back with a cold pint and enjoy some great live music!!
URL:https://czigmeisterbrewing.com/event/live-music-madison-gerish-2/
LOCATION:Czig Meister Brewery\, 106 Valentine Street\, Hackettstown\, NJ\, 07840\, United States
CATEGORIES:IN HOUSE
END:VEVENT
BEGIN:VEVENT
DTSTART;TZID=America/New_York:20250731T190000
DTEND;TZID=America/New_York:20250731T210000
DTSTAMP:20260423T192121
CREATED:20250616T175331Z
LAST-MODIFIED:20250616T175331Z
UID:10000700-1753988400-1753995600@czigmeisterbrewing.com
SUMMARY:Trivia Revolution
DESCRIPTION:Join us and trivia revolution for a night of useless facts\, hanging out with your pals\, and most importantly… craft beer! Test your knowledge\, win some prizes\, and have a good time!
URL:https://czigmeisterbrewing.com/event/trivia-revolution/2025-07-31/
LOCATION:Czig Meister Brewery\, 106 Valentine Street\, Hackettstown\, NJ\, 07840\, United States
CATEGORIES:IN HOUSE
ATTACH;FMTTYPE=image/png:https://czigmeisterbrewing.com/wp-content/uploads/Trivia-Website-1-e1745940869244.png
END:VEVENT
BEGIN:VEVENT
DTSTART;TZID=America/New_York:20250801T180000
DTEND;TZID=America/New_York:20250801T210000
DTSTAMP:20260423T192121
CREATED:20250708T151307Z
LAST-MODIFIED:20250708T151307Z
UID:10000965-1754071200-1754082000@czigmeisterbrewing.com
SUMMARY:Meister Market: Dog Days of Summer
DESCRIPTION:Join us for a refreshing day of craft beer\, local flavor\, and hot summer days!\n\nOur Dog Days of Summer Meister Market brings together local art\, makers\, and small businesses for a vibrant community celebration. \n\nSip on fresh brews straight from the tap while browsing handmade goods\, unique art\, home decor\, sweet treats\, and more.\n\nDate: August 1stTime: 6-9pm
URL:https://czigmeisterbrewing.com/event/meister-market-dog-days-of-summer/
LOCATION:Czig Meister Brewery\, 106 Valentine Street\, Hackettstown\, NJ\, 07840\, United States
CATEGORIES:IN HOUSE
ATTACH;FMTTYPE=image/png:https://czigmeisterbrewing.com/wp-content/uploads/Meister-Markets-1200-x-675-px.png
END:VEVENT
BEGIN:VEVENT
DTSTART;TZID=America/New_York:20250803T120000
DTEND;TZID=America/New_York:20250803T190000
DTSTAMP:20260423T192121
CREATED:20250721T144223Z
LAST-MODIFIED:20250721T144223Z
UID:10000974-1754222400-1754247600@czigmeisterbrewing.com
SUMMARY:Arc of Warren County Food Truck Festival
DESCRIPTION:Czig Meister is excited to be pouring at the 7th Annual Arc of Warren County Food Truck Festival!Join us at Donaldson Farms for a day full of great food\, cold beer\, and live music.  \n️ Sunday\, August 3rd Noon – 7 PM Donaldson Farms \nBring your appetite\, your friends\, and your love for craft beer — we’ll see you there!
URL:https://czigmeisterbrewing.com/event/arc-of-warren-county-food-truck-festival/
LOCATION:Donaldson Farms\, 358 Allen Rd.\, Hackettstown\, NJ\, 07840\, United States
CATEGORIES:OUTDOOR BEER FESTIVALS
END:VEVENT
BEGIN:VEVENT
DTSTART;TZID=America/New_York:20250806T180000
DTEND;TZID=America/New_York:20250806T200000
DTSTAMP:20260423T192121
CREATED:20250708T151831Z
LAST-MODIFIED:20250708T151831Z
UID:10000966-1754503200-1754510400@czigmeisterbrewing.com
SUMMARY:Moss Society Class
DESCRIPTION:MOSS & MINGLE is back — and we’re bringing the craft and the craft beer.  \nJoin us on August 6th from 6–8PM at Czig Meister Brewing for a one-of-a-kind night where you’ll create a 12″x12″ preserved moss + floral art piece on a hexagon panel. Hot glue guns in hand\, beers in reach — it’s the ultimate way to unwind\, get creative\, and vibe with nature. \n️ No skills needed — just come ready to have fun.\n Ticket includes your first beer on the house!\n Leave with a handmade piece you’ll actually want to hang.\n Chill brewery energy\, planty goodness\, and great company. \nSpots are limited — snag your ticket now\, and let’s get our glue on with a brew in hand.
URL:https://czigmeisterbrewing.com/event/moss-society-class/
LOCATION:Czig Meister Brewery\, 106 Valentine Street\, Hackettstown\, NJ\, 07840\, United States
CATEGORIES:IN HOUSE
END:VEVENT
BEGIN:VEVENT
DTSTART;TZID=America/New_York:20250807T190000
DTEND;TZID=America/New_York:20250807T210000
DTSTAMP:20260423T192121
CREATED:20250616T175331Z
LAST-MODIFIED:20250616T175331Z
UID:10000701-1754593200-1754600400@czigmeisterbrewing.com
SUMMARY:Trivia Revolution
DESCRIPTION:Join us and trivia revolution for a night of useless facts\, hanging out with your pals\, and most importantly… craft beer! Test your knowledge\, win some prizes\, and have a good time!
URL:https://czigmeisterbrewing.com/event/trivia-revolution/2025-08-07/
LOCATION:Czig Meister Brewery\, 106 Valentine Street\, Hackettstown\, NJ\, 07840\, United States
CATEGORIES:IN HOUSE
ATTACH;FMTTYPE=image/png:https://czigmeisterbrewing.com/wp-content/uploads/Trivia-Website-1-e1745940869244.png
END:VEVENT
BEGIN:VEVENT
DTSTART;TZID=America/New_York:20250808T190000
DTEND;TZID=America/New_York:20250808T210000
DTSTAMP:20260423T192121
CREATED:20250708T152035Z
LAST-MODIFIED:20250708T152035Z
UID:10000967-1754679600-1754686800@czigmeisterbrewing.com
SUMMARY:Bingo Night
DESCRIPTION:Join us for our once a month bingo night!
URL:https://czigmeisterbrewing.com/event/bingo-night-3/
LOCATION:Czig Meister Brewery\, 106 Valentine Street\, Hackettstown\, NJ\, 07840\, United States
CATEGORIES:IN HOUSE
END:VEVENT
BEGIN:VEVENT
DTSTART;TZID=America/New_York:20250809T120000
DTEND;TZID=America/New_York:20250809T220000
DTSTAMP:20260423T192121
CREATED:20250724T195332Z
LAST-MODIFIED:20250724T195332Z
UID:10000976-1754740800-1754776800@czigmeisterbrewing.com
SUMMARY:Beach Theme Party: Hackettstown Event
DESCRIPTION:☀️ It’s Saturday—Let the Vacation Vibes Roll In! ☀️ \nSaturday\, August 9th\, we’re throwing the ultimate Beach Bash – and it’s a Hackettstown-Businesses wide event you don’t want to miss! \nWe’re bringing the sun\, sand\, and good vibes with: \n Cool slushies\n Refreshing summer brews\n Beachy tunes \n BONUS: The first 50 patrons who buy a beer get a FREE lei.
URL:https://czigmeisterbrewing.com/event/beach-theme-party-hackettstown-event/
LOCATION:Czig Meister Brewery\, 106 Valentine Street\, Hackettstown\, NJ\, 07840\, United States
CATEGORIES:IN HOUSE
ATTACH;FMTTYPE=image/png:https://czigmeisterbrewing.com/wp-content/uploads/Blue-White-Illustrative-Welcome-July-Poster-4-x-6-in-1920-x-1080-px.png
END:VEVENT
BEGIN:VEVENT
DTSTART;TZID=America/New_York:20250813T140000
DTEND;TZID=America/New_York:20250813T200000
DTSTAMP:20260423T192121
CREATED:20250812T134854Z
LAST-MODIFIED:20250812T134854Z
UID:10000981-1755093600-1755115200@czigmeisterbrewing.com
SUMMARY:Oktoberfest Beer Release
DESCRIPTION:On Wednesday\, August 13th our Oktoberfest beer is back!! \nBrewed for Hackettstown’s largest annual celebration\, Oktoberfest is our rich\, balanced Märzen-style lager\, built for toasting tradition with flavor and finesse. \nCrafted with Weyermann Munich and Pale malts\, it delivers classic notes of toasted bread\, biscuit\, and gentle caramel\, with a clean\, crisp finish thanks to noble Hersbrucker hops. At 5.3% ABV\, it’s rich without heaviness\, and flavorful without fuss—ideal for steins\, sausages\, and fall festivities. \nRaise your stein. The fest has begun.
URL:https://czigmeisterbrewing.com/event/oktoberfest-beer-release/
LOCATION:Czig Meister Brewery\, 106 Valentine Street\, Hackettstown\, NJ\, 07840\, United States
CATEGORIES:BEER RELEASES,IN HOUSE
ATTACH;FMTTYPE=image/png:https://czigmeisterbrewing.com/wp-content/uploads/Oktoberfest-Can-Website.png
END:VEVENT
BEGIN:VEVENT
DTSTART;TZID=America/New_York:20250814T190000
DTEND;TZID=America/New_York:20250814T210000
DTSTAMP:20260423T192121
CREATED:20250616T175331Z
LAST-MODIFIED:20250616T175331Z
UID:10000702-1755198000-1755205200@czigmeisterbrewing.com
SUMMARY:Trivia Revolution
DESCRIPTION:Join us and trivia revolution for a night of useless facts\, hanging out with your pals\, and most importantly… craft beer! Test your knowledge\, win some prizes\, and have a good time!
URL:https://czigmeisterbrewing.com/event/trivia-revolution/2025-08-14/
LOCATION:Czig Meister Brewery\, 106 Valentine Street\, Hackettstown\, NJ\, 07840\, United States
CATEGORIES:IN HOUSE
ATTACH;FMTTYPE=image/png:https://czigmeisterbrewing.com/wp-content/uploads/Trivia-Website-1-e1745940869244.png
END:VEVENT
BEGIN:VEVENT
DTSTART;TZID=America/New_York:20250815T140000
DTEND;TZID=America/New_York:20250815T220000
DTSTAMP:20260423T192121
CREATED:20250812T135228Z
LAST-MODIFIED:20250812T135228Z
UID:10000982-1755266400-1755295200@czigmeisterbrewing.com
SUMMARY:Sweet Justice Beer Release
DESCRIPTION:On Friday\, August 15th Sweet Justice returns!! Sweet Justice is a flavorful riff on our classic Lawman Hefeweizen\, infused with real peach puree and cinnamon for a softly spiced\, fruit-forward twist. \nIt pours hazy and golden\, with aromas of stone fruit\, fresh-baked bread\, and warm cinnamon. A silky body from traditional wheat malts and expressive German yeast keeps it true to style\, while the added fruit and spice elevate it into a fall-ready experience. \nSmooth\, balanced\, and satisfyingly sweet—Sweet Justice is what happens when flavor rules the court.
URL:https://czigmeisterbrewing.com/event/sweet-justice-beer-release/
LOCATION:Czig Meister Brewery\, 106 Valentine Street\, Hackettstown\, NJ\, 07840\, United States
CATEGORIES:BEER RELEASES,IN HOUSE
ATTACH;FMTTYPE=image/png:https://czigmeisterbrewing.com/wp-content/uploads/Lawmans-Sweet-Justice-Website.png
END:VEVENT
END:VCALENDAR