BEGIN:VCALENDAR
VERSION:2.0
PRODID:-//Czig Meister Brewing Company - ECPv6.15.20//NONSGML v1.0//EN
CALSCALE:GREGORIAN
METHOD:PUBLISH
X-WR-CALNAME:Czig Meister Brewing Company
X-ORIGINAL-URL:https://czigmeisterbrewing.com
X-WR-CALDESC:Events for Czig Meister Brewing Company
REFRESH-INTERVAL;VALUE=DURATION:PT1H
X-Robots-Tag:noindex
X-PUBLISHED-TTL:PT1H
BEGIN:VTIMEZONE
TZID:America/New_York
BEGIN:DAYLIGHT
TZOFFSETFROM:-0500
TZOFFSETTO:-0400
TZNAME:EDT
DTSTART:20240310T070000
END:DAYLIGHT
BEGIN:STANDARD
TZOFFSETFROM:-0400
TZOFFSETTO:-0500
TZNAME:EST
DTSTART:20241103T060000
END:STANDARD
BEGIN:DAYLIGHT
TZOFFSETFROM:-0500
TZOFFSETTO:-0400
TZNAME:EDT
DTSTART:20250309T070000
END:DAYLIGHT
BEGIN:STANDARD
TZOFFSETFROM:-0400
TZOFFSETTO:-0500
TZNAME:EST
DTSTART:20251102T060000
END:STANDARD
BEGIN:DAYLIGHT
TZOFFSETFROM:-0500
TZOFFSETTO:-0400
TZNAME:EDT
DTSTART:20260308T070000
END:DAYLIGHT
BEGIN:STANDARD
TZOFFSETFROM:-0400
TZOFFSETTO:-0500
TZNAME:EST
DTSTART:20261101T060000
END:STANDARD
END:VTIMEZONE
BEGIN:VEVENT
DTSTART;VALUE=DATE:20250316
DTEND;VALUE=DATE:20250317
DTSTAMP:20260423T061408
CREATED:20250225T143309Z
LAST-MODIFIED:20250307T203248Z
UID:10000543-1742083200-1742169599@czigmeisterbrewing.com
SUMMARY:Kegs & Eggs
DESCRIPTION:The perfect morning for some kegs & eggs! Join us for our special hours on Sunday\, March 16th where we’ll be opening at 11am for brunch\, with live acoustic music from Sean Henry! We’ll have a brunch food truck here to go with our mimosa flights and full tap list. Its an event you don’t want to miss.
URL:https://czigmeisterbrewing.com/event/kegs-eggs/
LOCATION:Czig Meister Brewery\, 106 Valentine Street\, Hackettstown\, NJ\, 07840\, United States
CATEGORIES:IN HOUSE
ATTACH;FMTTYPE=image/png:https://czigmeisterbrewing.com/wp-content/uploads/Kegs-and-Eggs-Updated.png
END:VEVENT
BEGIN:VEVENT
DTSTART;TZID=America/New_York:20250319T120000
DTEND;TZID=America/New_York:20250319T160000
DTSTAMP:20260423T061408
CREATED:20250319T161439Z
LAST-MODIFIED:20250319T161439Z
UID:10000549-1742385600-1742400000@czigmeisterbrewing.com
SUMMARY:Book Swap ft. Lulu's Book Nook
DESCRIPTION:Join Czig Meister and Lulu’s Book Nook for a book swap! Bring a book to swap or donate\, meet with fellow book lovers\, and leave with a book\, too! We’ll have acoustic music during the event to really add to the ambience\, so come hang out with us!
URL:https://czigmeisterbrewing.com/event/book-swap-ft-lulus-book-nook/
LOCATION:Czig Meister Brewery\, 106 Valentine Street\, Hackettstown\, NJ\, 07840\, United States
ATTACH;FMTTYPE=image/png:https://czigmeisterbrewing.com/wp-content/uploads/Book-Swap-Website-4.6.png
END:VEVENT
BEGIN:VEVENT
DTSTART;VALUE=DATE:20250320
DTEND;VALUE=DATE:20250321
DTSTAMP:20260423T061408
CREATED:20241220T185055Z
LAST-MODIFIED:20250116T153842Z
UID:10000467-1742428800-1742515199@czigmeisterbrewing.com
SUMMARY:Trivia Night | Trivia Revolution
DESCRIPTION:
URL:https://czigmeisterbrewing.com/event/trivia-night-trivia-revolution-2/2025-03-20/
LOCATION:Czig Meister Brewery\, 106 Valentine Street\, Hackettstown\, NJ\, 07840\, United States
CATEGORIES:IN HOUSE
ATTACH;FMTTYPE=image/png:https://czigmeisterbrewing.com/wp-content/uploads/Trivia-Website-1-e1745940869244.png
END:VEVENT
BEGIN:VEVENT
DTSTART;VALUE=DATE:20250320
DTEND;VALUE=DATE:20250321
DTSTAMP:20260423T061408
CREATED:20250224T171346Z
LAST-MODIFIED:20250224T171346Z
UID:10000536-1742428800-1742515199@czigmeisterbrewing.com
SUMMARY:Beer Release: Herdsman Bock
DESCRIPTION:Bock. Is. Back. \nHerdsman\, our Bock Spring Lager\, is back! The beer named after its German namesake for goat\, will be back Friday March 1st\, at 2pm. 6.7% and light bodied\, this easy-drinker is giving us notes of sweet malty caramel and biscuit.
URL:https://czigmeisterbrewing.com/event/beer-release-herdsman-bock-2/
LOCATION:Czig Meister Brewery\, 106 Valentine Street\, Hackettstown\, NJ\, 07840\, United States
CATEGORIES:BEER RELEASES
ATTACH;FMTTYPE=image/png:https://czigmeisterbrewing.com/wp-content/uploads/Herdsman-bock-Website-Relase.png
END:VEVENT
BEGIN:VEVENT
DTSTART;TZID=America/New_York:20250320T150000
DTEND;TZID=America/New_York:20250320T200000
DTSTAMP:20260423T061408
CREATED:20250212T205235Z
LAST-MODIFIED:20250212T205235Z
UID:10000522-1742482800-1742500800@czigmeisterbrewing.com
SUMMARY:Food Truck | Why Not Burgerz
DESCRIPTION:Why Not Burgerz will be here with their special Chop Meister\, a chopped cheese made just for us!
URL:https://czigmeisterbrewing.com/event/food-truck-why-not-burgerz-5/
LOCATION:NJ
CATEGORIES:IN HOUSE
ATTACH;FMTTYPE=image/png:https://czigmeisterbrewing.com/wp-content/uploads/Website-Event-Covers-2-20.png
END:VEVENT
BEGIN:VEVENT
DTSTART;TZID=America/New_York:20250321T160000
DTEND;TZID=America/New_York:20250321T200000
DTSTAMP:20260423T061408
CREATED:20250213T155454Z
LAST-MODIFIED:20250213T155454Z
UID:10000523-1742572800-1742587200@czigmeisterbrewing.com
SUMMARY:Food Truck | The Greek Kitchen
DESCRIPTION:
URL:https://czigmeisterbrewing.com/event/food-truck-the-greek-kitchen-2/
LOCATION:Czig Meister Brewery\, 106 Valentine Street\, Hackettstown\, NJ\, 07840\, United States
CATEGORIES:IN HOUSE
ATTACH;FMTTYPE=image/png:https://czigmeisterbrewing.com/wp-content/uploads/Greek-Kitchen-Website.png
END:VEVENT
BEGIN:VEVENT
DTSTART;TZID=America/New_York:20250322T140000
DTEND;TZID=America/New_York:20250322T200000
DTSTAMP:20260423T061408
CREATED:20250224T172927Z
LAST-MODIFIED:20250224T172927Z
UID:10000539-1742652000-1742673600@czigmeisterbrewing.com
SUMMARY:Food Truck | Tia B's Street Tacos
DESCRIPTION:
URL:https://czigmeisterbrewing.com/event/food-truck-tia-bs-street-tacos-4/
LOCATION:Czig Meister Brewery\, 106 Valentine Street\, Hackettstown\, NJ\, 07840\, United States
CATEGORIES:IN HOUSE
ATTACH;FMTTYPE=image/png:https://czigmeisterbrewing.com/wp-content/uploads/Tia-Bs-Website.png
END:VEVENT
BEGIN:VEVENT
DTSTART;TZID=America/New_York:20250322T183000
DTEND;TZID=America/New_York:20250322T213000
DTSTAMP:20260423T061408
CREATED:20250213T175443Z
LAST-MODIFIED:20250224T205638Z
UID:10000525-1742668200-1742679000@czigmeisterbrewing.com
SUMMARY:Live Music | Mike Frank & Friends
DESCRIPTION:6:30pm -9:30pm | No cover
URL:https://czigmeisterbrewing.com/event/winter-live-music-series-mike-frank-friends-2/
LOCATION:Czig Meister Brewery\, 106 Valentine Street\, Hackettstown\, NJ\, 07840\, United States
CATEGORIES:IN HOUSE
ATTACH;FMTTYPE=image/png:https://czigmeisterbrewing.com/wp-content/uploads/Generic-Live-Music-Website.png
END:VEVENT
BEGIN:VEVENT
DTSTART;TZID=America/New_York:20250323T140000
DTEND;TZID=America/New_York:20250323T170000
DTSTAMP:20260423T061408
CREATED:20250307T212621Z
LAST-MODIFIED:20250307T212621Z
UID:10000547-1742738400-1742749200@czigmeisterbrewing.com
SUMMARY:Sunday Acoustic Music: Mike Lawlor & Mike Alexander
DESCRIPTION:2-5pm
URL:https://czigmeisterbrewing.com/event/sunday-acoustic-music-mike-lawlor-mike-alexander/
LOCATION:Czig Meister Brewery\, 106 Valentine Street\, Hackettstown\, NJ\, 07840\, United States
CATEGORIES:IN HOUSE
ATTACH;FMTTYPE=image/png:https://czigmeisterbrewing.com/wp-content/uploads/Sunday-Acoustic-Music-Website.png
END:VEVENT
BEGIN:VEVENT
DTSTART;VALUE=DATE:20250327
DTEND;VALUE=DATE:20250328
DTSTAMP:20260423T061408
CREATED:20250326T142829Z
LAST-MODIFIED:20250326T142829Z
UID:10000550-1743033600-1743119999@czigmeisterbrewing.com
SUMMARY:Beer Release: Deep Sea Series Caldera
DESCRIPTION:Deep Sea Series: Caldera is back March 27th!  This New England style IPA is brewed with Amarillo and Mosaic hops\, offering a unique blend of flavors.  \nEnjoy the subtle notes of citrus\, pine\, and tropical fruit.  \nAvailable March 27th. Cheers!
URL:https://czigmeisterbrewing.com/event/beer-release-deep-sea-series-caldera-2/
LOCATION:Czig Meister Brewery\, 106 Valentine Street\, Hackettstown\, NJ\, 07840\, United States
CATEGORIES:BEER RELEASES
ATTACH;FMTTYPE=image/png:https://czigmeisterbrewing.com/wp-content/uploads/Caldera-Website-3.27.png
END:VEVENT
BEGIN:VEVENT
DTSTART;TZID=America/New_York:20250327T190000
DTEND;TZID=America/New_York:20250327T220000
DTSTAMP:20260423T061408
CREATED:20250210T145317Z
LAST-MODIFIED:20250402T141409Z
UID:10000500-1743102000-1743112800@czigmeisterbrewing.com
SUMMARY:Trivia Night | Trivia Revolution
DESCRIPTION:Join us and trivia revolution for a night of useless facts\, hanging out with your pals\, and most importantly… craft beer! Test your knowledge\, win some prizes\, and have a good time
URL:https://czigmeisterbrewing.com/event/trivia-night-trivia-revolution-3/2025-03-27/
LOCATION:Czig Meister Brewery\, 106 Valentine Street\, Hackettstown\, NJ\, 07840\, United States
CATEGORIES:IN HOUSE
ATTACH;FMTTYPE=image/png:https://czigmeisterbrewing.com/wp-content/uploads/Trivia-Website-1-e1745940869244.png
END:VEVENT
BEGIN:VEVENT
DTSTART;VALUE=DATE:20250328
DTEND;VALUE=DATE:20250329
DTSTAMP:20260423T061408
CREATED:20250327T180520Z
LAST-MODIFIED:20250327T180520Z
UID:10000551-1743120000-1743206399@czigmeisterbrewing.com
SUMMARY:Beer Release: Sundial Series Zenith
DESCRIPTION:Reach the peak of flavor with Zenith\, next up in our Sundial Series. This fruited sour is conditioned on orange\, mango\, and peach for a juicy and refreshing taste. Take a sip and let Zenith transport you to new heights.
URL:https://czigmeisterbrewing.com/event/beer-release-sundial-series-zenith-3/
LOCATION:Czig Meister Brewery\, 106 Valentine Street\, Hackettstown\, NJ\, 07840\, United States
CATEGORIES:BEER RELEASES
ATTACH;FMTTYPE=image/png:https://czigmeisterbrewing.com/wp-content/uploads/Zenith-Website-1.png
END:VEVENT
BEGIN:VEVENT
DTSTART;TZID=America/New_York:20250328T160000
DTEND;TZID=America/New_York:20250328T200000
DTSTAMP:20260423T061408
CREATED:20250224T172758Z
LAST-MODIFIED:20250224T172758Z
UID:10000538-1743177600-1743192000@czigmeisterbrewing.com
SUMMARY:Food Truck | The Greek Kitchen
DESCRIPTION:
URL:https://czigmeisterbrewing.com/event/food-truck-the-greek-kitchen-3/
LOCATION:Czig Meister Brewery\, 106 Valentine Street\, Hackettstown\, NJ\, 07840\, United States
CATEGORIES:IN HOUSE
ATTACH;FMTTYPE=image/png:https://czigmeisterbrewing.com/wp-content/uploads/Greek-Kitchen-Website.png
END:VEVENT
BEGIN:VEVENT
DTSTART;TZID=America/New_York:20250329T183000
DTEND;TZID=America/New_York:20250329T213000
DTSTAMP:20260423T061408
CREATED:20250213T175513Z
LAST-MODIFIED:20250224T205734Z
UID:10000526-1743273000-1743283800@czigmeisterbrewing.com
SUMMARY:Live Music | BBQ Pool Rats
DESCRIPTION:6:30pm -9:30pm | No cover
URL:https://czigmeisterbrewing.com/event/winter-live-music-series-bbq-pool-rats/
LOCATION:Czig Meister Brewery\, 106 Valentine Street\, Hackettstown\, NJ\, 07840\, United States
CATEGORIES:IN HOUSE
ATTACH;FMTTYPE=image/png:https://czigmeisterbrewing.com/wp-content/uploads/Generic-Live-Music-Website.png
END:VEVENT
BEGIN:VEVENT
DTSTART;TZID=America/New_York:20250402T180000
DTEND;TZID=America/New_York:20250402T200000
DTSTAMP:20260423T061408
CREATED:20250224T165020Z
LAST-MODIFIED:20250227T151758Z
UID:10000534-1743616800-1743624000@czigmeisterbrewing.com
SUMMARY:Introduction to Crystals and Gems: Earth’s Curiosities and Magical Wonders Ft. Aries Moon Crystal
DESCRIPTION:Join Amanda from Aries Moon Crystals in this two hour introductory class to the curiosities of crystals and gemstones. In this class we will talk about the mining process\, the representation of sacred geometry and carving styles\, color theory/birthstones\, newest crystal discoveries\, and how to spot authentic vs fake crystals. Demonstration will be involved.
URL:https://czigmeisterbrewing.com/event/introduction-to-crystals-and-gems-earths-curiosities-and-magical-wonders-ft-aries-moon-crysta/
LOCATION:Czig Meister Brewery\, 106 Valentine Street\, Hackettstown\, NJ\, 07840\, United States
CATEGORIES:IN HOUSE
ATTACH;FMTTYPE=image/png:https://czigmeisterbrewing.com/wp-content/uploads/Aries-Moon-Crystals.png
END:VEVENT
BEGIN:VEVENT
DTSTART;TZID=America/New_York:20250403T190000
DTEND;TZID=America/New_York:20250403T220000
DTSTAMP:20260423T061408
CREATED:20250402T141618Z
LAST-MODIFIED:20250402T141618Z
UID:10000648-1743706800-1743717600@czigmeisterbrewing.com
SUMMARY:90's Cartoon Trivia
DESCRIPTION:HEY FOOTBALL HEAD! Think you remember everything about watching Saturday morning TV in your living room? Test your knowledge on everything from Rugrats to Dexter’s Laboratory\, Animaniacs to Batman: The Animated Series\, and so much more with us on Thursday\, April 3rd at 7pm!\n\nExpect questions about iconic characters\, unforgettable theme songs\, and the most nostalgic moments from your childhood
URL:https://czigmeisterbrewing.com/event/90s-cartoon-trivia/
LOCATION:Czig Meister Brewery\, 106 Valentine Street\, Hackettstown\, NJ\, 07840\, United States
CATEGORIES:IN HOUSE
ATTACH;FMTTYPE=image/png:https://czigmeisterbrewing.com/wp-content/uploads/90s-Cartoon-Trivia-Website.png
END:VEVENT
BEGIN:VEVENT
DTSTART;VALUE=DATE:20250404
DTEND;VALUE=DATE:20250405
DTSTAMP:20260423T061408
CREATED:20230331T155016Z
LAST-MODIFIED:20250331T163527Z
UID:10000096-1743724800-1743811199@czigmeisterbrewing.com
SUMMARY:Beer Release: Order Belgian Singel
DESCRIPTION:Order\, our Belgian-style Singel that’s light\, refreshing\, and smooth\, is back April 4th at 2pm! Golden in color with a fruity aroma & hints of spice\, citrus\, and honey\, Order drinks like a trip to a local pub in Brussels feels. Easy-drinking and delicious\, Order yours today and we guarantee this will be your new favorite
URL:https://czigmeisterbrewing.com/event/beer-release-order-belgian-singel/
LOCATION:NJ
CATEGORIES:BEER RELEASES
ATTACH;FMTTYPE=image/png:https://czigmeisterbrewing.com/wp-content/uploads/Order-Website-1.png
END:VEVENT
BEGIN:VEVENT
DTSTART;TZID=America/New_York:20250404T180000
DTEND;TZID=America/New_York:20250404T220000
DTSTAMP:20260423T061408
CREATED:20250402T142541Z
LAST-MODIFIED:20250402T142541Z
UID:10000650-1743789600-1743804000@czigmeisterbrewing.com
SUMMARY:Meister Market: Vintage Finds
DESCRIPTION:Our Meister Markets are back for the season! In this first market\, our vendors will show off their vintage & vintage inspired art & goods! We’ll have Paulie Derin as DJ for the evening spinning and selling vinyl.\n\nVendors:Divine KinLulu’s Book NookFromage\, LLCShop Sable JewelryJames Post Prints\nEnchanted Chocolate
URL:https://czigmeisterbrewing.com/event/meister-market-vintage-finds/
LOCATION:Czig Meister Brewery\, 106 Valentine Street\, Hackettstown\, NJ\, 07840\, United States
CATEGORIES:IN HOUSE
ATTACH;FMTTYPE=image/png:https://czigmeisterbrewing.com/wp-content/uploads/vintage-finds.png
END:VEVENT
BEGIN:VEVENT
DTSTART;TZID=America/New_York:20250405T150000
DTEND;TZID=America/New_York:20250405T220000
DTSTAMP:20260423T061408
CREATED:20250226T011459Z
LAST-MODIFIED:20250303T185027Z
UID:10000545-1743865200-1743890400@czigmeisterbrewing.com
SUMMARY:Live Music Double Set | Locally Sourced Acoustic and The Hollow
DESCRIPTION:No Cover. Join us April 5th for a special double billing. In the afternoon we’ve got Locally Sourced Acoustic music from \n\nTommy & Rob of Communication Redlight\nChris & Nick of Christ Batten & The Woods\nDoug & Jerry of Those Clever Foxes\nand Brian & Jay of The Adventuring Party\n\nThen in the evening kicking off at 6:30 we’ve got The Hollow rounding out the night. \nLocally Sourced Acoustic | 3pm – 6pm \nThe Hollow | 6:30pm – 9:30pm \nNo Cover.
URL:https://czigmeisterbrewing.com/event/live-music-double-set-locally-sourced-acoustic-and-the-hollow/
LOCATION:NJ
CATEGORIES:IN HOUSE
ATTACH;FMTTYPE=image/png:https://czigmeisterbrewing.com/wp-content/uploads/double-set-website.png
END:VEVENT
BEGIN:VEVENT
DTSTART;TZID=America/New_York:20250406T120000
DTEND;TZID=America/New_York:20250406T160000
DTSTAMP:20260423T061408
CREATED:20250402T142141Z
LAST-MODIFIED:20250402T142141Z
UID:10000649-1743940800-1743955200@czigmeisterbrewing.com
SUMMARY:Book Swap
DESCRIPTION:Lulu’s Book Nook will be here from 12-4pm with bookmarks and books to swap!\n\nBring a book\, take a book\, and enjoy some drinks for an afternoon of good reads.
URL:https://czigmeisterbrewing.com/event/book-swap-2/
LOCATION:Czig Meister Brewery\, 106 Valentine Street\, Hackettstown\, NJ\, 07840\, United States
CATEGORIES:IN HOUSE
ATTACH;FMTTYPE=image/png:https://czigmeisterbrewing.com/wp-content/uploads/Book-Swap-Website-4.6-1.png
END:VEVENT
BEGIN:VEVENT
DTSTART;TZID=America/New_York:20250406T120000
DTEND;TZID=America/New_York:20250406T170000
DTSTAMP:20260423T061408
CREATED:20250402T143820Z
LAST-MODIFIED:20250402T143820Z
UID:10000655-1743940800-1743958800@czigmeisterbrewing.com
SUMMARY:Food Truck | DiMa's Bistro
DESCRIPTION:
URL:https://czigmeisterbrewing.com/event/food-truck-dimas-bistro-3/
LOCATION:Czig Meister Brewery\, 106 Valentine Street\, Hackettstown\, NJ\, 07840\, United States
CATEGORIES:IN HOUSE
ATTACH;FMTTYPE=image/png:https://czigmeisterbrewing.com/wp-content/uploads/DiMas-Bistro-Website.png
END:VEVENT
BEGIN:VEVENT
DTSTART;TZID=America/New_York:20250406T140000
DTEND;TZID=America/New_York:20250406T170000
DTSTAMP:20260423T061408
CREATED:20250402T143441Z
LAST-MODIFIED:20250402T143441Z
UID:10000654-1743948000-1743958800@czigmeisterbrewing.com
SUMMARY:Sunday Acoustic Music: Madison Gerish
DESCRIPTION:2-5pm
URL:https://czigmeisterbrewing.com/event/sunday-acoustic-music-madison-gerish/
LOCATION:Czig Meister Brewery\, 106 Valentine Street\, Hackettstown\, NJ\, 07840\, United States
CATEGORIES:IN HOUSE
ATTACH;FMTTYPE=image/png:https://czigmeisterbrewing.com/wp-content/uploads/Sunday-Acoustic-Music-Website.png
END:VEVENT
BEGIN:VEVENT
DTSTART;TZID=America/New_York:20250410T190000
DTEND;TZID=America/New_York:20250410T220000
DTSTAMP:20260423T061408
CREATED:20250402T140510Z
LAST-MODIFIED:20250402T141336Z
UID:10000640-1744311600-1744322400@czigmeisterbrewing.com
SUMMARY:Trivia Night | Trivia Revolution
DESCRIPTION:Join us and trivia revolution for a night of useless facts\, hanging out with your pals\, and most importantly… craft beer! Test your knowledge\, win some prizes\, and have a good time
URL:https://czigmeisterbrewing.com/event/trivia-night-trivia-revolution-4/2025-04-10/
LOCATION:Czig Meister Brewery\, 106 Valentine Street\, Hackettstown\, NJ\, 07840\, United States
CATEGORIES:IN HOUSE
ATTACH;FMTTYPE=image/png:https://czigmeisterbrewing.com/wp-content/uploads/Trivia-Website-1-e1745940869244.png
END:VEVENT
BEGIN:VEVENT
DTSTART;TZID=America/New_York:20250411T190000
DTEND;TZID=America/New_York:20250411T210000
DTSTAMP:20260423T061408
CREATED:20241230T154418Z
LAST-MODIFIED:20250402T191659Z
UID:10000456-1744398000-1744405200@czigmeisterbrewing.com
SUMMARY:Beers & Bingo | Bingo Night!
DESCRIPTION:Join us for our once a month bingo night!
URL:https://czigmeisterbrewing.com/event/beers-bingo-bingo-night-2/2025-04-11/
LOCATION:Czig Meister Brewery\, 106 Valentine Street\, Hackettstown\, NJ\, 07840\, United States
CATEGORIES:IN HOUSE
ATTACH;FMTTYPE=image/png:https://czigmeisterbrewing.com/wp-content/uploads/Website-Event-Covers-2-32.png
END:VEVENT
BEGIN:VEVENT
DTSTART;TZID=America/New_York:20250412T120000
DTEND;TZID=America/New_York:20250412T200000
DTSTAMP:20260423T061408
CREATED:20250224T173800Z
LAST-MODIFIED:20250224T173800Z
UID:10000540-1744459200-1744488000@czigmeisterbrewing.com
SUMMARY:Food Truck | The Angry Chourico BBQ
DESCRIPTION:
URL:https://czigmeisterbrewing.com/event/food-truck-the-angry-chourico-bbq/
LOCATION:Czig Meister Brewery\, 106 Valentine Street\, Hackettstown\, NJ\, 07840\, United States
CATEGORIES:IN HOUSE
ATTACH;FMTTYPE=image/png:https://czigmeisterbrewing.com/wp-content/uploads/Angry-Chourico-Website.png
END:VEVENT
BEGIN:VEVENT
DTSTART;TZID=America/New_York:20250412T183000
DTEND;TZID=America/New_York:20250412T213000
DTSTAMP:20260423T061408
CREATED:20250224T175439Z
LAST-MODIFIED:20250224T175439Z
UID:10000541-1744482600-1744493400@czigmeisterbrewing.com
SUMMARY:Live Music | Mike Frank & Friends
DESCRIPTION:6:30pm -9:30pm | No cover
URL:https://czigmeisterbrewing.com/event/live-music-mike-frank-friends-3/
LOCATION:Czig Meister Brewery\, 106 Valentine Street\, Hackettstown\, NJ\, 07840\, United States
CATEGORIES:IN HOUSE
ATTACH;FMTTYPE=image/png:https://czigmeisterbrewing.com/wp-content/uploads/Generic-Live-Music-Website.png
END:VEVENT
BEGIN:VEVENT
DTSTART;TZID=America/New_York:20250413T130000
DTEND;TZID=America/New_York:20250413T140000
DTSTAMP:20260423T061408
CREATED:20250402T142911Z
LAST-MODIFIED:20250402T142911Z
UID:10000651-1744549200-1744552800@czigmeisterbrewing.com
SUMMARY:Grilled Cheese Pairing
DESCRIPTION:Join our friends from Fromage on April 13th at 1pm as they host a beer and artisinal grilled cheese pairing! Did you know April is National Grilled Cheese Month? What better way to celebrate than enjoying some fabulous cheeses from Fromage in Hackettstown! Only 20 spots available!\n\nTickets: https://czigmeister.ecwid.com/Beer-and-Grilled-Cheese…\n\nGrilled Cheeses and Beers TBD
URL:https://czigmeisterbrewing.com/event/grilled-cheese-pairing/
LOCATION:NJ
CATEGORIES:IN HOUSE
ATTACH;FMTTYPE=image/png:https://czigmeisterbrewing.com/wp-content/uploads/Grilled-Cheese-webite.png
END:VEVENT
BEGIN:VEVENT
DTSTART;TZID=America/New_York:20250413T140000
DTEND;TZID=America/New_York:20250413T170000
DTSTAMP:20260423T061408
CREATED:20250402T143325Z
LAST-MODIFIED:20250402T143325Z
UID:10000653-1744552800-1744563600@czigmeisterbrewing.com
SUMMARY:Sunday Acoustic Music: Maribyrd
DESCRIPTION:2-5pm
URL:https://czigmeisterbrewing.com/event/sunday-acoustic-music-maribyrd/
LOCATION:Czig Meister Brewery\, 106 Valentine Street\, Hackettstown\, NJ\, 07840\, United States
CATEGORIES:IN HOUSE
ATTACH;FMTTYPE=image/png:https://czigmeisterbrewing.com/wp-content/uploads/Sunday-Acoustic-Music-Website.png
END:VEVENT
BEGIN:VEVENT
DTSTART;VALUE=DATE:20250416
DTEND;VALUE=DATE:20250417
DTSTAMP:20260423T061408
CREATED:20250402T161141Z
LAST-MODIFIED:20250402T161141Z
UID:10000658-1744761600-1744847999@czigmeisterbrewing.com
SUMMARY:Beer Release: Hi-Cz Ecto-Plasm
DESCRIPTION:There’s something strange in your fridge…  Hi-Cz Ecto-Plasm debuts in cans on April 16th\, packed with real tangerines and spectral sourness. Who you gonna sip?
URL:https://czigmeisterbrewing.com/event/beer-release-hi-cz-ecto-plasm/
LOCATION:Czig Meister Brewery\, 106 Valentine Street\, Hackettstown\, NJ\, 07840\, United States
CATEGORIES:BEER RELEASES
ATTACH;FMTTYPE=image/png:https://czigmeisterbrewing.com/wp-content/uploads/Ecto-website-really.png
END:VEVENT
BEGIN:VEVENT
DTSTART;TZID=America/New_York:20250416T180000
DTEND;TZID=America/New_York:20250416T190000
DTSTAMP:20260423T061408
CREATED:20250402T143105Z
LAST-MODIFIED:20250402T143105Z
UID:10000652-1744826400-1744830000@czigmeisterbrewing.com
SUMMARY:Raise Your Glass\, Raise Your Score!
DESCRIPTION:Raising your glass is MUCH fun than raising your credit score.. so why choose?\n\nJoin us for a free class on April 16th from 6-7pm by Mortgage with Jen\, where she’ll teach you everything you need to know about building and maintaining your credit score
URL:https://czigmeisterbrewing.com/event/raise-your-glass-raise-your-score/
LOCATION:Czig Meister Brewery\, 106 Valentine Street\, Hackettstown\, NJ\, 07840\, United States
CATEGORIES:IN HOUSE
ATTACH;FMTTYPE=image/png:https://czigmeisterbrewing.com/wp-content/uploads/credit-score.png
END:VEVENT
END:VCALENDAR