BEGIN:VCALENDAR
VERSION:2.0
PRODID:-//Czig Meister Brewing Company - ECPv6.15.20//NONSGML v1.0//EN
CALSCALE:GREGORIAN
METHOD:PUBLISH
X-WR-CALNAME:Czig Meister Brewing Company
X-ORIGINAL-URL:https://czigmeisterbrewing.com
X-WR-CALDESC:Events for Czig Meister Brewing Company
REFRESH-INTERVAL;VALUE=DURATION:PT1H
X-Robots-Tag:noindex
X-PUBLISHED-TTL:PT1H
BEGIN:VTIMEZONE
TZID:America/New_York
BEGIN:DAYLIGHT
TZOFFSETFROM:-0500
TZOFFSETTO:-0400
TZNAME:EDT
DTSTART:20240310T070000
END:DAYLIGHT
BEGIN:STANDARD
TZOFFSETFROM:-0400
TZOFFSETTO:-0500
TZNAME:EST
DTSTART:20241103T060000
END:STANDARD
BEGIN:DAYLIGHT
TZOFFSETFROM:-0500
TZOFFSETTO:-0400
TZNAME:EDT
DTSTART:20250309T070000
END:DAYLIGHT
BEGIN:STANDARD
TZOFFSETFROM:-0400
TZOFFSETTO:-0500
TZNAME:EST
DTSTART:20251102T060000
END:STANDARD
BEGIN:DAYLIGHT
TZOFFSETFROM:-0500
TZOFFSETTO:-0400
TZNAME:EDT
DTSTART:20260308T070000
END:DAYLIGHT
BEGIN:STANDARD
TZOFFSETFROM:-0400
TZOFFSETTO:-0500
TZNAME:EST
DTSTART:20261101T060000
END:STANDARD
END:VTIMEZONE
BEGIN:VEVENT
DTSTART;VALUE=DATE:20250116
DTEND;VALUE=DATE:20250117
DTSTAMP:20260422T162527
CREATED:20241220T185055Z
LAST-MODIFIED:20250116T153842Z
UID:10000445-1736985600-1737071999@czigmeisterbrewing.com
SUMMARY:Trivia Night | Trivia Revolution
DESCRIPTION:
URL:https://czigmeisterbrewing.com/event/trivia-night-trivia-revolution-2/2025-01-16/
LOCATION:Czig Meister Brewery\, 106 Valentine Street\, Hackettstown\, NJ\, 07840\, United States
CATEGORIES:IN HOUSE
ATTACH;FMTTYPE=image/png:https://czigmeisterbrewing.com/wp-content/uploads/Trivia-Website-1-e1745940869244.png
END:VEVENT
BEGIN:VEVENT
DTSTART;VALUE=DATE:20250116
DTEND;VALUE=DATE:20250117
DTSTAMP:20260422T162527
CREATED:20250103T160059Z
LAST-MODIFIED:20250103T175940Z
UID:10000459-1736985600-1737071999@czigmeisterbrewing.com
SUMMARY:Beer Release: Deep Sea Series Rogue Wave
DESCRIPTION:Rogue Wave is making some waves as it returns to the Deep Sea Series! Bright and punchy\, this 7% NEIPA is brewed with Mosaic\, Idaho 7\, and El Dorado hops and is a brand new addition to our line up. Notes of grapefruit peel\, light mango\, pineapple\, & pear give us exactly what we’re looking for with a slight dankness at the end. Available in liquor stores\, at the brewery\, and for home delivery starting January 16th.\n\n\n\nPairs with: Spicy food like Nashville Hot Chicken\, nutty cheeses like a smoked Gruyère\, and earthy dishes like stuffed mushrooms.
URL:https://czigmeisterbrewing.com/event/beer-release-deep-sea-series-rogue-wave-2/
LOCATION:Czig Meister Brewery\, 106 Valentine Street\, Hackettstown\, NJ\, 07840\, United States
CATEGORIES:BEER RELEASES
ATTACH;FMTTYPE=image/png:https://czigmeisterbrewing.com/wp-content/uploads/Rogue-Website-1.15.png
END:VEVENT
BEGIN:VEVENT
DTSTART;TZID=America/New_York:20250117T210000
DTEND;TZID=America/New_York:20250117T233000
DTSTAMP:20260422T162527
CREATED:20241212T201518Z
LAST-MODIFIED:20250117T205605Z
UID:10000442-1737147600-1737156600@czigmeisterbrewing.com
SUMMARY:The Lounge at Czig Meister | A Night of Prohibition
DESCRIPTION:Get your tickets now! https://czigmeister.ecwid.com/Shhh-The-Lounge-at-Czig-Meister-21-9-00-Midnight-p712900833 \nListen up\, pals. We’re throwing a big shindig on Friday\, January 17th\, to mark the saddest day in history. \nThat’s right\, the day they outlawed the giggle water. But we’re not gonna let that stop us from having a good time. We’ve got a cozy joint at The Lounge at Czig Meister\, where you can wet your whistle and cut a rug. But you’ll need a password to get past the door\, and only 110 tickets are up for grabs. \nSo hurry up and get yours before they’re gone\, for this one-night-only affair that’s the cat’s pajamas.\nTicket space is limited for this one only night event you do not want to miss. \n$15 ticket gets you:\nPassword to get in (emailed the week of the event)\nLive 1920s Jazz Band – Vintage Vibe Tribe\nComplimentary “welcome” champagne upon arrival \nTickets available here: https://czigmeister.ecwid.com/Shhh-The-Lounge-at-Czig-Meister-21-9-00-Midnight-p712900833
URL:https://czigmeisterbrewing.com/event/the-lounge-at-czig-meister-a-night-of-prohibition/
LOCATION:Czig Meister Brewery\, 106 Valentine Street\, Hackettstown\, NJ\, 07840\, United States
CATEGORIES:Featured,IN HOUSE
ATTACH;FMTTYPE=image/png:https://czigmeisterbrewing.com/wp-content/uploads/Website-Event-Covers-2-70.png
END:VEVENT
BEGIN:VEVENT
DTSTART;TZID=America/New_York:20250118T183000
DTEND;TZID=America/New_York:20250118T213000
DTSTAMP:20260422T162527
CREATED:20241220T192729Z
LAST-MODIFIED:20250103T162416Z
UID:10000447-1737225000-1737235800@czigmeisterbrewing.com
SUMMARY:Winter Live Music Series | Foster Children
DESCRIPTION:6:30-9:30 | No cover
URL:https://czigmeisterbrewing.com/event/winter-live-music-series-foster-children/
LOCATION:Czig Meister Brewery\, 106 Valentine Street\, Hackettstown\, NJ\, 07840\, United States
CATEGORIES:IN HOUSE
ATTACH;FMTTYPE=image/png:https://czigmeisterbrewing.com/wp-content/uploads/Website-Event-Covers-2-62.png
END:VEVENT
BEGIN:VEVENT
DTSTART;TZID=America/New_York:20250125T183000
DTEND;TZID=America/New_York:20250125T220000
DTSTAMP:20260422T162527
CREATED:20250124T165413Z
LAST-MODIFIED:20250124T165413Z
UID:10000489-1737829800-1737842400@czigmeisterbrewing.com
SUMMARY:Winter Live Music Series | Vinyl with Pauly Derin
DESCRIPTION:Pauly Derin of Uncle Stump spinning vinyl \n6:30pm -9:30pm | No cover
URL:https://czigmeisterbrewing.com/event/winter-live-music-series-vinyl-with-pauly-derin/
LOCATION:Czig Meister Brewery\, 106 Valentine Street\, Hackettstown\, NJ\, 07840\, United States
CATEGORIES:IN HOUSE
ATTACH;FMTTYPE=image/png:https://czigmeisterbrewing.com/wp-content/uploads/Website-Event-Covers-2-62.png
END:VEVENT
BEGIN:VEVENT
DTSTART;TZID=America/New_York:20250201T183000
DTEND;TZID=America/New_York:20250201T213000
DTSTAMP:20260422T162527
CREATED:20250103T162435Z
LAST-MODIFIED:20250103T162435Z
UID:10000460-1738434600-1738445400@czigmeisterbrewing.com
SUMMARY:Winter Live Music Series | Mike Frank & Friends
DESCRIPTION:6:30-9:30 | No cover
URL:https://czigmeisterbrewing.com/event/winter-live-music-series-mike-frank-friends/
LOCATION:Czig Meister Brewery\, 106 Valentine Street\, Hackettstown\, NJ\, 07840\, United States
CATEGORIES:IN HOUSE
ATTACH;FMTTYPE=image/png:https://czigmeisterbrewing.com/wp-content/uploads/Website-Event-Covers-2-62.png
END:VEVENT
BEGIN:VEVENT
DTSTART;TZID=America/New_York:20250202T130000
DTEND;TZID=America/New_York:20250202T140000
DTSTAMP:20260422T162527
CREATED:20250114T202341Z
LAST-MODIFIED:20250117T205249Z
UID:10000465-1738501200-1738504800@czigmeisterbrewing.com
SUMMARY:Slider and Beer Pairing presented by Fromage
DESCRIPTION:Join Fromage at the brewery for a beer and slider pairing!\nIn this one hour course\, you’ll enjoy four beers expertly paired with four delicious sliders!\n\nTickets are $60\, and 20 seats are available: https://czigmeister.ecwid.com/Beer-&-Slider-Pairing-p719705605
URL:https://czigmeisterbrewing.com/event/slider-and-beer-pairing-presented-by-fromage/
LOCATION:Czig Meister Brewery\, 106 Valentine Street\, Hackettstown\, NJ\, 07840\, United States
CATEGORIES:IN HOUSE
ATTACH;FMTTYPE=image/png:https://czigmeisterbrewing.com/wp-content/uploads/Beer-and-Slider-Webstie.png
END:VEVENT
BEGIN:VEVENT
DTSTART;TZID=America/New_York:20250206T150000
DTEND;TZID=America/New_York:20250206T200000
DTSTAMP:20260422T162527
CREATED:20241119T204457Z
LAST-MODIFIED:20250116T172702Z
UID:10000482-1738854000-1738872000@czigmeisterbrewing.com
SUMMARY:Food Truck | Why Not Burgerz
DESCRIPTION:Featuring their special Chop Meister\, a chopped cheese made special for us!
URL:https://czigmeisterbrewing.com/event/food-truck-why-not-burgerz-3/2025-02-06/
LOCATION:NJ
CATEGORIES:IN HOUSE
ATTACH;FMTTYPE=image/png:https://czigmeisterbrewing.com/wp-content/uploads/Website-Event-Covers-2-20.png
END:VEVENT
BEGIN:VEVENT
DTSTART;TZID=America/New_York:20250206T190000
DTEND;TZID=America/New_York:20250206T220000
DTSTAMP:20260422T162527
CREATED:20250109T203248Z
LAST-MODIFIED:20250109T205221Z
UID:10000464-1738868400-1738879200@czigmeisterbrewing.com
SUMMARY:Love & Basketball: Rom Com and Sports Trivia
DESCRIPTION:The perfect blend of random knowledge as we head into Super Bowl & Valentines Day Season! Love & Basketball Trivia\, is exactly what it sounds like. Half the trivia will be questions about Rom Coms\, and the other half will be about all things sports! Free to play\, win some prizes\, and put your knowledge to the test with us.
URL:https://czigmeisterbrewing.com/event/love-basketball-rom-com-and-sports-trivia/
LOCATION:Czig Meister Brewery\, 106 Valentine Street\, Hackettstown\, NJ\, 07840\, United States
CATEGORIES:IN HOUSE
ATTACH;FMTTYPE=image/png:https://czigmeisterbrewing.com/wp-content/uploads/Love-and-Basketball-Website.png
END:VEVENT
BEGIN:VEVENT
DTSTART;TZID=America/New_York:20250208T140000
DTEND;TZID=America/New_York:20250208T200000
DTSTAMP:20260422T162527
CREATED:20250103T164302Z
LAST-MODIFIED:20250106T173455Z
UID:10000461-1739023200-1739044800@czigmeisterbrewing.com
SUMMARY:Food Truck | Cousins Maine Lobster
DESCRIPTION:2-9pm \nCheck out their website: https://www.cousinsmainelobster.com/locations/freehold-nj/
URL:https://czigmeisterbrewing.com/event/food-truck-cousins-maine-lobster-2/
LOCATION:Czig Meister Brewery\, 106 Valentine Street\, Hackettstown\, NJ\, 07840\, United States
CATEGORIES:IN HOUSE
ATTACH;FMTTYPE=image/png:https://czigmeisterbrewing.com/wp-content/uploads/Website-Event-Covers-2-36.png
END:VEVENT
BEGIN:VEVENT
DTSTART;TZID=America/New_York:20250208T183000
DTEND;TZID=America/New_York:20250208T220000
DTSTAMP:20260422T162527
CREATED:20250203T200419Z
LAST-MODIFIED:20250203T200419Z
UID:10000490-1739039400-1739052000@czigmeisterbrewing.com
SUMMARY:Winter Live Music Series | Vinyl with Paulie Derin
DESCRIPTION:Paulie Derin of Uncle Stump spinning vinyl \n6:30pm – 9:30pm | No cover
URL:https://czigmeisterbrewing.com/event/winter-live-music-series-vinyl-with-paulie-derin/
LOCATION:Czig Meister Brewery\, 106 Valentine Street\, Hackettstown\, NJ\, 07840\, United States
CATEGORIES:IN HOUSE
ATTACH;FMTTYPE=image/png:https://czigmeisterbrewing.com/wp-content/uploads/Website-Event-Covers-2-62.png
END:VEVENT
BEGIN:VEVENT
DTSTART;VALUE=DATE:20250212
DTEND;VALUE=DATE:20250213
DTSTAMP:20260422T162527
CREATED:20250116T171838Z
LAST-MODIFIED:20250116T171838Z
UID:10000481-1739318400-1739404799@czigmeisterbrewing.com
SUMMARY:Beer Release: 78 Fire Irish Red Ale
DESCRIPTION:We’re excited to announce the return of our collaboration with the Hackettstown Fire Department\, 78 Fire\, an Irish Red Ale! The Hackettstown Fire Department is a volunteer run fire department dedicated to property preservation\, and life safety within the Town of Hackettstown and provides mutual aid to numerous communities in both Warren\, Morris\, and Sussex Counties. A portion of the proceeds from 78 Fire will be donated directly to them and all they do. \n78 Fire Irish Red Ale- 78 Fire is a 6.3% traditional Irish Red Ale with notes of biscuit and toffee\, complemented by a nice rounded out light roast\, and a perfectly clean finish.
URL:https://czigmeisterbrewing.com/event/beer-release-78-fire-irish-red-ale/
LOCATION:Czig Meister Brewery\, 106 Valentine Street\, Hackettstown\, NJ\, 07840\, United States
CATEGORIES:BEER RELEASES
ATTACH;FMTTYPE=image/png:https://czigmeisterbrewing.com/wp-content/uploads/78-Fire-Website-2.png
END:VEVENT
BEGIN:VEVENT
DTSTART;TZID=America/New_York:20250212T180000
DTEND;TZID=America/New_York:20250212T193000
DTSTAMP:20260422T162527
CREATED:20250211T161422Z
LAST-MODIFIED:20250211T161422Z
UID:10000517-1739383200-1739388600@czigmeisterbrewing.com
SUMMARY:Beer and Chocolate Pairing ft. Mazur Chocolate
DESCRIPTION:Join us and Mazur Chocolate Labs for a Beer & Chocolate Pairing on February 12th! You’ll get a flight of four beers paired with four unique offerings from Mazur! \nFebruary 12th 6pm
URL:https://czigmeisterbrewing.com/event/beer-and-chocolate-pairing-ft-mazur-chocolate/
LOCATION:Czig Meister Brewery\, 106 Valentine Street\, Hackettstown\, NJ\, 07840\, United States
CATEGORIES:IN HOUSE
ATTACH;FMTTYPE=image/png:https://czigmeisterbrewing.com/wp-content/uploads/chocobeerwed.png
END:VEVENT
BEGIN:VEVENT
DTSTART;TZID=America/New_York:20250213T150000
DTEND;TZID=America/New_York:20250213T200000
DTSTAMP:20260422T162527
CREATED:20250213T152523Z
LAST-MODIFIED:20250213T152523Z
UID:10000483-1739458800-1739476800@czigmeisterbrewing.com
SUMMARY:Food Truck | Why Not Burgerz
DESCRIPTION:Featuring their special Chop Meister\, a chopped cheese made special for us!
URL:https://czigmeisterbrewing.com/event/food-truck-why-not-burgerz-3-2/
LOCATION:NJ
ATTACH;FMTTYPE=image/png:https://czigmeisterbrewing.com/wp-content/uploads/Website-Event-Covers-2-20.png
END:VEVENT
BEGIN:VEVENT
DTSTART;TZID=America/New_York:20250213T180000
DTEND;TZID=America/New_York:20250213T200000
DTSTAMP:20260422T162527
CREATED:20250204T190246Z
LAST-MODIFIED:20250204T190246Z
UID:10000492-1739469600-1739476800@czigmeisterbrewing.com
SUMMARY:Galentine's Day Paint & Sip
DESCRIPTION:Join us and Creative Culture Studios for a Galentine’s Day Paint & Sip! Includes instruction & your first pint to enjoy\, only 20 seats available! \nFebruary 13th 6pm
URL:https://czigmeisterbrewing.com/event/galentines-day-paint-sip/
LOCATION:Czig Meister Brewery\, 106 Valentine Street\, Hackettstown\, NJ\, 07840\, United States
CATEGORIES:IN HOUSE
ATTACH;FMTTYPE=image/png:https://czigmeisterbrewing.com/wp-content/uploads/Paint-and-siiiip-websipte.png
END:VEVENT
BEGIN:VEVENT
DTSTART;VALUE=DATE:20250214
DTEND;VALUE=DATE:20250215
DTSTAMP:20260422T162527
CREATED:20250210T150759Z
LAST-MODIFIED:20250210T150759Z
UID:10000512-1739491200-1739577599@czigmeisterbrewing.com
SUMMARY:Beer Release: Deep Sea Series Gleam
DESCRIPTION:Gleam returns on February 14th \nDeep Sea Series Gleam- 7.3% New England IPA | Typically brewed with Citra & Sabro hops\, we decided to add Bru-1\, one of our favorite experimental hops to round this beauty out. Expect piña colada forward notes\, with a slight dankness at the end. Available starting February 14th to-go in 4-packs\, and available for draft pours at the brewery.
URL:https://czigmeisterbrewing.com/event/beer-release-deep-sea-series-gleam/
LOCATION:Czig Meister Brewery\, 106 Valentine Street\, Hackettstown\, NJ\, 07840\, United States
CATEGORIES:BEER RELEASES
ATTACH;FMTTYPE=image/png:https://czigmeisterbrewing.com/wp-content/uploads/Gleam-Website-feb.png
END:VEVENT
BEGIN:VEVENT
DTSTART;TZID=America/New_York:20250214T190000
DTEND;TZID=America/New_York:20250214T210000
DTSTAMP:20260422T162527
CREATED:20241230T154418Z
LAST-MODIFIED:20250402T191659Z
UID:10000454-1739559600-1739566800@czigmeisterbrewing.com
SUMMARY:Beers & Bingo | Bingo Night!
DESCRIPTION:Join us for our once a month bingo night!
URL:https://czigmeisterbrewing.com/event/beers-bingo-bingo-night-2/2025-02-14/
LOCATION:Czig Meister Brewery\, 106 Valentine Street\, Hackettstown\, NJ\, 07840\, United States
CATEGORIES:IN HOUSE
ATTACH;FMTTYPE=image/png:https://czigmeisterbrewing.com/wp-content/uploads/Website-Event-Covers-2-32.png
END:VEVENT
BEGIN:VEVENT
DTSTART;TZID=America/New_York:20250215T120000
DTEND;TZID=America/New_York:20250215T200000
DTSTAMP:20260422T162527
CREATED:20250117T163120Z
LAST-MODIFIED:20250117T163120Z
UID:10000486-1739620800-1739649600@czigmeisterbrewing.com
SUMMARY:Food Truck | DiMa's Bistro
DESCRIPTION:
URL:https://czigmeisterbrewing.com/event/food-truck-dimas-bistro/
LOCATION:Czig Meister Brewery\, 106 Valentine Street\, Hackettstown\, NJ\, 07840\, United States
CATEGORIES:IN HOUSE
ATTACH;FMTTYPE=image/png:https://czigmeisterbrewing.com/wp-content/uploads/DiMas-Bistro-Website.png
END:VEVENT
BEGIN:VEVENT
DTSTART;TZID=America/New_York:20250215T120000
DTEND;TZID=America/New_York:20250215T220000
DTSTAMP:20260422T162527
CREATED:20250107T211617Z
LAST-MODIFIED:20250117T205718Z
UID:10000463-1739620800-1739656800@czigmeisterbrewing.com
SUMMARY:Stoutfest 2025
DESCRIPTION:On February 15th\, 2025\, StoutFest is back and better than ever. We’ll be tapping over 40 varieties of stouts throughout the day\, and its an event you’re not gonna want to miss. Keep an eye out for when we release the tap list in early February
URL:https://czigmeisterbrewing.com/event/stoutfest-2025/
LOCATION:Czig Meister Brewery\, 106 Valentine Street\, Hackettstown\, NJ\, 07840\, United States
CATEGORIES:Featured,IN HOUSE
ATTACH;FMTTYPE=image/png:https://czigmeisterbrewing.com/wp-content/uploads/Stoutfest-Website.png
END:VEVENT
BEGIN:VEVENT
DTSTART;TZID=America/New_York:20250216T120000
DTEND;TZID=America/New_York:20250216T170000
DTSTAMP:20260422T162527
CREATED:20250117T163142Z
LAST-MODIFIED:20250117T163238Z
UID:10000487-1739707200-1739725200@czigmeisterbrewing.com
SUMMARY:Food Truck | DiMa's Bistro
DESCRIPTION:
URL:https://czigmeisterbrewing.com/event/food-truck-dimas-bistro-2/
LOCATION:Czig Meister Brewery\, 106 Valentine Street\, Hackettstown\, NJ\, 07840\, United States
CATEGORIES:IN HOUSE
ATTACH;FMTTYPE=image/png:https://czigmeisterbrewing.com/wp-content/uploads/DiMas-Bistro-Website.png
END:VEVENT
BEGIN:VEVENT
DTSTART;TZID=America/New_York:20250216T140000
DTEND;TZID=America/New_York:20250216T160000
DTSTAMP:20260422T162527
CREATED:20250117T175711Z
LAST-MODIFIED:20250117T205051Z
UID:10000488-1739714400-1739721600@czigmeisterbrewing.com
SUMMARY:Winter Live Music Series | Madison Gerish Acoustic
DESCRIPTION:Madison Gerish of The Adventures of Matte Black \n2pm -4pm | No cover
URL:https://czigmeisterbrewing.com/event/winter-live-music-series-madison-gerish-acoustic/
LOCATION:Czig Meister Brewery\, 106 Valentine Street\, Hackettstown\, NJ\, 07840\, United States
CATEGORIES:IN HOUSE
ATTACH;FMTTYPE=image/png:https://czigmeisterbrewing.com/wp-content/uploads/Website-Event-Covers-2-62.png
END:VEVENT
BEGIN:VEVENT
DTSTART;TZID=America/New_York:20250219T180000
DTEND;TZID=America/New_York:20250219T193000
DTSTAMP:20260422T162527
CREATED:20250207T201816Z
LAST-MODIFIED:20250207T202135Z
UID:10000493-1739988000-1739993400@czigmeisterbrewing.com
SUMMARY:Adulting 101: Budgeting Basics
DESCRIPTION:Adulting…. feels hard sometimes. That’s why we asked the experts to show us the ropes! \nOur new Adulting 101 series is going to get you set for those topics we’re sometimes too afraid to ask questions about. For our first class\, Erin Madonna of Edward Jones Investments is here to teach their Budgeting 101 course to help you get your monies right.\nClass is $10 and includes your first drink! \nhttps://czigmeister.ecwid.com/Adulting-101-Budgeting-Basics-p725577550
URL:https://czigmeisterbrewing.com/event/adulting-101-budgeting-basics/
LOCATION:Czig Meister Brewery\, 106 Valentine Street\, Hackettstown\, NJ\, 07840\, United States
CATEGORIES:IN HOUSE
ATTACH;FMTTYPE=image/png:https://czigmeisterbrewing.com/wp-content/uploads/Adulting-Budeting-Website.png
END:VEVENT
BEGIN:VEVENT
DTSTART;VALUE=DATE:20250220
DTEND;VALUE=DATE:20250221
DTSTAMP:20260422T162527
CREATED:20241220T185055Z
LAST-MODIFIED:20250116T153842Z
UID:10000466-1740009600-1740095999@czigmeisterbrewing.com
SUMMARY:Trivia Night | Trivia Revolution
DESCRIPTION:
URL:https://czigmeisterbrewing.com/event/trivia-night-trivia-revolution-2/2025-02-20/
LOCATION:Czig Meister Brewery\, 106 Valentine Street\, Hackettstown\, NJ\, 07840\, United States
CATEGORIES:IN HOUSE
ATTACH;FMTTYPE=image/png:https://czigmeisterbrewing.com/wp-content/uploads/Trivia-Website-1-e1745940869244.png
END:VEVENT
BEGIN:VEVENT
DTSTART;TZID=America/New_York:20250220T150000
DTEND;TZID=America/New_York:20250220T200000
DTSTAMP:20260422T162527
CREATED:20241119T204457Z
LAST-MODIFIED:20250116T172702Z
UID:10000484-1740063600-1740081600@czigmeisterbrewing.com
SUMMARY:Food Truck | Why Not Burgerz
DESCRIPTION:Featuring their special Chop Meister\, a chopped cheese made special for us!
URL:https://czigmeisterbrewing.com/event/food-truck-why-not-burgerz-3/2025-02-20/
LOCATION:NJ
CATEGORIES:IN HOUSE
ATTACH;FMTTYPE=image/png:https://czigmeisterbrewing.com/wp-content/uploads/Website-Event-Covers-2-20.png
END:VEVENT
BEGIN:VEVENT
DTSTART;TZID=America/New_York:20250221T160000
DTEND;TZID=America/New_York:20250221T200000
DTSTAMP:20260422T162527
CREATED:20250207T214105Z
LAST-MODIFIED:20250207T214105Z
UID:10000494-1740153600-1740168000@czigmeisterbrewing.com
SUMMARY:Food Truck | The Greek Kitchen
DESCRIPTION:
URL:https://czigmeisterbrewing.com/event/food-truck-the-greek-kitchen/
LOCATION:Czig Meister Brewery\, 106 Valentine Street\, Hackettstown\, NJ\, 07840\, United States
CATEGORIES:IN HOUSE
ATTACH;FMTTYPE=image/png:https://czigmeisterbrewing.com/wp-content/uploads/Greek-Kitchen-Website.png
END:VEVENT
BEGIN:VEVENT
DTSTART;TZID=America/New_York:20250221T180000
DTEND;TZID=America/New_York:20250221T220000
DTSTAMP:20260422T162527
CREATED:20250214T145243Z
LAST-MODIFIED:20250217T193615Z
UID:10000527-1740160800-1740175200@czigmeisterbrewing.com
SUMMARY:78 Fire Release Party
DESCRIPTION:Join us and the HFD for an evening of celebrating our collaboration for 78 Fire\, our Irish Red Ale! \nLive Music 6:30-9:30 Jesse Bardwell Trio\nThe Greek Kitchen Food Truck 4-8pm
URL:https://czigmeisterbrewing.com/event/78-fire-release-party/
LOCATION:Czig Meister Brewery\, 106 Valentine Street\, Hackettstown\, NJ\, 07840\, United States
CATEGORIES:IN HOUSE
ATTACH;FMTTYPE=image/png:https://czigmeisterbrewing.com/wp-content/uploads/78-Fire-Release-Party.png
END:VEVENT
BEGIN:VEVENT
DTSTART;TZID=America/New_York:20250221T183000
DTEND;TZID=America/New_York:20250221T213000
DTSTAMP:20260422T162527
CREATED:20250217T192954Z
LAST-MODIFIED:20250217T193431Z
UID:10000531-1740162600-1740173400@czigmeisterbrewing.com
SUMMARY:Winter Live Music Series | Jesse Bardwell Trio
DESCRIPTION:6:30pm -9:30pm | No cover
URL:https://czigmeisterbrewing.com/event/winter-live-music-series-jesse-bardwell-trio/
LOCATION:Czig Meister Brewery\, 106 Valentine Street\, Hackettstown\, NJ\, 07840\, United States
CATEGORIES:IN HOUSE
ATTACH;FMTTYPE=image/png:https://czigmeisterbrewing.com/wp-content/uploads/Website-Event-Covers-2-62.png
END:VEVENT
BEGIN:VEVENT
DTSTART;TZID=America/New_York:20250222T183000
DTEND;TZID=America/New_York:20250222T213000
DTSTAMP:20260422T162527
CREATED:20250210T145920Z
LAST-MODIFIED:20250210T145920Z
UID:10000510-1740249000-1740259800@czigmeisterbrewing.com
SUMMARY:Winter Live Music Series | Mike Lawlor Banned
DESCRIPTION:6:30pm -9:30pm | No cover
URL:https://czigmeisterbrewing.com/event/winter-live-music-series-mike-lawlor-banned/
LOCATION:Czig Meister Brewery\, 106 Valentine Street\, Hackettstown\, NJ\, 07840\, United States
CATEGORIES:IN HOUSE
ATTACH;FMTTYPE=image/png:https://czigmeisterbrewing.com/wp-content/uploads/Website-Event-Covers-2-62.png
END:VEVENT
BEGIN:VEVENT
DTSTART;TZID=America/New_York:20250223T140000
DTEND;TZID=America/New_York:20250223T170000
DTSTAMP:20260422T162527
CREATED:20250210T150024Z
LAST-MODIFIED:20250210T150024Z
UID:10000511-1740319200-1740330000@czigmeisterbrewing.com
SUMMARY:Winter Live Music Series | Jesse Bardwell and Harry Noble
DESCRIPTION:2pm -5pm | No cover
URL:https://czigmeisterbrewing.com/event/winter-live-music-series-jesse-bardwell-and-harry-noble/
LOCATION:Czig Meister Brewery\, 106 Valentine Street\, Hackettstown\, NJ\, 07840\, United States
CATEGORIES:IN HOUSE
ATTACH;FMTTYPE=image/png:https://czigmeisterbrewing.com/wp-content/uploads/Website-Event-Covers-2-62.png
END:VEVENT
BEGIN:VEVENT
DTSTART;TZID=America/New_York:20250226T180000
DTEND;TZID=America/New_York:20250226T200000
DTSTAMP:20260422T162527
CREATED:20250220T190724Z
LAST-MODIFIED:20250225T141743Z
UID:10000532-1740592800-1740600000@czigmeisterbrewing.com
SUMMARY:Spring Paint & Sip
DESCRIPTION:Spring is right around the corner\, right?…RIGHT?! \nWhile Spring hasn’t sprung yet in Hackettstown\, these gorgeous wooden signs from are guaranteed to bring you a sunny day. Join Czig Meister & Crafting With Staci for a Paint & Sip and welcome spring with a new sign!\nTickets include your first pint as you enjoy a guided paint and sip! \n  \nGet tickets here! https://czigmeister.ecwid.com/February-26th-Spring-Paint-&-Sip-p728314796
URL:https://czigmeisterbrewing.com/event/spring-paint-sip/
LOCATION:Czig Meister Brewery\, 106 Valentine Street\, Hackettstown\, NJ\, 07840\, United States
CATEGORIES:IN HOUSE
ATTACH;FMTTYPE=image/png:https://czigmeisterbrewing.com/wp-content/uploads/Paint-and-Sip-2.32.png
END:VEVENT
END:VCALENDAR