BEGIN:VCALENDAR
VERSION:2.0
PRODID:-//Czig Meister Brewing Company - ECPv6.15.20//NONSGML v1.0//EN
CALSCALE:GREGORIAN
METHOD:PUBLISH
X-ORIGINAL-URL:https://czigmeisterbrewing.com
X-WR-CALDESC:Events for Czig Meister Brewing Company
REFRESH-INTERVAL;VALUE=DURATION:PT1H
X-Robots-Tag:noindex
X-PUBLISHED-TTL:PT1H
BEGIN:VTIMEZONE
TZID:America/New_York
BEGIN:DAYLIGHT
TZOFFSETFROM:-0500
TZOFFSETTO:-0400
TZNAME:EDT
DTSTART:20250309T070000
END:DAYLIGHT
BEGIN:STANDARD
TZOFFSETFROM:-0400
TZOFFSETTO:-0500
TZNAME:EST
DTSTART:20251102T060000
END:STANDARD
BEGIN:DAYLIGHT
TZOFFSETFROM:-0500
TZOFFSETTO:-0400
TZNAME:EDT
DTSTART:20260308T070000
END:DAYLIGHT
BEGIN:STANDARD
TZOFFSETFROM:-0400
TZOFFSETTO:-0500
TZNAME:EST
DTSTART:20261101T060000
END:STANDARD
BEGIN:DAYLIGHT
TZOFFSETFROM:-0500
TZOFFSETTO:-0400
TZNAME:EDT
DTSTART:20270314T070000
END:DAYLIGHT
BEGIN:STANDARD
TZOFFSETFROM:-0400
TZOFFSETTO:-0500
TZNAME:EST
DTSTART:20271107T060000
END:STANDARD
END:VTIMEZONE
BEGIN:VEVENT
DTSTART;TZID=America/New_York:20260314T190000
DTEND;TZID=America/New_York:20260314T230000
DTSTAMP:20260423T113015
CREATED:20260206T160515Z
LAST-MODIFIED:20260206T160515Z
UID:10001716-1773514800-1773529200@czigmeisterbrewing.com
SUMMARY:Brewsology Beer Fest
DESCRIPTION:Saturday\, March 14th 7pm-11pm \nThe Brewsology Beer Fest is the boozy hybrid of your middle school museum field trip. Taking over the Liberty Science Center after hours\, the event will feature dozens of local craft breweries and cideries and will give attendees access throughout the museum including exhibits\, science demonstrations and access to brewery reps.
URL:https://czigmeisterbrewing.com/event/brewsology-beer-fest/
LOCATION:Liberty Science Center\, 222 Jersey City Blvd.\, Jersey City\, NJ\, 07305\, United States
CATEGORIES:OUTDOOR BEER FESTIVALS
END:VEVENT
BEGIN:VEVENT
DTSTART;TZID=America/New_York:20260321T180000
DTEND;TZID=America/New_York:20260321T213000
DTSTAMP:20260423T113015
CREATED:20260219T155650Z
LAST-MODIFIED:20260219T155650Z
UID:10001725-1774116000-1774128600@czigmeisterbrewing.com
SUMMARY:Jersey City Brew Fest.
DESCRIPTION:The return of the Jersey city beer festival on Saturday march 21\, 2026  to the harborside atrium in jersey city\, NJ will be held between 6PM-9:30PM ( 10 years running)  \n \nCzig Meister Brewing will be at this festival. Stop by and say Hi.
URL:https://czigmeisterbrewing.com/event/jersey-city-brew-fest/
CATEGORIES:OUTDOOR BEER FESTIVALS
END:VEVENT
END:VCALENDAR