BEGIN:VCALENDAR
VERSION:2.0
PRODID:-//Czig Meister Brewing Company - ECPv6.15.20//NONSGML v1.0//EN
CALSCALE:GREGORIAN
METHOD:PUBLISH
X-ORIGINAL-URL:https://czigmeisterbrewing.com
X-WR-CALDESC:Events for Czig Meister Brewing Company
REFRESH-INTERVAL;VALUE=DURATION:PT1H
X-Robots-Tag:noindex
X-PUBLISHED-TTL:PT1H
BEGIN:VTIMEZONE
TZID:America/New_York
BEGIN:DAYLIGHT
TZOFFSETFROM:-0500
TZOFFSETTO:-0400
TZNAME:EDT
DTSTART:20230312T070000
END:DAYLIGHT
BEGIN:STANDARD
TZOFFSETFROM:-0400
TZOFFSETTO:-0500
TZNAME:EST
DTSTART:20231105T060000
END:STANDARD
BEGIN:DAYLIGHT
TZOFFSETFROM:-0500
TZOFFSETTO:-0400
TZNAME:EDT
DTSTART:20240310T070000
END:DAYLIGHT
BEGIN:STANDARD
TZOFFSETFROM:-0400
TZOFFSETTO:-0500
TZNAME:EST
DTSTART:20241103T060000
END:STANDARD
BEGIN:DAYLIGHT
TZOFFSETFROM:-0500
TZOFFSETTO:-0400
TZNAME:EDT
DTSTART:20250309T070000
END:DAYLIGHT
BEGIN:STANDARD
TZOFFSETFROM:-0400
TZOFFSETTO:-0500
TZNAME:EST
DTSTART:20251102T060000
END:STANDARD
END:VTIMEZONE
BEGIN:VEVENT
DTSTART;VALUE=DATE:20240412
DTEND;VALUE=DATE:20240414
DTSTAMP:20260425T112000
CREATED:20240227T164647Z
LAST-MODIFIED:20240227T164647Z
UID:10000208-1712880000-1713052799@czigmeisterbrewing.com
SUMMARY:Atlantic City Beer and Music Festival
DESCRIPTION:The OG spring festival returns to the Atlantic City Convention Center on Friday\, April 12th and Saturday\, April 13th\, featuring three lively sessions. You’ll get to savor brews from 100 craft breweries\, groove to live music savor delicious grub\, explore cool vendors\, and enjoy some shenanigans. Don’t forget the fan-favorite HOPS TROT 5K returning on Saturday\, April 13th! \nThe Atlantic City Beer & Music Festival\nSession #1 Friday April 12th 8pm to 12am\nFeaturing Hot Mulligan \nSession #2 Saturday April 13th 12pm to 4pm Featuring the HOPS TROT 5k\nFeaturing Saves the Day \nSession #3 Saturday April 13th 6pm to 10pm\nFeaturing Goldfinger \nTickets on sale now. https://www.ticketmaster.com/atlantic-city-beer-music-festival-tickets/artist/1784994
URL:https://czigmeisterbrewing.com/event/atlantic-city-beer-and-music-festival/
LOCATION:Atlantic City Convention Center\, 1 Convention Blvd.\, Atlantic City\, NJ\, 08401\, United States
CATEGORIES:OUTDOOR BEER FESTIVALS
ATTACH;FMTTYPE=image/jpeg:https://czigmeisterbrewing.com/wp-content/uploads/ACBeerFest-2024.jpg
END:VEVENT
BEGIN:VEVENT
DTSTART;VALUE=DATE:20240426
DTEND;VALUE=DATE:20240428
DTSTAMP:20260425T112000
CREATED:20240425T142003Z
LAST-MODIFIED:20240425T142003Z
UID:10000241-1714089600-1714262399@czigmeisterbrewing.com
SUMMARY:Montage Mountain Brewfest!
DESCRIPTION:Join us for the Montage Mountain Brewfest on Friday\, April 26th and Saturday\, April 27th! Come and enjoy the latest and greatest craft brews\, seltzers\, and canned cocktails on the market along with live music\, vendors\, food and more! With 1 exclusive VIP Session and 2 General Admission Sessions over 2 days\, the festival offers something fun for everyone! Our VIP Session sells out every year with only 400 tickets available making for an intimate and crowd free experience with the brewers! Sample brews from both international and local breweries\, shop specialty vendors\, sample local spirits\, or learn more about brewing at Beer School. Brewfest is a rain or shine event hosted inside the lodge and outside around the resort creating plenty of space to kick back and enjoy some beer. We’ll see you all at the Montage Mountain Brewfest! \nGet Tickets: Click this link! \n***VIP EXPERIENCE***\n$64 Pre-Sale – $80 Door\nSaturday – VIP – 12pm-3:30pm\nThe VIP Session at Montage Mountain Spring Brewfest is your ticket to the best session for craft brew lovers of the weekend! NEW for this year\, we’ll welcome Beer School to the Main Stage inside the lodge to enjoy some brew specific topics and speakers talking everything craft brew! Included in your VIP Package\, you’ll enjoy festival entry\, unlimited beer sampling\, a commemorative tasting glass\, exclusive access to VIP Only Beers\, VIP swag\, and 5 food and brew pairings curated by our experienced in-house culinary team. The VIP Session is a relaxed atmosphere featuring first dibs on all the best beer varieties. \nVIP Tickets: Click this link! \n***GENERAL ADMISSION***\n$39 Pre-Sale – $55 Door\nSaturday 1-Hour Early Entry Add On – $20\nThe General Admission Sessions for the Montage Mountain Craft Brewfest feature over 100 hand selected craft brews\, seltzers\, and canned cocktails from breweries and distilleries across the nation and some of the finest locals in the area. Enjoy live entertainment\, food trucks\, and shop local vendors. Your ticket includes festival entry\, unlimited beer sampling\, and a commemorative tasting glass. NEW This year is our EARLY ACCESS PASS: 1-hour Early Entry to the Saturday 5:30pm General Admission Session allowing you to skip the line and enter at 4:30pm\, just a $20 add-on! Upgrade your GA ticket to beat your friends to the beer and snack on a bonus pretzel necklace too! \nFriday General Admission Tickets: Click this link! \nSaturday General Admission Tickets: Click this link! \nSaturday – Early Entry Add On Ticket: Click this link! \n*Limited tickets available\, sessions will sell out. Price goes up at the door!\n**Tickets are non-refundable if unredeemed. Event is for guests ages 21 and older.
URL:https://czigmeisterbrewing.com/event/montage-mountain-brewfest/
LOCATION:Montage Mountain Resorts\, 1000 Montage Mountain Rd.\, Scranton\, PA\, 18507\, United States
CATEGORIES:OUTDOOR BEER FESTIVALS
ATTACH;FMTTYPE=image/png:https://czigmeisterbrewing.com/wp-content/uploads/Montage-Brewfest-Website.png
END:VEVENT
END:VCALENDAR