BEGIN:VCALENDAR
VERSION:2.0
PRODID:-//Czig Meister Brewing Company - ECPv6.15.20//NONSGML v1.0//EN
CALSCALE:GREGORIAN
METHOD:PUBLISH
X-WR-CALNAME:Czig Meister Brewing Company
X-ORIGINAL-URL:https://czigmeisterbrewing.com
X-WR-CALDESC:Events for Czig Meister Brewing Company
REFRESH-INTERVAL;VALUE=DURATION:PT1H
X-Robots-Tag:noindex
X-PUBLISHED-TTL:PT1H
BEGIN:VTIMEZONE
TZID:America/New_York
BEGIN:DAYLIGHT
TZOFFSETFROM:-0500
TZOFFSETTO:-0400
TZNAME:EDT
DTSTART:20230312T070000
END:DAYLIGHT
BEGIN:STANDARD
TZOFFSETFROM:-0400
TZOFFSETTO:-0500
TZNAME:EST
DTSTART:20231105T060000
END:STANDARD
BEGIN:DAYLIGHT
TZOFFSETFROM:-0500
TZOFFSETTO:-0400
TZNAME:EDT
DTSTART:20240310T070000
END:DAYLIGHT
BEGIN:STANDARD
TZOFFSETFROM:-0400
TZOFFSETTO:-0500
TZNAME:EST
DTSTART:20241103T060000
END:STANDARD
BEGIN:DAYLIGHT
TZOFFSETFROM:-0500
TZOFFSETTO:-0400
TZNAME:EDT
DTSTART:20250309T070000
END:DAYLIGHT
BEGIN:STANDARD
TZOFFSETFROM:-0400
TZOFFSETTO:-0500
TZNAME:EST
DTSTART:20251102T060000
END:STANDARD
END:VTIMEZONE
BEGIN:VEVENT
DTSTART;VALUE=DATE:20240302
DTEND;VALUE=DATE:20240303
DTSTAMP:20260425T130108
CREATED:20240130T161611Z
LAST-MODIFIED:20240130T161611Z
UID:10000197-1709337600-1709423999@czigmeisterbrewing.com
SUMMARY:Big Brew Beer Festival - Morristown
DESCRIPTION:Join Morris Rugby & come Celebrate Northern New Jersey’s largest Beer Fest!\nSaturday March 4\, 2023\, The Big Brew Beer Fest Returns to the Morristown Armory!\nTwo Sessions with over 175 styles of craft beer\, fantastic music\, delicious food & wonderful vendors. \nSession 1 • 12-4pm Music by Naughty Humphrey\nSession 2 • 5:30-9:30pm Music by Mr LoveJoy \nA Benefit for Morris Rugby Corporation\nDelicious food\, great music\, vendors\, hatchet throwing & fun! \nTICKETS ON SALE NOW\nBigBrewNJ.com \n21 & older with picture ID\nNo outside Food\, Drink\, large bags or Coolers. No re-entry.
URL:https://czigmeisterbrewing.com/event/big-brew-beer-festival-morristown-2/
LOCATION:Morristown Armory\, 430 Western Ave.\, Morristown\, NJ\, 07960\, United States
CATEGORIES:OUTDOOR BEER FESTIVALS
ATTACH;FMTTYPE=image/jpeg:https://czigmeisterbrewing.com/wp-content/uploads/Big-Brew-2024.jpg
END:VEVENT
END:VCALENDAR