BEGIN:VCALENDAR
VERSION:2.0
PRODID:-//Czig Meister Brewing Company - ECPv6.15.20//NONSGML v1.0//EN
CALSCALE:GREGORIAN
METHOD:PUBLISH
X-ORIGINAL-URL:https://czigmeisterbrewing.com
X-WR-CALDESC:Events for Czig Meister Brewing Company
REFRESH-INTERVAL;VALUE=DURATION:PT1H
X-Robots-Tag:noindex
X-PUBLISHED-TTL:PT1H
BEGIN:VTIMEZONE
TZID:America/New_York
BEGIN:DAYLIGHT
TZOFFSETFROM:-0500
TZOFFSETTO:-0400
TZNAME:EDT
DTSTART:20250309T070000
END:DAYLIGHT
BEGIN:STANDARD
TZOFFSETFROM:-0400
TZOFFSETTO:-0500
TZNAME:EST
DTSTART:20251102T060000
END:STANDARD
BEGIN:DAYLIGHT
TZOFFSETFROM:-0500
TZOFFSETTO:-0400
TZNAME:EDT
DTSTART:20260308T070000
END:DAYLIGHT
BEGIN:STANDARD
TZOFFSETFROM:-0400
TZOFFSETTO:-0500
TZNAME:EST
DTSTART:20261101T060000
END:STANDARD
BEGIN:DAYLIGHT
TZOFFSETFROM:-0500
TZOFFSETTO:-0400
TZNAME:EDT
DTSTART:20270314T070000
END:DAYLIGHT
BEGIN:STANDARD
TZOFFSETFROM:-0400
TZOFFSETTO:-0500
TZNAME:EST
DTSTART:20271107T060000
END:STANDARD
END:VTIMEZONE
BEGIN:VEVENT
DTSTART;TZID=America/New_York:20260301T130000
DTEND;TZID=America/New_York:20260301T160000
DTSTAMP:20260425T180401
CREATED:20260217T141528Z
LAST-MODIFIED:20260217T141528Z
UID:10001717-1772370000-1772380800@czigmeisterbrewing.com
SUMMARY:Live Music: Madison Gerish
DESCRIPTION:On March 1st\, Live music from Madison Gerish at 1-4pm. \nKick back with a cold pint and enjoy some great live music!!
URL:https://czigmeisterbrewing.com/event/live-music-madison-gerish-4/
LOCATION:Czig Meister Brewery\, 106 Valentine Street\, Hackettstown\, NJ\, 07840\, United States
CATEGORIES:IN HOUSE
END:VEVENT
BEGIN:VEVENT
DTSTART;TZID=America/New_York:20260305T190000
DTEND;TZID=America/New_York:20260305T210000
DTSTAMP:20260425T180401
CREATED:20251020T140621Z
LAST-MODIFIED:20260318T125856Z
UID:10001409-1772737200-1772744400@czigmeisterbrewing.com
SUMMARY:Trivia Revolution
DESCRIPTION:Join us and trivia revolution for a night of useless facts\, hanging out with your pals\, and most importantly… craft beer! Test your knowledge\, win some prizes\, and have a good time!
URL:https://czigmeisterbrewing.com/event/trivia-revolution-3/2026-03-05/
LOCATION:Czig Meister Brewery\, 106 Valentine Street\, Hackettstown\, NJ\, 07840\, United States
CATEGORIES:Featured,IN HOUSE
ATTACH;FMTTYPE=image/png:https://czigmeisterbrewing.com/wp-content/uploads/Trivia-Website-1-e1745940869244.png
END:VEVENT
BEGIN:VEVENT
DTSTART;TZID=America/New_York:20260311T180000
DTEND;TZID=America/New_York:20260311T193000
DTSTAMP:20260425T180401
CREATED:20260206T154442Z
LAST-MODIFIED:20260206T154442Z
UID:10001712-1773252000-1773257400@czigmeisterbrewing.com
SUMMARY:Luck of the Icing Cookie Decorating Class
DESCRIPTION:Join The Painted Cookie for\, hands-on cookie decorating class!\n\nLearn step-by-step techniques as you decorate a festive set of cookies—no experience needed. All cookies are decorated by hand\, so designs may vary slightly from the examples shown.\n\nTickets: $40\nWhat’s included:Decorate 6 St. Patrick’s Day–themed mini cookiesAll supplies providedGuided\, step-by-step instruction1 beer included with each ticket\n\nPerfect for a night out\, a creative break\, or celebrating St. Patrick’s Day in a delicious way
URL:https://czigmeisterbrewing.com/event/luck-of-the-icing-cookie-decorating-class/
LOCATION:Czig Meister Brewery\, 106 Valentine Street\, Hackettstown\, NJ\, 07840\, United States
CATEGORIES:IN HOUSE
ATTACH;FMTTYPE=image/png:https://czigmeisterbrewing.com/wp-content/uploads/Website-Event-Covers-2-100.png
END:VEVENT
BEGIN:VEVENT
DTSTART;TZID=America/New_York:20260312T190000
DTEND;TZID=America/New_York:20260312T210000
DTSTAMP:20260425T180401
CREATED:20251020T140621Z
LAST-MODIFIED:20260318T125856Z
UID:10001410-1773342000-1773349200@czigmeisterbrewing.com
SUMMARY:Trivia Revolution
DESCRIPTION:Join us and trivia revolution for a night of useless facts\, hanging out with your pals\, and most importantly… craft beer! Test your knowledge\, win some prizes\, and have a good time!
URL:https://czigmeisterbrewing.com/event/trivia-revolution-3/2026-03-12/
LOCATION:Czig Meister Brewery\, 106 Valentine Street\, Hackettstown\, NJ\, 07840\, United States
CATEGORIES:Featured,IN HOUSE
ATTACH;FMTTYPE=image/png:https://czigmeisterbrewing.com/wp-content/uploads/Trivia-Website-1-e1745940869244.png
END:VEVENT
BEGIN:VEVENT
DTSTART;TZID=America/New_York:20260313T190000
DTEND;TZID=America/New_York:20260313T210000
DTSTAMP:20260425T180401
CREATED:20260206T154857Z
LAST-MODIFIED:20260206T154858Z
UID:10001713-1773428400-1773435600@czigmeisterbrewing.com
SUMMARY:Bingo Night
DESCRIPTION:Join us for our once a month bingo night!
URL:https://czigmeisterbrewing.com/event/bingo-night-8/
LOCATION:Czig Meister Brewery\, 106 Valentine Street\, Hackettstown\, NJ\, 07840\, United States
CATEGORIES:IN HOUSE
ATTACH;FMTTYPE=image/png:https://czigmeisterbrewing.com/wp-content/uploads/Bingo-1200-x-675-px-9.png
END:VEVENT
BEGIN:VEVENT
DTSTART;TZID=America/New_York:20260314T120000
DTEND;TZID=America/New_York:20260314T230000
DTSTAMP:20260425T180401
CREATED:20260206T155241Z
LAST-MODIFIED:20260217T191208Z
UID:10001714-1773489600-1773529200@czigmeisterbrewing.com
SUMMARY:Annual St. Patricks Party
DESCRIPTION:The Irish Harpers will be BACK for our annual St. Paddy’s Shindig!\n🎶 Live music starts at 7PM\n💵 $5 cover beginning at 6 PM \nWe’ll also be featuring a specialty beer and a food truck to keep the celebration going all night! \nWe will be open Noon-11pm
URL:https://czigmeisterbrewing.com/event/annual-st-patricks-party/
LOCATION:Czig Meister Brewery\, 106 Valentine Street\, Hackettstown\, NJ\, 07840\, United States
CATEGORIES:Featured,IN HOUSE
ATTACH;FMTTYPE=image/png:https://czigmeisterbrewing.com/wp-content/uploads/Window-Posters-1920-x-1080-px.png
END:VEVENT
BEGIN:VEVENT
DTSTART;TZID=America/New_York:20260317T120000
DTEND;TZID=America/New_York:20260317T200000
DTSTAMP:20260425T180401
CREATED:20260206T155857Z
LAST-MODIFIED:20260206T155857Z
UID:10001715-1773748800-1773777600@czigmeisterbrewing.com
SUMMARY:St. Patrick's Day Open
DESCRIPTION:St. Patrick’s Day is better with beer! 🍺💚 \nWe’ll be open 12–8 PM\, so swing by the brewery\, grab a pint (or two)\, and celebrate with us.
URL:https://czigmeisterbrewing.com/event/st-patricks-day-open/
LOCATION:Czig Meister Brewery\, 106 Valentine Street\, Hackettstown\, NJ\, 07840\, United States
CATEGORIES:IN HOUSE
ATTACH;FMTTYPE=image/png:https://czigmeisterbrewing.com/wp-content/uploads/Bingo-1200-x-675-px-10.png
END:VEVENT
BEGIN:VEVENT
DTSTART;TZID=America/New_York:20260319T190000
DTEND;TZID=America/New_York:20260319T210000
DTSTAMP:20260425T180401
CREATED:20251020T140621Z
LAST-MODIFIED:20260318T125856Z
UID:10001411-1773946800-1773954000@czigmeisterbrewing.com
SUMMARY:Trivia Revolution
DESCRIPTION:Join us and trivia revolution for a night of useless facts\, hanging out with your pals\, and most importantly… craft beer! Test your knowledge\, win some prizes\, and have a good time!
URL:https://czigmeisterbrewing.com/event/trivia-revolution-3/2026-03-19/
LOCATION:Czig Meister Brewery\, 106 Valentine Street\, Hackettstown\, NJ\, 07840\, United States
CATEGORIES:Featured,IN HOUSE
ATTACH;FMTTYPE=image/png:https://czigmeisterbrewing.com/wp-content/uploads/Trivia-Website-1-e1745940869244.png
END:VEVENT
BEGIN:VEVENT
DTSTART;TZID=America/New_York:20260321T183000
DTEND;TZID=America/New_York:20260321T213000
DTSTAMP:20260425T180401
CREATED:20260219T154056Z
LAST-MODIFIED:20260219T154057Z
UID:10001723-1774117800-1774128600@czigmeisterbrewing.com
SUMMARY:Live Music: Harmony Garage Band
DESCRIPTION:On March 21st\, Live music from Harmony Garage Band at 6:30-9:30pm. \nKick back with a cold pint and enjoy some great live music!!
URL:https://czigmeisterbrewing.com/event/live-music-harmony-garage-band-2/
LOCATION:Czig Meister Brewery\, 106 Valentine Street\, Hackettstown\, NJ\, 07840\, United States
CATEGORIES:IN HOUSE
END:VEVENT
BEGIN:VEVENT
DTSTART;TZID=America/New_York:20260322T130000
DTEND;TZID=America/New_York:20260322T160000
DTSTAMP:20260425T180401
CREATED:20260219T154810Z
LAST-MODIFIED:20260219T154810Z
UID:10001724-1774184400-1774195200@czigmeisterbrewing.com
SUMMARY:Live Music: Jimmy Pink
DESCRIPTION:On March 22nd\, Live music from Jimmy Pink at 1-4pm. \nKick back with a cold pint and enjoy some great live music!!
URL:https://czigmeisterbrewing.com/event/live-music-jimmy-pink-2/
LOCATION:Czig Meister Brewery\, 106 Valentine Street\, Hackettstown\, NJ\, 07840\, United States
CATEGORIES:IN HOUSE
END:VEVENT
BEGIN:VEVENT
DTSTART;TZID=America/New_York:20260326T190000
DTEND;TZID=America/New_York:20260326T210000
DTSTAMP:20260425T180401
CREATED:20251020T140621Z
LAST-MODIFIED:20260318T125856Z
UID:10001412-1774551600-1774558800@czigmeisterbrewing.com
SUMMARY:Trivia Revolution
DESCRIPTION:Join us and trivia revolution for a night of useless facts\, hanging out with your pals\, and most importantly… craft beer! Test your knowledge\, win some prizes\, and have a good time!
URL:https://czigmeisterbrewing.com/event/trivia-revolution-3/2026-03-26/
LOCATION:Czig Meister Brewery\, 106 Valentine Street\, Hackettstown\, NJ\, 07840\, United States
CATEGORIES:Featured,IN HOUSE
ATTACH;FMTTYPE=image/png:https://czigmeisterbrewing.com/wp-content/uploads/Trivia-Website-1-e1745940869244.png
END:VEVENT
BEGIN:VEVENT
DTSTART;TZID=America/New_York:20260327T190000
DTEND;TZID=America/New_York:20260327T210000
DTSTAMP:20260425T180401
CREATED:20260310T144235Z
LAST-MODIFIED:20260310T144235Z
UID:10001729-1774638000-1774645200@czigmeisterbrewing.com
SUMMARY:Music Bingo
DESCRIPTION:Join us with Revolution Entertainment for a night of Music Bingo! 🎶 It’s free to play and packed with great tunes\, awesome prizes\, and of course\, great beer. Grab your friends and get ready for a fun night out! \nFriday\, March 27th 7-9pm
URL:https://czigmeisterbrewing.com/event/music-bingo-2/
LOCATION:Czig Meister Brewery\, 106 Valentine Street\, Hackettstown\, NJ\, 07840\, United States
CATEGORIES:IN HOUSE
END:VEVENT
BEGIN:VEVENT
DTSTART;TZID=America/New_York:20260328T183000
DTEND;TZID=America/New_York:20260328T213000
DTSTAMP:20260425T180401
CREATED:20260219T160531Z
LAST-MODIFIED:20260219T160532Z
UID:10001726-1774722600-1774733400@czigmeisterbrewing.com
SUMMARY:Live Music: CC Roots
DESCRIPTION:On March 28th\, Live music from CC Roots at 6:30-9:30pm. \nKick back with a cold pint and enjoy some great live music!!
URL:https://czigmeisterbrewing.com/event/live-music-cc-roots/
LOCATION:Czig Meister Brewery\, 106 Valentine Street\, Hackettstown\, NJ\, 07840\, United States
CATEGORIES:IN HOUSE
END:VEVENT
BEGIN:VEVENT
DTSTART;TZID=America/New_York:20260329T140000
DTEND;TZID=America/New_York:20260329T170000
DTSTAMP:20260425T180401
CREATED:20260219T160652Z
LAST-MODIFIED:20260219T160652Z
UID:10001727-1774792800-1774803600@czigmeisterbrewing.com
SUMMARY:Live Music: Declan O'Hara
DESCRIPTION:On March 29th\, Live music from Declan O’Hara at 2-5pm. \nKick back with a cold pint and enjoy some great live music!!
URL:https://czigmeisterbrewing.com/event/live-music-declan-ohara/
LOCATION:Czig Meister Brewery\, 106 Valentine Street\, Hackettstown\, NJ\, 07840\, United States
CATEGORIES:IN HOUSE
END:VEVENT
BEGIN:VEVENT
DTSTART;TZID=America/New_York:20260402T190000
DTEND;TZID=America/New_York:20260402T210000
DTSTAMP:20260425T180401
CREATED:20251020T140621Z
LAST-MODIFIED:20260318T125856Z
UID:10001413-1775156400-1775163600@czigmeisterbrewing.com
SUMMARY:Trivia Revolution
DESCRIPTION:Join us and trivia revolution for a night of useless facts\, hanging out with your pals\, and most importantly… craft beer! Test your knowledge\, win some prizes\, and have a good time!
URL:https://czigmeisterbrewing.com/event/trivia-revolution-3/2026-04-02/
LOCATION:Czig Meister Brewery\, 106 Valentine Street\, Hackettstown\, NJ\, 07840\, United States
CATEGORIES:Featured,IN HOUSE
ATTACH;FMTTYPE=image/png:https://czigmeisterbrewing.com/wp-content/uploads/Trivia-Website-1-e1745940869244.png
END:VEVENT
BEGIN:VEVENT
DTSTART;TZID=America/New_York:20260404T183000
DTEND;TZID=America/New_York:20260404T213000
DTSTAMP:20260425T180401
CREATED:20260318T122738Z
LAST-MODIFIED:20260318T122739Z
UID:10001732-1775327400-1775338200@czigmeisterbrewing.com
SUMMARY:Live Music: Mosey Beat
DESCRIPTION:On April 4th\, Live music from Mosey Beat 6:30-9:30pm. \nKick back with a cold pint and enjoy some great live music!!
URL:https://czigmeisterbrewing.com/event/live-music-mosey-beat-3/
LOCATION:Czig Meister Brewery\, 106 Valentine Street\, Hackettstown\, NJ\, 07840\, United States
CATEGORIES:IN HOUSE
END:VEVENT
BEGIN:VEVENT
DTSTART;VALUE=DATE:20260405
DTEND;VALUE=DATE:20260406
DTSTAMP:20260425T180401
CREATED:20260318T123119Z
LAST-MODIFIED:20260318T123119Z
UID:10001733-1775347200-1775433599@czigmeisterbrewing.com
SUMMARY:Closed on Easter
DESCRIPTION:Happy Easter!! 🐣🌷 The brewery is closed today so our team can celebrate. We’ll be back open Wednesday\, April 8th—see you then! Have a wonderful Easter Sunday 💛🍻
URL:https://czigmeisterbrewing.com/event/closed-on-easter/
LOCATION:Czig Meister Brewery\, 106 Valentine Street\, Hackettstown\, NJ\, 07840\, United States
CATEGORIES:IN HOUSE
END:VEVENT
BEGIN:VEVENT
DTSTART;TZID=America/New_York:20260409T190000
DTEND;TZID=America/New_York:20260409T210000
DTSTAMP:20260425T180401
CREATED:20251020T140621Z
LAST-MODIFIED:20260318T125856Z
UID:10001414-1775761200-1775768400@czigmeisterbrewing.com
SUMMARY:Trivia Revolution
DESCRIPTION:Join us and trivia revolution for a night of useless facts\, hanging out with your pals\, and most importantly… craft beer! Test your knowledge\, win some prizes\, and have a good time!
URL:https://czigmeisterbrewing.com/event/trivia-revolution-3/2026-04-09/
LOCATION:Czig Meister Brewery\, 106 Valentine Street\, Hackettstown\, NJ\, 07840\, United States
CATEGORIES:Featured,IN HOUSE
ATTACH;FMTTYPE=image/png:https://czigmeisterbrewing.com/wp-content/uploads/Trivia-Website-1-e1745940869244.png
END:VEVENT
BEGIN:VEVENT
DTSTART;TZID=America/New_York:20260410T190000
DTEND;TZID=America/New_York:20260410T210000
DTSTAMP:20260425T180401
CREATED:20260318T124211Z
LAST-MODIFIED:20260318T124211Z
UID:10001734-1775847600-1775854800@czigmeisterbrewing.com
SUMMARY:Bingo Night
DESCRIPTION:Join us for our once-a-month Bingo Night! 🎉 It’s completely free to play\, and you’ll have the chance to win some awesome prizes. Bring your friends\, grab a drink\, and get ready for a fun night of games and good vibes! 🍻✨
URL:https://czigmeisterbrewing.com/event/bingo-night-9/
LOCATION:Czig Meister Brewery\, 106 Valentine Street\, Hackettstown\, NJ\, 07840\, United States
CATEGORIES:IN HOUSE
ATTACH;FMTTYPE=image/png:https://czigmeisterbrewing.com/wp-content/uploads/Bingo-1200-x-675-px-14.png
END:VEVENT
BEGIN:VEVENT
DTSTART;TZID=America/New_York:20260411T183000
DTEND;TZID=America/New_York:20260411T213000
DTSTAMP:20260425T180401
CREATED:20260318T124557Z
LAST-MODIFIED:20260318T124557Z
UID:10001736-1775932200-1775943000@czigmeisterbrewing.com
SUMMARY:Live Music: Jesse Bardwell & The Noble Brothers
DESCRIPTION:On April 11th\, Live music from Jesse Bardwell & The Noble Brothers 6:30-9:30pm. \nKick back with a cold pint and enjoy some great live music!!
URL:https://czigmeisterbrewing.com/event/live-music-jesse-bardwell-the-noble-brothers-2/
LOCATION:Czig Meister Brewery\, 106 Valentine Street\, Hackettstown\, NJ\, 07840\, United States
CATEGORIES:IN HOUSE
END:VEVENT
BEGIN:VEVENT
DTSTART;TZID=America/New_York:20260416T190000
DTEND;TZID=America/New_York:20260416T210000
DTSTAMP:20260425T180401
CREATED:20251020T140621Z
LAST-MODIFIED:20260318T125856Z
UID:10001415-1776366000-1776373200@czigmeisterbrewing.com
SUMMARY:Trivia Revolution
DESCRIPTION:Join us and trivia revolution for a night of useless facts\, hanging out with your pals\, and most importantly… craft beer! Test your knowledge\, win some prizes\, and have a good time!
URL:https://czigmeisterbrewing.com/event/trivia-revolution-3/2026-04-16/
LOCATION:Czig Meister Brewery\, 106 Valentine Street\, Hackettstown\, NJ\, 07840\, United States
CATEGORIES:Featured,IN HOUSE
ATTACH;FMTTYPE=image/png:https://czigmeisterbrewing.com/wp-content/uploads/Trivia-Website-1-e1745940869244.png
END:VEVENT
BEGIN:VEVENT
DTSTART;TZID=America/New_York:20260418T183000
DTEND;TZID=America/New_York:20260418T213000
DTSTAMP:20260425T180401
CREATED:20260318T124735Z
LAST-MODIFIED:20260318T124735Z
UID:10001737-1776537000-1776547800@czigmeisterbrewing.com
SUMMARY:Live Music: Jimmy Pink & The Ego
DESCRIPTION:On April 18th\, Live music from Jimmy Pink & The Ego 6:30-9:30pm. \nKick back with a cold pint and enjoy some great live music!!
URL:https://czigmeisterbrewing.com/event/live-music-jimmy-pink-the-ego/
LOCATION:Czig Meister Brewery\, 106 Valentine Street\, Hackettstown\, NJ\, 07840\, United States
CATEGORIES:IN HOUSE
END:VEVENT
BEGIN:VEVENT
DTSTART;TZID=America/New_York:20260422T180000
DTEND;TZID=America/New_York:20260422T193000
DTSTAMP:20260425T180401
CREATED:20260318T125455Z
LAST-MODIFIED:20260318T125455Z
UID:10001738-1776880800-1776886200@czigmeisterbrewing.com
SUMMARY:Build Your Own Succulent Bar
DESCRIPTION:Join The Secret Jungle on April 22nd to celebrate Earth Day with this hands-on\, creative experience! 🌿✨ Choose your succulents and pot\, then decorate your very own custom succulent garden. \nEach ticket includes a Czig Meister beer of your choice 🍻\, your preferred pot\, up to 3 succulents\, fun decorations\, and a succulent care card to keep your plants thriving. \nGrab your spot and get ready for a relaxing\, plant-filled night! 🌎💚 \n 
URL:https://czigmeisterbrewing.com/event/build-your-own-succulent-bar/
LOCATION:Czig Meister Brewery\, 106 Valentine Street\, Hackettstown\, NJ\, 07840\, United States
CATEGORIES:IN HOUSE
ATTACH;FMTTYPE=image/png:https://czigmeisterbrewing.com/wp-content/uploads/Bingo-1200-x-675-px-15.png
END:VEVENT
BEGIN:VEVENT
DTSTART;TZID=America/New_York:20260423T190000
DTEND;TZID=America/New_York:20260423T210000
DTSTAMP:20260425T180401
CREATED:20260318T130422Z
LAST-MODIFIED:20260318T130422Z
UID:10001753-1776970800-1776978000@czigmeisterbrewing.com
SUMMARY:Theme Trivia: WITH MUSCONETCONG WATERSHED ASSOCIATION
DESCRIPTION:Join us on Thursday\, April 23rd for a fun-filled Theme Trivia Night & Fundraiser! 🎉 We’re teaming up once again with the amazing Musconetcong Watershed Association for a night of laughs\, friendly competition\, and giving back. \nCome test your knowledge\, enjoy great company\, and support a great cause — all in one place! \n📍 Czig Meister Brewing\n⏰ 7–9:15 PM \nBring your friends\, your best trivia team name\, and your generous spirit. Let’s make it a night to remember! ✨
URL:https://czigmeisterbrewing.com/event/theme-trivia-with-musconetcong-watershed-association-2/
LOCATION:Czig Meister Brewery\, 106 Valentine Street\, Hackettstown\, NJ\, 07840\, United States
CATEGORIES:IN HOUSE
ATTACH;FMTTYPE=image/png:https://czigmeisterbrewing.com/wp-content/uploads/Website-Events-900-×-506-px-3.png
END:VEVENT
BEGIN:VEVENT
DTSTART;TZID=America/New_York:20260424T190000
DTEND;TZID=America/New_York:20260424T210000
DTSTAMP:20260425T180401
CREATED:20260402T182830Z
LAST-MODIFIED:20260402T182830Z
UID:10001754-1777057200-1777064400@czigmeisterbrewing.com
SUMMARY:Music Bingo
DESCRIPTION:Join us with Revolution Entertainment for a night of Music Bingo! 🎶 It’s free to play and packed with great tunes\, awesome prizes\, and of course\, great beer. Grab your friends and get ready for a fun night out! \nFriday\, April 24th 7-9pm
URL:https://czigmeisterbrewing.com/event/music-bingo-3/
LOCATION:Czig Meister Brewery\, 106 Valentine Street\, Hackettstown\, NJ\, 07840\, United States
CATEGORIES:IN HOUSE
ATTACH;FMTTYPE=image/png:https://czigmeisterbrewing.com/wp-content/uploads/Trivia-Stories-1920-x-1080-px.png
END:VEVENT
BEGIN:VEVENT
DTSTART;TZID=America/New_York:20260425T120000
DTEND;TZID=America/New_York:20260425T220000
DTSTAMP:20260425T180401
CREATED:20260217T164253Z
LAST-MODIFIED:20260424T123129Z
UID:10001719-1777118400-1777154400@czigmeisterbrewing.com
SUMMARY:90's Block Party
DESCRIPTION:Rain or Shine event. \n\nMother Nature really said “not today” AGAIN  but guess what… we’re still throwin’ it DOWN this Saturday like it’s 1999 \n\n\n\nRain or shine\, the 90’s Party is ON from Noon-10pm!! We’re moving the vibes up top under the biergarten tents + inside\, so ain’t NO excuses \n\n\n\n Why Not Burgerz still pullin’ up\n Games goin’ down under the tent\n 90’s jams ALL day\n The Tonighters hittin’ the stage 6–9pm and bringin’ the HEAT\n\n\n\nGrab your crew\, rock your best 90’s fit\, and come vibe with us \n\n\nYou REALLY don’t wanna miss this one… trust
URL:https://czigmeisterbrewing.com/event/90s-block-party-5/
LOCATION:Czig Meister Brewery\, 106 Valentine Street\, Hackettstown\, NJ\, 07840\, United States
CATEGORIES:Featured,IN HOUSE
ATTACH;FMTTYPE=image/png:https://czigmeisterbrewing.com/wp-content/uploads/Black-and-Orange-80s-Trend-Style-Birthday-Party-Invitation-1920-x-1080-px.png
END:VEVENT
BEGIN:VEVENT
DTSTART;TZID=America/New_York:20260430T190000
DTEND;TZID=America/New_York:20260430T210000
DTSTAMP:20260425T180401
CREATED:20251020T140621Z
LAST-MODIFIED:20260318T125856Z
UID:10001417-1777575600-1777582800@czigmeisterbrewing.com
SUMMARY:Trivia Revolution
DESCRIPTION:Join us and trivia revolution for a night of useless facts\, hanging out with your pals\, and most importantly… craft beer! Test your knowledge\, win some prizes\, and have a good time!
URL:https://czigmeisterbrewing.com/event/trivia-revolution-3/2026-04-30/
LOCATION:Czig Meister Brewery\, 106 Valentine Street\, Hackettstown\, NJ\, 07840\, United States
CATEGORIES:Featured,IN HOUSE
ATTACH;FMTTYPE=image/png:https://czigmeisterbrewing.com/wp-content/uploads/Trivia-Website-1-e1745940869244.png
END:VEVENT
BEGIN:VEVENT
DTSTART;TZID=America/New_York:20260501T180000
DTEND;TZID=America/New_York:20260501T210000
DTSTAMP:20260425T180401
CREATED:20260403T133503Z
LAST-MODIFIED:20260403T133504Z
UID:10001755-1777658400-1777669200@czigmeisterbrewing.com
SUMMARY:Meister Market: Spring into Summer
DESCRIPTION:Meister Markets are BACK!! 🎉 \nJoin us Friday\, May 1st from 6–9 PM as we kick off our Spring into Summer Meister Market under the Biergarten tents! 🌿☀️ \nBrowse 8–10 incredible vendors featuring unique goods\, handmade pieces\, and local favorites you won’t want to miss. Sip on fresh brews straight from the tap while you shop 🍻 \nWe’ll also have Paulie Derin spinning vinyl to keep the vibes going all evening. \nCome out May 1st to support local businesses\, soak up the atmosphere\, and celebrate the season with us. See you there!
URL:https://czigmeisterbrewing.com/event/meister-market-spring-into-summer-2/
LOCATION:Czig Meister Brewery\, 106 Valentine Street\, Hackettstown\, NJ\, 07840\, United States
CATEGORIES:IN HOUSE
ATTACH;FMTTYPE=image/png:https://czigmeisterbrewing.com/wp-content/uploads/Meister-Markets-1920-x-1080-px.png
END:VEVENT
BEGIN:VEVENT
DTSTART;TZID=America/New_York:20260502T183000
DTEND;TZID=America/New_York:20260502T213000
DTSTAMP:20260425T180401
CREATED:20260403T133643Z
LAST-MODIFIED:20260403T133643Z
UID:10001756-1777746600-1777757400@czigmeisterbrewing.com
SUMMARY:Live Music: CC Roots Band
DESCRIPTION:On May 2nd\, Live music from CC Roots Band 6:30-9:30pm. \nKick back with a cold pint and enjoy some great live music!!
URL:https://czigmeisterbrewing.com/event/live-music-cc-roots-band/
LOCATION:Czig Meister Brewery\, 106 Valentine Street\, Hackettstown\, NJ\, 07840\, United States
CATEGORIES:IN HOUSE
END:VEVENT
BEGIN:VEVENT
DTSTART;TZID=America/New_York:20260503T130000
DTEND;TZID=America/New_York:20260503T160000
DTSTAMP:20260425T180401
CREATED:20260403T134002Z
LAST-MODIFIED:20260403T134002Z
UID:10001757-1777813200-1777824000@czigmeisterbrewing.com
SUMMARY:Book Swap
DESCRIPTION:Join us at the brewery on Sunday\, May 3rd from 1–4 PM for an afternoon of books\, brews\, and great company. Bring a favorite read to swap and head home with something new to discover! \nWe’ll also have a special guest — our very own Taproom Manager Mike — plus 🎶 live music from Madison Gerish from 1–4 PM. \nGood books\, great beer\, and even better company. We can’t wait to see you there! 📖🎵🍺
URL:https://czigmeisterbrewing.com/event/book-swap-5/
LOCATION:Czig Meister Brewery\, 106 Valentine Street\, Hackettstown\, NJ\, 07840\, United States
CATEGORIES:IN HOUSE
ATTACH;FMTTYPE=image/png:https://czigmeisterbrewing.com/wp-content/uploads/Classes-and-Markets-4-x-6-in-1920-x-1080-px-3.png
END:VEVENT
END:VCALENDAR