BEGIN:VCALENDAR
VERSION:2.0
PRODID:-//Czig Meister Brewing Company - ECPv6.15.20//NONSGML v1.0//EN
CALSCALE:GREGORIAN
METHOD:PUBLISH
X-WR-CALNAME:Czig Meister Brewing Company
X-ORIGINAL-URL:https://czigmeisterbrewing.com
X-WR-CALDESC:Events for Czig Meister Brewing Company
REFRESH-INTERVAL;VALUE=DURATION:PT1H
X-Robots-Tag:noindex
X-PUBLISHED-TTL:PT1H
BEGIN:VTIMEZONE
TZID:America/New_York
BEGIN:DAYLIGHT
TZOFFSETFROM:-0500
TZOFFSETTO:-0400
TZNAME:EDT
DTSTART:20240310T070000
END:DAYLIGHT
BEGIN:STANDARD
TZOFFSETFROM:-0400
TZOFFSETTO:-0500
TZNAME:EST
DTSTART:20241103T060000
END:STANDARD
BEGIN:DAYLIGHT
TZOFFSETFROM:-0500
TZOFFSETTO:-0400
TZNAME:EDT
DTSTART:20250309T070000
END:DAYLIGHT
BEGIN:STANDARD
TZOFFSETFROM:-0400
TZOFFSETTO:-0500
TZNAME:EST
DTSTART:20251102T060000
END:STANDARD
BEGIN:DAYLIGHT
TZOFFSETFROM:-0500
TZOFFSETTO:-0400
TZNAME:EDT
DTSTART:20260308T070000
END:DAYLIGHT
BEGIN:STANDARD
TZOFFSETFROM:-0400
TZOFFSETTO:-0500
TZNAME:EST
DTSTART:20261101T060000
END:STANDARD
BEGIN:DAYLIGHT
TZOFFSETFROM:-0500
TZOFFSETTO:-0400
TZNAME:EDT
DTSTART:20270314T070000
END:DAYLIGHT
BEGIN:STANDARD
TZOFFSETFROM:-0400
TZOFFSETTO:-0500
TZNAME:EST
DTSTART:20271107T060000
END:STANDARD
END:VTIMEZONE
BEGIN:VEVENT
DTSTART;TZID=America/New_York:20260416T190000
DTEND;TZID=America/New_York:20260416T210000
DTSTAMP:20260422T113317
CREATED:20251020T140621Z
LAST-MODIFIED:20260318T125856Z
UID:10001415-1776366000-1776373200@czigmeisterbrewing.com
SUMMARY:Trivia Revolution
DESCRIPTION:Join us and trivia revolution for a night of useless facts\, hanging out with your pals\, and most importantly… craft beer! Test your knowledge\, win some prizes\, and have a good time!
URL:https://czigmeisterbrewing.com/event/trivia-revolution-3/2026-04-16/
LOCATION:Czig Meister Brewery\, 106 Valentine Street\, Hackettstown\, NJ\, 07840\, United States
CATEGORIES:Featured,IN HOUSE
ATTACH;FMTTYPE=image/png:https://czigmeisterbrewing.com/wp-content/uploads/Trivia-Website-1-e1745940869244.png
END:VEVENT
BEGIN:VEVENT
DTSTART;TZID=America/New_York:20260409T190000
DTEND;TZID=America/New_York:20260409T210000
DTSTAMP:20260422T113317
CREATED:20251020T140621Z
LAST-MODIFIED:20260318T125856Z
UID:10001414-1775761200-1775768400@czigmeisterbrewing.com
SUMMARY:Trivia Revolution
DESCRIPTION:Join us and trivia revolution for a night of useless facts\, hanging out with your pals\, and most importantly… craft beer! Test your knowledge\, win some prizes\, and have a good time!
URL:https://czigmeisterbrewing.com/event/trivia-revolution-3/2026-04-09/
LOCATION:Czig Meister Brewery\, 106 Valentine Street\, Hackettstown\, NJ\, 07840\, United States
CATEGORIES:Featured,IN HOUSE
ATTACH;FMTTYPE=image/png:https://czigmeisterbrewing.com/wp-content/uploads/Trivia-Website-1-e1745940869244.png
END:VEVENT
BEGIN:VEVENT
DTSTART;TZID=America/New_York:20260402T190000
DTEND;TZID=America/New_York:20260402T210000
DTSTAMP:20260422T113317
CREATED:20251020T140621Z
LAST-MODIFIED:20260318T125856Z
UID:10001413-1775156400-1775163600@czigmeisterbrewing.com
SUMMARY:Trivia Revolution
DESCRIPTION:Join us and trivia revolution for a night of useless facts\, hanging out with your pals\, and most importantly… craft beer! Test your knowledge\, win some prizes\, and have a good time!
URL:https://czigmeisterbrewing.com/event/trivia-revolution-3/2026-04-02/
LOCATION:Czig Meister Brewery\, 106 Valentine Street\, Hackettstown\, NJ\, 07840\, United States
CATEGORIES:Featured,IN HOUSE
ATTACH;FMTTYPE=image/png:https://czigmeisterbrewing.com/wp-content/uploads/Trivia-Website-1-e1745940869244.png
END:VEVENT
BEGIN:VEVENT
DTSTART;TZID=America/New_York:20260326T190000
DTEND;TZID=America/New_York:20260326T210000
DTSTAMP:20260422T113317
CREATED:20251020T140621Z
LAST-MODIFIED:20260318T125856Z
UID:10001412-1774551600-1774558800@czigmeisterbrewing.com
SUMMARY:Trivia Revolution
DESCRIPTION:Join us and trivia revolution for a night of useless facts\, hanging out with your pals\, and most importantly… craft beer! Test your knowledge\, win some prizes\, and have a good time!
URL:https://czigmeisterbrewing.com/event/trivia-revolution-3/2026-03-26/
LOCATION:Czig Meister Brewery\, 106 Valentine Street\, Hackettstown\, NJ\, 07840\, United States
CATEGORIES:Featured,IN HOUSE
ATTACH;FMTTYPE=image/png:https://czigmeisterbrewing.com/wp-content/uploads/Trivia-Website-1-e1745940869244.png
END:VEVENT
BEGIN:VEVENT
DTSTART;TZID=America/New_York:20260319T190000
DTEND;TZID=America/New_York:20260319T210000
DTSTAMP:20260422T113317
CREATED:20251020T140621Z
LAST-MODIFIED:20260318T125856Z
UID:10001411-1773946800-1773954000@czigmeisterbrewing.com
SUMMARY:Trivia Revolution
DESCRIPTION:Join us and trivia revolution for a night of useless facts\, hanging out with your pals\, and most importantly… craft beer! Test your knowledge\, win some prizes\, and have a good time!
URL:https://czigmeisterbrewing.com/event/trivia-revolution-3/2026-03-19/
LOCATION:Czig Meister Brewery\, 106 Valentine Street\, Hackettstown\, NJ\, 07840\, United States
CATEGORIES:Featured,IN HOUSE
ATTACH;FMTTYPE=image/png:https://czigmeisterbrewing.com/wp-content/uploads/Trivia-Website-1-e1745940869244.png
END:VEVENT
BEGIN:VEVENT
DTSTART;TZID=America/New_York:20260314T120000
DTEND;TZID=America/New_York:20260314T230000
DTSTAMP:20260422T113317
CREATED:20260206T155241Z
LAST-MODIFIED:20260217T191208Z
UID:10001714-1773489600-1773529200@czigmeisterbrewing.com
SUMMARY:Annual St. Patricks Party
DESCRIPTION:The Irish Harpers will be BACK for our annual St. Paddy’s Shindig!\n🎶 Live music starts at 7PM\n💵 $5 cover beginning at 6 PM \nWe’ll also be featuring a specialty beer and a food truck to keep the celebration going all night! \nWe will be open Noon-11pm
URL:https://czigmeisterbrewing.com/event/annual-st-patricks-party/
LOCATION:Czig Meister Brewery\, 106 Valentine Street\, Hackettstown\, NJ\, 07840\, United States
CATEGORIES:Featured,IN HOUSE
ATTACH;FMTTYPE=image/png:https://czigmeisterbrewing.com/wp-content/uploads/Window-Posters-1920-x-1080-px.png
END:VEVENT
BEGIN:VEVENT
DTSTART;TZID=America/New_York:20260312T190000
DTEND;TZID=America/New_York:20260312T210000
DTSTAMP:20260422T113317
CREATED:20251020T140621Z
LAST-MODIFIED:20260318T125856Z
UID:10001410-1773342000-1773349200@czigmeisterbrewing.com
SUMMARY:Trivia Revolution
DESCRIPTION:Join us and trivia revolution for a night of useless facts\, hanging out with your pals\, and most importantly… craft beer! Test your knowledge\, win some prizes\, and have a good time!
URL:https://czigmeisterbrewing.com/event/trivia-revolution-3/2026-03-12/
LOCATION:Czig Meister Brewery\, 106 Valentine Street\, Hackettstown\, NJ\, 07840\, United States
CATEGORIES:Featured,IN HOUSE
ATTACH;FMTTYPE=image/png:https://czigmeisterbrewing.com/wp-content/uploads/Trivia-Website-1-e1745940869244.png
END:VEVENT
BEGIN:VEVENT
DTSTART;TZID=America/New_York:20260308T153000
DTEND;TZID=America/New_York:20260308T173000
DTSTAMP:20260422T113317
CREATED:20260206T154138Z
LAST-MODIFIED:20260206T160023Z
UID:10001711-1772983800-1772991000@czigmeisterbrewing.com
SUMMARY:St. Patrick's Day Parade
DESCRIPTION:The Hackettstown Business Improvement District (HBID) is hosting the 17th Annual St. Patrick’s Parade\, an Irish-American tradition attracting 1\,000’s of visitors.\n\nThe parade is pet-friendly\, with a special Irish Dog Costume Contest sponsored by Doggie Styleashes. Judging will be held at Czig Meister Brewing\, located at 106 Valentine St. starting at 3:30 pm sharp. Pets will then be invited to walk the parade.\n\nWe will be open: Noon-6pm\nWe will have a food truck: Designer Dogs
URL:https://czigmeisterbrewing.com/event/st-patricks-day-parade-2/
LOCATION:NJ
CATEGORIES:Featured
END:VEVENT
BEGIN:VEVENT
DTSTART;TZID=America/New_York:20260305T190000
DTEND;TZID=America/New_York:20260305T210000
DTSTAMP:20260422T113317
CREATED:20251020T140621Z
LAST-MODIFIED:20260318T125856Z
UID:10001409-1772737200-1772744400@czigmeisterbrewing.com
SUMMARY:Trivia Revolution
DESCRIPTION:Join us and trivia revolution for a night of useless facts\, hanging out with your pals\, and most importantly… craft beer! Test your knowledge\, win some prizes\, and have a good time!
URL:https://czigmeisterbrewing.com/event/trivia-revolution-3/2026-03-05/
LOCATION:Czig Meister Brewery\, 106 Valentine Street\, Hackettstown\, NJ\, 07840\, United States
CATEGORIES:Featured,IN HOUSE
ATTACH;FMTTYPE=image/png:https://czigmeisterbrewing.com/wp-content/uploads/Trivia-Website-1-e1745940869244.png
END:VEVENT
BEGIN:VEVENT
DTSTART;TZID=America/New_York:20260301T120000
DTEND;TZID=America/New_York:20260301T160000
DTSTAMP:20260422T113317
CREATED:20260217T141822Z
LAST-MODIFIED:20260217T141822Z
UID:10001718-1772366400-1772380800@czigmeisterbrewing.com
SUMMARY:Book Swap
DESCRIPTION:Book Swap is BACK! 📚🍻 \nJoin us at the brewery on Sunday\, March 1st from 12–4 PM for an afternoon of books\, brews\, and great company. Bring a favorite read to swap and head home with something new to discover! \nWe’ll also have a special guest — our very own Taproom Manager Mike — plus 🎶 live music from Madison Gerish from 1–4 PM. \nGood books\, great beer\, and even better company. We can’t wait to see you there! 📖🎵🍺 \n 
URL:https://czigmeisterbrewing.com/event/book-swap-4/
LOCATION:Czig Meister Brewery\, 106 Valentine Street\, Hackettstown\, NJ\, 07840\, United States
CATEGORIES:Featured
ATTACH;FMTTYPE=image/png:https://czigmeisterbrewing.com/wp-content/uploads/Classes-and-Markets-4-x-6-in-1920-x-1080-px.png
END:VEVENT
BEGIN:VEVENT
DTSTART;VALUE=DATE:20260228
DTEND;VALUE=DATE:20260301
DTSTAMP:20260422T113317
CREATED:20260206T153749Z
LAST-MODIFIED:20260206T153749Z
UID:10001710-1772236800-1772323199@czigmeisterbrewing.com
SUMMARY:Leprechaun Crawl
DESCRIPTION:Gather your friends and family and enjoy the Hackettstown Leprechaun Crawl!\n\nOn Saturday\, February 28th\, dress like a Leprechaun or wear your favorite GREEN attire as you visit the participating businesses to kick off the celebration!\n\nEach sheet provides a coupon for one beer each at Marley’s Gotham Grill\, Man Skirt Brewing\, and Czig Meister Brewing Company. New this year\, enjoy a “Green Fairy” Absinthe Shot at Living Spirits Distillery.\nSelections vary per location.\n\nTickets can be purchased on the BID website\, at the BID office(219 Main St)\, Living Spirits Distillery\, Czig Meister Brewing\, Marley’s Gotham Grille\, Man Skirt and Doggie Styleashes.\n\nPRESALE TICKETS are $25 through February 27\, 2026.or $30 after February 28\n\nEnter to Win a “Pot of Gold” Prize Basket of Goodies from Hackettstown BID Merchants. Simply fill in your name and phone number on the back of the Leprechaun Crawl Tickets before redeeming to enter.
URL:https://czigmeisterbrewing.com/event/leprechaun-crawl/
LOCATION:NJ
CATEGORIES:Featured
END:VEVENT
BEGIN:VEVENT
DTSTART;TZID=America/New_York:20260226T190000
DTEND;TZID=America/New_York:20260226T210000
DTSTAMP:20260422T113317
CREATED:20251020T140621Z
LAST-MODIFIED:20260318T125856Z
UID:10001408-1772132400-1772139600@czigmeisterbrewing.com
SUMMARY:Trivia Revolution
DESCRIPTION:Join us and trivia revolution for a night of useless facts\, hanging out with your pals\, and most importantly… craft beer! Test your knowledge\, win some prizes\, and have a good time!
URL:https://czigmeisterbrewing.com/event/trivia-revolution-3/2026-02-26/
LOCATION:Czig Meister Brewery\, 106 Valentine Street\, Hackettstown\, NJ\, 07840\, United States
CATEGORIES:Featured,IN HOUSE
ATTACH;FMTTYPE=image/png:https://czigmeisterbrewing.com/wp-content/uploads/Trivia-Website-1-e1745940869244.png
END:VEVENT
BEGIN:VEVENT
DTSTART;TZID=America/New_York:20260219T190000
DTEND;TZID=America/New_York:20260219T210000
DTSTAMP:20260422T113317
CREATED:20251020T140621Z
LAST-MODIFIED:20260318T125856Z
UID:10001407-1771527600-1771534800@czigmeisterbrewing.com
SUMMARY:Trivia Revolution
DESCRIPTION:Join us and trivia revolution for a night of useless facts\, hanging out with your pals\, and most importantly… craft beer! Test your knowledge\, win some prizes\, and have a good time!
URL:https://czigmeisterbrewing.com/event/trivia-revolution-3/2026-02-19/
LOCATION:Czig Meister Brewery\, 106 Valentine Street\, Hackettstown\, NJ\, 07840\, United States
CATEGORIES:Featured,IN HOUSE
ATTACH;FMTTYPE=image/png:https://czigmeisterbrewing.com/wp-content/uploads/Trivia-Website-1-e1745940869244.png
END:VEVENT
BEGIN:VEVENT
DTSTART;TZID=America/New_York:20260214T120000
DTEND;TZID=America/New_York:20260214T220000
DTSTAMP:20260422T113317
CREATED:20251230T203120Z
LAST-MODIFIED:20260210T153719Z
UID:10001695-1771070400-1771106400@czigmeisterbrewing.com
SUMMARY:Stout Fest
DESCRIPTION:Our 9th Annual Stout Fest is officially set for February 14\, 2026 from 12-10pm⁠⁠Join us for a full day of 40+ rich stouts. We will have food trucks\, and cozy fire pits to keep the good vibes (and warm hands) going all day long ⁠ As well as The Cigar Lounge is returning!⁠⁠Grab your crew\, raise a glass\, and get ready for another great Stout Fest. \nThis event has a limited beer menu: \n\nHuntsman -Kolsch\nBlacksmith – Oatmeal Stout\nShipwright – West Coast IPA\nHacketts Tea – Lemon Hard Tea\nAmber Lager\nMiner – Black Lager\nTiramisu – Milk Porter\nGuv’nor – British Mild\nDeep Sea Elani – NEIPA
URL:https://czigmeisterbrewing.com/event/stout-fest/
LOCATION:Czig Meister Brewery\, 106 Valentine Street\, Hackettstown\, NJ\, 07840\, United States
CATEGORIES:Featured,IN HOUSE
ATTACH;FMTTYPE=image/png:https://czigmeisterbrewing.com/wp-content/uploads/Website-Event-Covers-2-97.png
END:VEVENT
BEGIN:VEVENT
DTSTART;TZID=America/New_York:20260213T190000
DTEND;TZID=America/New_York:20260213T210000
DTSTAMP:20260422T113317
CREATED:20260114T133137Z
LAST-MODIFIED:20260114T133137Z
UID:10001702-1771009200-1771016400@czigmeisterbrewing.com
SUMMARY:Bingo Night
DESCRIPTION:Join us for our once a month bingo night!
URL:https://czigmeisterbrewing.com/event/bingo-night-7/
LOCATION:Czig Meister Brewery\, 106 Valentine Street\, Hackettstown\, NJ\, 07840\, United States
CATEGORIES:Featured,IN HOUSE
ATTACH;FMTTYPE=image/png:https://czigmeisterbrewing.com/wp-content/uploads/Bingo-1200-x-675-px-8.png
END:VEVENT
BEGIN:VEVENT
DTSTART;TZID=America/New_York:20260212T190000
DTEND;TZID=America/New_York:20260212T210000
DTSTAMP:20260422T113317
CREATED:20251020T140621Z
LAST-MODIFIED:20260318T125856Z
UID:10001406-1770922800-1770930000@czigmeisterbrewing.com
SUMMARY:Trivia Revolution
DESCRIPTION:Join us and trivia revolution for a night of useless facts\, hanging out with your pals\, and most importantly… craft beer! Test your knowledge\, win some prizes\, and have a good time!
URL:https://czigmeisterbrewing.com/event/trivia-revolution-3/2026-02-12/
LOCATION:Czig Meister Brewery\, 106 Valentine Street\, Hackettstown\, NJ\, 07840\, United States
CATEGORIES:Featured,IN HOUSE
ATTACH;FMTTYPE=image/png:https://czigmeisterbrewing.com/wp-content/uploads/Trivia-Website-1-e1745940869244.png
END:VEVENT
BEGIN:VEVENT
DTSTART;TZID=America/New_York:20260206T190000
DTEND;TZID=America/New_York:20260206T210000
DTSTAMP:20260422T113317
CREATED:20260119T144207Z
LAST-MODIFIED:20260119T144207Z
UID:10001706-1770404400-1770411600@czigmeisterbrewing.com
SUMMARY:Blooms & Brews
DESCRIPTION:Join Calico Country Flowers at Czig Meister Brewing for a fun and relaxing evening! Sip on a delicious pint while learning how to create your own beautiful floral arrangement with guidance from their professional florists. All flowers\, supplies\, and step-by-step instruction are included—no experience necessary. This is the perfect night out and just in time for Valentine’s Day.\nDate: Friday\, February 6th at 7pmCost: $45 per person (includes 1 pint)Reservations: Please call 908-852-0556 to reserve your spot.
URL:https://czigmeisterbrewing.com/event/blooms-brews/
LOCATION:Czig Meister Brewery\, 106 Valentine Street\, Hackettstown\, NJ\, 07840\, United States
CATEGORIES:Featured,IN HOUSE
ATTACH;FMTTYPE=image/png:https://czigmeisterbrewing.com/wp-content/uploads/Website-Event-Covers-2-101.png
END:VEVENT
BEGIN:VEVENT
DTSTART;TZID=America/New_York:20260205T190000
DTEND;TZID=America/New_York:20260205T210000
DTSTAMP:20260422T113317
CREATED:20251020T140621Z
LAST-MODIFIED:20260318T125856Z
UID:10001405-1770318000-1770325200@czigmeisterbrewing.com
SUMMARY:Trivia Revolution
DESCRIPTION:Join us and trivia revolution for a night of useless facts\, hanging out with your pals\, and most importantly… craft beer! Test your knowledge\, win some prizes\, and have a good time!
URL:https://czigmeisterbrewing.com/event/trivia-revolution-3/2026-02-05/
LOCATION:Czig Meister Brewery\, 106 Valentine Street\, Hackettstown\, NJ\, 07840\, United States
CATEGORIES:Featured,IN HOUSE
ATTACH;FMTTYPE=image/png:https://czigmeisterbrewing.com/wp-content/uploads/Trivia-Website-1-e1745940869244.png
END:VEVENT
BEGIN:VEVENT
DTSTART;TZID=America/New_York:20260129T190000
DTEND;TZID=America/New_York:20260129T210000
DTSTAMP:20260422T113317
CREATED:20251020T140621Z
LAST-MODIFIED:20260318T125856Z
UID:10001404-1769713200-1769720400@czigmeisterbrewing.com
SUMMARY:Trivia Revolution
DESCRIPTION:Join us and trivia revolution for a night of useless facts\, hanging out with your pals\, and most importantly… craft beer! Test your knowledge\, win some prizes\, and have a good time!
URL:https://czigmeisterbrewing.com/event/trivia-revolution-3/2026-01-29/
LOCATION:Czig Meister Brewery\, 106 Valentine Street\, Hackettstown\, NJ\, 07840\, United States
CATEGORIES:Featured,IN HOUSE
ATTACH;FMTTYPE=image/png:https://czigmeisterbrewing.com/wp-content/uploads/Trivia-Website-1-e1745940869244.png
END:VEVENT
BEGIN:VEVENT
DTSTART;TZID=America/New_York:20260122T190000
DTEND;TZID=America/New_York:20260122T210000
DTSTAMP:20260422T113317
CREATED:20251020T140621Z
LAST-MODIFIED:20260318T125856Z
UID:10001403-1769108400-1769115600@czigmeisterbrewing.com
SUMMARY:Trivia Revolution
DESCRIPTION:Join us and trivia revolution for a night of useless facts\, hanging out with your pals\, and most importantly… craft beer! Test your knowledge\, win some prizes\, and have a good time!
URL:https://czigmeisterbrewing.com/event/trivia-revolution-3/2026-01-22/
LOCATION:Czig Meister Brewery\, 106 Valentine Street\, Hackettstown\, NJ\, 07840\, United States
CATEGORIES:Featured,IN HOUSE
ATTACH;FMTTYPE=image/png:https://czigmeisterbrewing.com/wp-content/uploads/Trivia-Website-1-e1745940869244.png
END:VEVENT
BEGIN:VEVENT
DTSTART;TZID=America/New_York:20260116T210000
DTEND;TZID=America/New_York:20260116T210000
DTSTAMP:20260422T113317
CREATED:20251202T143503Z
LAST-MODIFIED:20251202T143541Z
UID:10001679-1768597200-1768597200@czigmeisterbrewing.com
SUMMARY:The Lounge at Czig Meister
DESCRIPTION:Psst\, pals… we’re cooking up a real knockout on Fri\, Jan 16th. We’re marking the day they banned the giggle water — by celebrating anyway. Step into The Lounge at Czig Meister for a night of jazz\, champagne (Inspired Czelter)\, and secret passwords. Don’t forget your flapper dresses and vintage fits- it’s 1920s night. \nOnly 110 tickets exist \n**THIS IS NOT A DOG FRIENDLY EVENT** \nTicket space is limited for this one only night event you do not want to miss. \n$20 ticket gets you: \nPassword to get in (emailed the week of the event) \nLive 1920s Jazz Band \nVintage Vibe Tribe \nComplimentary “welcome” champagne (Inspired Czelter) upon arrival \nDate and Time: January 16th\, 2026 9pm \nLocation: 106 Valentine Street\, Hackettstown NJ \n  \nTicket Link: https://czigmeister.ecwid.com/Shhh-The-Lounge-at-Czig-Meister-21-9-00-Midnight-p712900833
URL:https://czigmeisterbrewing.com/event/the-lounge-at-czig-meister/
LOCATION:Czig Meister Brewery\, 106 Valentine Street\, Hackettstown\, NJ\, 07840\, United States
CATEGORIES:Featured,IN HOUSE
ATTACH;FMTTYPE=image/png:https://czigmeisterbrewing.com/wp-content/uploads/Website-Event-Covers-2-88.png
END:VEVENT
BEGIN:VEVENT
DTSTART;TZID=America/New_York:20260115T190000
DTEND;TZID=America/New_York:20260115T210000
DTSTAMP:20260422T113317
CREATED:20251020T140621Z
LAST-MODIFIED:20260318T125856Z
UID:10001402-1768503600-1768510800@czigmeisterbrewing.com
SUMMARY:Trivia Revolution
DESCRIPTION:Join us and trivia revolution for a night of useless facts\, hanging out with your pals\, and most importantly… craft beer! Test your knowledge\, win some prizes\, and have a good time!
URL:https://czigmeisterbrewing.com/event/trivia-revolution-3/2026-01-15/
LOCATION:Czig Meister Brewery\, 106 Valentine Street\, Hackettstown\, NJ\, 07840\, United States
CATEGORIES:Featured,IN HOUSE
ATTACH;FMTTYPE=image/png:https://czigmeisterbrewing.com/wp-content/uploads/Trivia-Website-1-e1745940869244.png
END:VEVENT
BEGIN:VEVENT
DTSTART;TZID=America/New_York:20260109T190000
DTEND;TZID=America/New_York:20260109T210000
DTSTAMP:20260422T113317
CREATED:20251205T152000Z
LAST-MODIFIED:20251205T152000Z
UID:10001687-1767985200-1767992400@czigmeisterbrewing.com
SUMMARY:Bingo Night
DESCRIPTION:Join us for our once a month bingo night!
URL:https://czigmeisterbrewing.com/event/bingo-night-6/
LOCATION:Czig Meister Brewery\, 106 Valentine Street\, Hackettstown\, NJ\, 07840\, United States
CATEGORIES:Featured
ATTACH;FMTTYPE=image/png:https://czigmeisterbrewing.com/wp-content/uploads/Bingo-1200-x-675-px-6.png
END:VEVENT
BEGIN:VEVENT
DTSTART;TZID=America/New_York:20260108T190000
DTEND;TZID=America/New_York:20260108T210000
DTSTAMP:20260422T113317
CREATED:20251020T140621Z
LAST-MODIFIED:20260318T125856Z
UID:10001401-1767898800-1767906000@czigmeisterbrewing.com
SUMMARY:Trivia Revolution
DESCRIPTION:Join us and trivia revolution for a night of useless facts\, hanging out with your pals\, and most importantly… craft beer! Test your knowledge\, win some prizes\, and have a good time!
URL:https://czigmeisterbrewing.com/event/trivia-revolution-3/2026-01-08/
LOCATION:Czig Meister Brewery\, 106 Valentine Street\, Hackettstown\, NJ\, 07840\, United States
CATEGORIES:Featured,IN HOUSE
ATTACH;FMTTYPE=image/png:https://czigmeisterbrewing.com/wp-content/uploads/Trivia-Website-1-e1745940869244.png
END:VEVENT
BEGIN:VEVENT
DTSTART;TZID=America/New_York:20260107T180000
DTEND;TZID=America/New_York:20260107T193000
DTSTAMP:20260422T113317
CREATED:20251205T151359Z
LAST-MODIFIED:20251205T151359Z
UID:10001685-1767808800-1767814200@czigmeisterbrewing.com
SUMMARY:Plants & Pints Terrarium Class
DESCRIPTION:Join Roots and River for a hands on DIY terrarium workshop where you’ll create your own ecosystem! Ticket includes one drink!\n\n\n\nThey will provide all the materials\, plants\, soil\, moss\, decor\, and containers plus guidance on layering\, planting\, and styling your terrarium. \nWhether you’re a beginner or a seasoned plant lover\, you’ll leave with a unique piece to brighten your home or office. Perfect for friends\, date nights\, or a fun solo project! One drink is included with your ticket!
URL:https://czigmeisterbrewing.com/event/plants-pints-terrarium-class/
LOCATION:Czig Meister Brewery\, 106 Valentine Street\, Hackettstown\, NJ\, 07840\, United States
CATEGORIES:Featured,IN HOUSE
ATTACH;FMTTYPE=image/png:https://czigmeisterbrewing.com/wp-content/uploads/Website-Event-Covers-2-89.png
END:VEVENT
BEGIN:VEVENT
DTSTART;VALUE=DATE:20251220
DTEND;VALUE=DATE:20251221
DTSTAMP:20260422T113317
CREATED:20251112T161348Z
LAST-MODIFIED:20251117T185239Z
UID:10001669-1766188800-1766275199@czigmeisterbrewing.com
SUMMARY:Closing Early
DESCRIPTION:Announcement \n  \nCzig Meister Brewing will be open to the public from 12–4 PM on Saturday\, December 20th. \nWe will be closed starting at 4:30 PM that same day for a private party. We’ll miss you\, but we can’t wait to see everyone again on Sunday for a pint (or two)!
URL:https://czigmeisterbrewing.com/event/brewery-closed-for-private-party/
LOCATION:Czig Meister Brewery\, 106 Valentine Street\, Hackettstown\, NJ\, 07840\, United States
CATEGORIES:Featured,IN HOUSE
END:VEVENT
BEGIN:VEVENT
DTSTART;TZID=America/New_York:20251218T190000
DTEND;TZID=America/New_York:20251218T210000
DTSTAMP:20260422T113317
CREATED:20251020T140621Z
LAST-MODIFIED:20260318T125856Z
UID:10001399-1766084400-1766091600@czigmeisterbrewing.com
SUMMARY:Trivia Revolution
DESCRIPTION:Join us and trivia revolution for a night of useless facts\, hanging out with your pals\, and most importantly… craft beer! Test your knowledge\, win some prizes\, and have a good time!
URL:https://czigmeisterbrewing.com/event/trivia-revolution-3/2025-12-18/
LOCATION:Czig Meister Brewery\, 106 Valentine Street\, Hackettstown\, NJ\, 07840\, United States
CATEGORIES:Featured,IN HOUSE
ATTACH;FMTTYPE=image/png:https://czigmeisterbrewing.com/wp-content/uploads/Trivia-Website-1-e1745940869244.png
END:VEVENT
BEGIN:VEVENT
DTSTART;TZID=America/New_York:20251211T190000
DTEND;TZID=America/New_York:20251211T210000
DTSTAMP:20260422T113317
CREATED:20251020T140621Z
LAST-MODIFIED:20260318T125856Z
UID:10001398-1765479600-1765486800@czigmeisterbrewing.com
SUMMARY:Trivia Revolution
DESCRIPTION:Join us and trivia revolution for a night of useless facts\, hanging out with your pals\, and most importantly… craft beer! Test your knowledge\, win some prizes\, and have a good time!
URL:https://czigmeisterbrewing.com/event/trivia-revolution-3/2025-12-11/
LOCATION:Czig Meister Brewery\, 106 Valentine Street\, Hackettstown\, NJ\, 07840\, United States
CATEGORIES:Featured,IN HOUSE
ATTACH;FMTTYPE=image/png:https://czigmeisterbrewing.com/wp-content/uploads/Trivia-Website-1-e1745940869244.png
END:VEVENT
BEGIN:VEVENT
DTSTART;TZID=America/New_York:20251204T190000
DTEND;TZID=America/New_York:20251204T210000
DTSTAMP:20260422T113317
CREATED:20251103T180442Z
LAST-MODIFIED:20251103T180442Z
UID:10001659-1764874800-1764882000@czigmeisterbrewing.com
SUMMARY:Theme Trivia: with Musconetcong Watershed Association
DESCRIPTION:Join us on Thursday\, December 4th. We’re teaming up with the amazing Musconetcong Watershed Association group for a fun-filled Theme Trivia Night & Fundraiser!  \nCome test your knowledge\, enjoy great company\, and support a great cause — all in one night! \n Thursday\, December 4th Czig Meister Brewing⏰ 7-9:15pm \nBring your friends\, your best trivia team name\, and your generous spirit. Let’s make it a night to remember! ✨ \nDonate now: https://form-renderer-app.donorperfect.io/give/musconetcong-watershed-association/general-giving
URL:https://czigmeisterbrewing.com/event/theme-trivia-with-musconetcong-watershed-association/
LOCATION:Czig Meister Brewery\, 106 Valentine Street\, Hackettstown\, NJ\, 07840\, United States
CATEGORIES:Featured
ATTACH;FMTTYPE=image/png:https://czigmeisterbrewing.com/wp-content/uploads/Holiday-Reel-1200-x-675-px-2.png
END:VEVENT
BEGIN:VEVENT
DTSTART;TZID=America/New_York:20251126T120000
DTEND;TZID=America/New_York:20251127T000000
DTSTAMP:20260422T113317
CREATED:20251020T145727Z
LAST-MODIFIED:20251020T145727Z
UID:10001651-1764158400-1764201600@czigmeisterbrewing.com
SUMMARY:Thanksgiving EVE Party!!
DESCRIPTION:Join us the day before Thanksgiving for our annual Thanksgiving Eve party!\n\nLive Music from The Tonighters 8-11pm\n\nBeer & Hard Seltzer Specials:
URL:https://czigmeisterbrewing.com/event/thanksgiving-eve-party-2/
LOCATION:Czig Meister Brewery\, 106 Valentine Street\, Hackettstown\, NJ\, 07840\, United States
CATEGORIES:Featured,IN HOUSE
ATTACH;FMTTYPE=image/png:https://czigmeisterbrewing.com/wp-content/uploads/Thanksgiving-Eve-1920-×-1080-px.png
END:VEVENT
END:VCALENDAR