BEGIN:VCALENDAR
VERSION:2.0
PRODID:-//Czig Meister Brewing Company - ECPv6.15.20//NONSGML v1.0//EN
CALSCALE:GREGORIAN
METHOD:PUBLISH
X-WR-CALNAME:Czig Meister Brewing Company
X-ORIGINAL-URL:https://czigmeisterbrewing.com
X-WR-CALDESC:Events for Czig Meister Brewing Company
REFRESH-INTERVAL;VALUE=DURATION:PT1H
X-Robots-Tag:noindex
X-PUBLISHED-TTL:PT1H
BEGIN:VTIMEZONE
TZID:America/New_York
BEGIN:DAYLIGHT
TZOFFSETFROM:-0500
TZOFFSETTO:-0400
TZNAME:EDT
DTSTART:20280312T070000
END:DAYLIGHT
BEGIN:STANDARD
TZOFFSETFROM:-0400
TZOFFSETTO:-0500
TZNAME:EST
DTSTART:20281105T060000
END:STANDARD
BEGIN:DAYLIGHT
TZOFFSETFROM:-0500
TZOFFSETTO:-0400
TZNAME:EDT
DTSTART:20290311T070000
END:DAYLIGHT
BEGIN:STANDARD
TZOFFSETFROM:-0400
TZOFFSETTO:-0500
TZNAME:EST
DTSTART:20291104T060000
END:STANDARD
BEGIN:DAYLIGHT
TZOFFSETFROM:-0500
TZOFFSETTO:-0400
TZNAME:EDT
DTSTART:20300310T070000
END:DAYLIGHT
BEGIN:STANDARD
TZOFFSETFROM:-0400
TZOFFSETTO:-0500
TZNAME:EST
DTSTART:20301103T060000
END:STANDARD
END:VTIMEZONE
BEGIN:VEVENT
DTSTART;TZID=America/New_York:20290503T190000
DTEND;TZID=America/New_York:20290503T210000
DTSTAMP:20260425T170949
CREATED:20251020T140621Z
LAST-MODIFIED:20260318T125856Z
UID:10001574-1872529200-1872536400@czigmeisterbrewing.com
SUMMARY:Trivia Revolution
DESCRIPTION:Join us and trivia revolution for a night of useless facts\, hanging out with your pals\, and most importantly… craft beer! Test your knowledge\, win some prizes\, and have a good time!
URL:https://czigmeisterbrewing.com/event/trivia-revolution-3/2029-05-03/
LOCATION:Czig Meister Brewery\, 106 Valentine Street\, Hackettstown\, NJ\, 07840\, United States
CATEGORIES:Featured,IN HOUSE
ATTACH;FMTTYPE=image/png:https://czigmeisterbrewing.com/wp-content/uploads/Trivia-Website-1-e1745940869244.png
END:VEVENT
BEGIN:VEVENT
DTSTART;TZID=America/New_York:20290510T190000
DTEND;TZID=America/New_York:20290510T210000
DTSTAMP:20260425T170949
CREATED:20251020T140621Z
LAST-MODIFIED:20260318T125856Z
UID:10001575-1873134000-1873141200@czigmeisterbrewing.com
SUMMARY:Trivia Revolution
DESCRIPTION:Join us and trivia revolution for a night of useless facts\, hanging out with your pals\, and most importantly… craft beer! Test your knowledge\, win some prizes\, and have a good time!
URL:https://czigmeisterbrewing.com/event/trivia-revolution-3/2029-05-10/
LOCATION:Czig Meister Brewery\, 106 Valentine Street\, Hackettstown\, NJ\, 07840\, United States
CATEGORIES:Featured,IN HOUSE
ATTACH;FMTTYPE=image/png:https://czigmeisterbrewing.com/wp-content/uploads/Trivia-Website-1-e1745940869244.png
END:VEVENT
BEGIN:VEVENT
DTSTART;TZID=America/New_York:20290517T190000
DTEND;TZID=America/New_York:20290517T210000
DTSTAMP:20260425T170949
CREATED:20251020T140621Z
LAST-MODIFIED:20260318T125856Z
UID:10001576-1873738800-1873746000@czigmeisterbrewing.com
SUMMARY:Trivia Revolution
DESCRIPTION:Join us and trivia revolution for a night of useless facts\, hanging out with your pals\, and most importantly… craft beer! Test your knowledge\, win some prizes\, and have a good time!
URL:https://czigmeisterbrewing.com/event/trivia-revolution-3/2029-05-17/
LOCATION:Czig Meister Brewery\, 106 Valentine Street\, Hackettstown\, NJ\, 07840\, United States
CATEGORIES:Featured,IN HOUSE
ATTACH;FMTTYPE=image/png:https://czigmeisterbrewing.com/wp-content/uploads/Trivia-Website-1-e1745940869244.png
END:VEVENT
BEGIN:VEVENT
DTSTART;TZID=America/New_York:20290524T190000
DTEND;TZID=America/New_York:20290524T210000
DTSTAMP:20260425T170949
CREATED:20251020T140621Z
LAST-MODIFIED:20260318T125856Z
UID:10001577-1874343600-1874350800@czigmeisterbrewing.com
SUMMARY:Trivia Revolution
DESCRIPTION:Join us and trivia revolution for a night of useless facts\, hanging out with your pals\, and most importantly… craft beer! Test your knowledge\, win some prizes\, and have a good time!
URL:https://czigmeisterbrewing.com/event/trivia-revolution-3/2029-05-24/
LOCATION:Czig Meister Brewery\, 106 Valentine Street\, Hackettstown\, NJ\, 07840\, United States
CATEGORIES:Featured,IN HOUSE
ATTACH;FMTTYPE=image/png:https://czigmeisterbrewing.com/wp-content/uploads/Trivia-Website-1-e1745940869244.png
END:VEVENT
BEGIN:VEVENT
DTSTART;TZID=America/New_York:20290531T190000
DTEND;TZID=America/New_York:20290531T210000
DTSTAMP:20260425T170949
CREATED:20251020T140621Z
LAST-MODIFIED:20260318T125856Z
UID:10001578-1874948400-1874955600@czigmeisterbrewing.com
SUMMARY:Trivia Revolution
DESCRIPTION:Join us and trivia revolution for a night of useless facts\, hanging out with your pals\, and most importantly… craft beer! Test your knowledge\, win some prizes\, and have a good time!
URL:https://czigmeisterbrewing.com/event/trivia-revolution-3/2029-05-31/
LOCATION:Czig Meister Brewery\, 106 Valentine Street\, Hackettstown\, NJ\, 07840\, United States
CATEGORIES:Featured,IN HOUSE
ATTACH;FMTTYPE=image/png:https://czigmeisterbrewing.com/wp-content/uploads/Trivia-Website-1-e1745940869244.png
END:VEVENT
END:VCALENDAR