BEGIN:VCALENDAR
VERSION:2.0
PRODID:-//Czig Meister Brewing Company - ECPv6.15.20//NONSGML v1.0//EN
CALSCALE:GREGORIAN
METHOD:PUBLISH
X-ORIGINAL-URL:https://czigmeisterbrewing.com
X-WR-CALDESC:Events for Czig Meister Brewing Company
REFRESH-INTERVAL;VALUE=DURATION:PT1H
X-Robots-Tag:noindex
X-PUBLISHED-TTL:PT1H
BEGIN:VTIMEZONE
TZID:America/New_York
BEGIN:DAYLIGHT
TZOFFSETFROM:-0500
TZOFFSETTO:-0400
TZNAME:EDT
DTSTART:20250309T070000
END:DAYLIGHT
BEGIN:STANDARD
TZOFFSETFROM:-0400
TZOFFSETTO:-0500
TZNAME:EST
DTSTART:20251102T060000
END:STANDARD
BEGIN:DAYLIGHT
TZOFFSETFROM:-0500
TZOFFSETTO:-0400
TZNAME:EDT
DTSTART:20260308T070000
END:DAYLIGHT
BEGIN:STANDARD
TZOFFSETFROM:-0400
TZOFFSETTO:-0500
TZNAME:EST
DTSTART:20261101T060000
END:STANDARD
BEGIN:DAYLIGHT
TZOFFSETFROM:-0500
TZOFFSETTO:-0400
TZNAME:EDT
DTSTART:20270314T070000
END:DAYLIGHT
BEGIN:STANDARD
TZOFFSETFROM:-0400
TZOFFSETTO:-0500
TZNAME:EST
DTSTART:20271107T060000
END:STANDARD
END:VTIMEZONE
BEGIN:VEVENT
DTSTART;VALUE=DATE:20260506
DTEND;VALUE=DATE:20260507
DTSTAMP:20260420T220303
CREATED:20260408T124226Z
LAST-MODIFIED:20260408T124226Z
UID:10001764-1778025600-1778111999@czigmeisterbrewing.com
SUMMARY:New Beer Release: Keep On Shining
DESCRIPTION:☀️ Keep On Shining is BACK — with a fresh new name — and your summer just got a whole lot brighter 🍋🍻 \nSun’s out\, cans up. At just 4.3% ABV and 23 IBUs; our refreshing Citrus Shandy is here to make life easy (and delicious). Bursting with real orange\, lime\, and lemon\, this crisp\, juicy brew is the ultimate warm-weather companion. \nLight\, zesty\, and endlessly crushable — perfect for beach days\, BBQs\, or just kicking back and doing nothing at all. \nNow pouring in the taproom + available in 4-packs to go. Don’t miss it ✨
URL:https://czigmeisterbrewing.com/event/new-beer-release-keep-on-shining/
LOCATION:Czig Meister Brewery\, 106 Valentine Street\, Hackettstown\, NJ\, 07840\, United States
CATEGORIES:BEER RELEASES
ATTACH;FMTTYPE=image/png:https://czigmeisterbrewing.com/wp-content/uploads/Website-Event-Covers-2-106.png
END:VEVENT
END:VCALENDAR