BEGIN:VCALENDAR
VERSION:2.0
PRODID:-//Czig Meister Brewing Company - ECPv6.15.20//NONSGML v1.0//EN
CALSCALE:GREGORIAN
METHOD:PUBLISH
X-ORIGINAL-URL:https://czigmeisterbrewing.com
X-WR-CALDESC:Events for Czig Meister Brewing Company
REFRESH-INTERVAL;VALUE=DURATION:PT1H
X-Robots-Tag:noindex
X-PUBLISHED-TTL:PT1H
BEGIN:VTIMEZONE
TZID:America/New_York
BEGIN:DAYLIGHT
TZOFFSETFROM:-0500
TZOFFSETTO:-0400
TZNAME:EDT
DTSTART:20250309T070000
END:DAYLIGHT
BEGIN:STANDARD
TZOFFSETFROM:-0400
TZOFFSETTO:-0500
TZNAME:EST
DTSTART:20251102T060000
END:STANDARD
BEGIN:DAYLIGHT
TZOFFSETFROM:-0500
TZOFFSETTO:-0400
TZNAME:EDT
DTSTART:20260308T070000
END:DAYLIGHT
BEGIN:STANDARD
TZOFFSETFROM:-0400
TZOFFSETTO:-0500
TZNAME:EST
DTSTART:20261101T060000
END:STANDARD
BEGIN:DAYLIGHT
TZOFFSETFROM:-0500
TZOFFSETTO:-0400
TZNAME:EDT
DTSTART:20270314T070000
END:DAYLIGHT
BEGIN:STANDARD
TZOFFSETFROM:-0400
TZOFFSETTO:-0500
TZNAME:EST
DTSTART:20271107T060000
END:STANDARD
END:VTIMEZONE
BEGIN:VEVENT
DTSTART;VALUE=DATE:20260320
DTEND;VALUE=DATE:20260321
DTSTAMP:20260423T065407
CREATED:20260219T153735Z
LAST-MODIFIED:20260219T153735Z
UID:10001722-1773964800-1774051199@czigmeisterbrewing.com
SUMMARY:New Beer Release: Herdsman
DESCRIPTION:Herdsman – German-Style Bock Lager\nABV: 6.7% | IBU: 25 | Style: Bock\nAvailability: Limited Release \nHerdsman is a strong and steady German-style Bock\, brewed to reflect the quiet endurance and seasonal rhythm of pastoral life. \nBuilt on a rich base of Weyermann Barke Pilsner\, Vienna\, Munich I\, and Caramunich III malts\, it pours deep copper with full-bodied notes of toasted bread\, dark caramel\, and soft sweetness. Balanced by gentle floral tones from Hersbrucker hops and fermented with traditional Bock yeast\, it finishes clean\, smooth\, and deeply satisfying. \nRobust but never heavy\, Herdsman is a beer that works hard—and drinks easy.
URL:https://czigmeisterbrewing.com/event/new-beer-release-herdsman/
LOCATION:Czig Meister Brewery\, 106 Valentine Street\, Hackettstown\, NJ\, 07840\, United States
CATEGORIES:BEER RELEASES
ATTACH;FMTTYPE=image/png:https://czigmeisterbrewing.com/wp-content/uploads/Herdsman-Website-Resize.png
END:VEVENT
BEGIN:VEVENT
DTSTART;VALUE=DATE:20260403
DTEND;VALUE=DATE:20260404
DTSTAMP:20260423T065407
CREATED:20260310T161526Z
LAST-MODIFIED:20260310T161526Z
UID:10001731-1775174400-1775260799@czigmeisterbrewing.com
SUMMARY:Beer Release: Order
DESCRIPTION:Order – Belgian-Style Singel\nABV: 6.3% | IBU: 19 | Style: Belgian Singel\nAvailability: Limited Release \nRooted in monastic brewing tradition\, Order is our Belgian-Style Singel—light\, expressive\, and designed for both quiet contemplation and casual enjoyment. \nBrewed with Weyermann Pale and Pilsner malts\, plus a hint of Biscuit Malt for toasted depth\, it pours a golden straw color with a soft\, grainy sweetness. Fermented with classic Belgian yeast\, the profile is laced with floral aromas\, light spice\, and subtle fruitiness\, all finishing clean and dry. \nAt 6.3% ABV\, it’s flavorful yet restrained—a modern nod to centuries-old brewing wisdom.
URL:https://czigmeisterbrewing.com/event/beer-release-order/
LOCATION:Czig Meister Brewery\, 106 Valentine Street\, Hackettstown\, NJ\, 07840\, United States
CATEGORIES:BEER RELEASES
ATTACH;FMTTYPE=image/png:https://czigmeisterbrewing.com/wp-content/uploads/Order-Website.png
END:VEVENT
BEGIN:VEVENT
DTSTART;VALUE=DATE:20260410
DTEND;VALUE=DATE:20260411
DTSTAMP:20260423T065407
CREATED:20260318T124417Z
LAST-MODIFIED:20260318T124417Z
UID:10001735-1775779200-1775865599@czigmeisterbrewing.com
SUMMARY:New Beer Release: Uno Mas
DESCRIPTION:Uno Más – Mexican-Style Lager\nABV: 5.2% | IBU: 30 | Style: Mexican Lager\nAvailability: Seasonal / Warm Weather \nUno Más is our clean\, refreshing Mexican-style Lager\, brewed for sunshine\, backyard meals\, and every “let’s hang a little longer” moment. \nCrafted with a base of Barke Pilsner\, Vienna\, Avangard 2-Row\, and flaked corn\, it pours golden and smooth with light sweetness and exceptional drinkability. A touch of Motueka hops brings a subtle lime-zest brightness\, and German lager yeast keeps the finish crisp and snappy. \nEasygoing yet full of flavor—Uno Más is always a good idea.
URL:https://czigmeisterbrewing.com/event/new-beer-release-uno-mas/
LOCATION:Czig Meister Brewery\, 106 Valentine Street\, Hackettstown\, NJ\, 07840\, United States
CATEGORIES:BEER RELEASES
END:VEVENT
BEGIN:VEVENT
DTSTART;VALUE=DATE:20260506
DTEND;VALUE=DATE:20260507
DTSTAMP:20260423T065407
CREATED:20260408T124226Z
LAST-MODIFIED:20260408T124226Z
UID:10001764-1778025600-1778111999@czigmeisterbrewing.com
SUMMARY:New Beer Release: Keep On Shining
DESCRIPTION:☀️ Keep On Shining is BACK — with a fresh new name — and your summer just got a whole lot brighter 🍋🍻 \nSun’s out\, cans up. At just 4.3% ABV and 23 IBUs; our refreshing Citrus Shandy is here to make life easy (and delicious). Bursting with real orange\, lime\, and lemon\, this crisp\, juicy brew is the ultimate warm-weather companion. \nLight\, zesty\, and endlessly crushable — perfect for beach days\, BBQs\, or just kicking back and doing nothing at all. \nNow pouring in the taproom + available in 4-packs to go. Don’t miss it ✨
URL:https://czigmeisterbrewing.com/event/new-beer-release-keep-on-shining/
LOCATION:Czig Meister Brewery\, 106 Valentine Street\, Hackettstown\, NJ\, 07840\, United States
CATEGORIES:BEER RELEASES
ATTACH;FMTTYPE=image/png:https://czigmeisterbrewing.com/wp-content/uploads/Website-Event-Covers-2-106.png
END:VEVENT
END:VCALENDAR