BEGIN:VCALENDAR
VERSION:2.0
PRODID:-//Czig Meister Brewing Company - ECPv6.15.20//NONSGML v1.0//EN
CALSCALE:GREGORIAN
METHOD:PUBLISH
X-WR-CALNAME:Czig Meister Brewing Company
X-ORIGINAL-URL:https://czigmeisterbrewing.com
X-WR-CALDESC:Events for Czig Meister Brewing Company
REFRESH-INTERVAL;VALUE=DURATION:PT1H
X-Robots-Tag:noindex
X-PUBLISHED-TTL:PT1H
BEGIN:VTIMEZONE
TZID:America/New_York
BEGIN:DAYLIGHT
TZOFFSETFROM:-0500
TZOFFSETTO:-0400
TZNAME:EDT
DTSTART:20230312T070000
END:DAYLIGHT
BEGIN:STANDARD
TZOFFSETFROM:-0400
TZOFFSETTO:-0500
TZNAME:EST
DTSTART:20231105T060000
END:STANDARD
BEGIN:DAYLIGHT
TZOFFSETFROM:-0500
TZOFFSETTO:-0400
TZNAME:EDT
DTSTART:20240310T070000
END:DAYLIGHT
BEGIN:STANDARD
TZOFFSETFROM:-0400
TZOFFSETTO:-0500
TZNAME:EST
DTSTART:20241103T060000
END:STANDARD
BEGIN:DAYLIGHT
TZOFFSETFROM:-0500
TZOFFSETTO:-0400
TZNAME:EDT
DTSTART:20250309T070000
END:DAYLIGHT
BEGIN:STANDARD
TZOFFSETFROM:-0400
TZOFFSETTO:-0500
TZNAME:EST
DTSTART:20251102T060000
END:STANDARD
BEGIN:DAYLIGHT
TZOFFSETFROM:-0500
TZOFFSETTO:-0400
TZNAME:EDT
DTSTART:20260308T070000
END:DAYLIGHT
BEGIN:STANDARD
TZOFFSETFROM:-0400
TZOFFSETTO:-0500
TZNAME:EST
DTSTART:20261101T060000
END:STANDARD
END:VTIMEZONE
BEGIN:VEVENT
DTSTART;VALUE=DATE:20240510
DTEND;VALUE=DATE:20240511
DTSTAMP:20260420T220032
CREATED:20240503T204928Z
LAST-MODIFIED:20240503T204928Z
UID:10000247-1715299200-1715385599@czigmeisterbrewing.com
SUMMARY:Double Beer Release: Easy Peasy and Deep Sea Series Gleam
DESCRIPTION:On May 10th we have a double beer release! \nFirst up is Easy Peasy\, our Summer Shandy! Soak up the sunshine with this 4.3% summer in a glass. This easy drinker is made with lemons\, limes\, and tangerines\, making it a staple in our fridges during these hot days. Available in 16oz 4-packs AND 12oz 12-packs🍻 \nNext\, Gleam is back! Gleam is one of our favorites from the Deep Sea Series making waves in the taproom yet again. Brewed with Citra & Sabro hops and sitting at 7.3%\, this beauty is pulling through notes of lemon\, orange zest\, light coconut\, and daaaaank if you ask us.
URL:https://czigmeisterbrewing.com/event/double-beer-release-easy-peasy-and-deep-sea-series-gleam/
LOCATION:Czig Meister Brewery\, 106 Valentine Street\, Hackettstown\, NJ\, 07840\, United States
CATEGORIES:BEER RELEASES
ATTACH;FMTTYPE=image/png:https://czigmeisterbrewing.com/wp-content/uploads/Double-Release-5.10.png
END:VEVENT
BEGIN:VEVENT
DTSTART;VALUE=DATE:20240531
DTEND;VALUE=DATE:20240601
DTSTAMP:20260420T220032
CREATED:20240510T194342Z
LAST-MODIFIED:20240510T194402Z
UID:10000250-1717113600-1717199999@czigmeisterbrewing.com
SUMMARY:Beer Release: Sundial Series Chrono Shift
DESCRIPTION:Our sour ale series pays homage to the sundial\, a beautiful and precise tool that measures time using shadows cast by the sun. The brewing process for sours is far more time intensive than traditional styles\, but the wait is worth it! Each brew features a variety of fruits and flavors to create ever-evolving profiles that celebrate all seasons and make any time a good time for a sour. \nChrono Shift is conditioned on passion fruit\, raspberry\, lime\, and mandarin orange with whole madagascar vanilla beans & lactose.
URL:https://czigmeisterbrewing.com/event/beer-release-sundial-series-chrono-shift-2/
LOCATION:Czig Meister Brewery\, 106 Valentine Street\, Hackettstown\, NJ\, 07840\, United States
CATEGORIES:BEER RELEASES
ATTACH;FMTTYPE=image/png:https://czigmeisterbrewing.com/wp-content/uploads/Chronoshift-5.31-website.png
END:VEVENT
BEGIN:VEVENT
DTSTART;VALUE=DATE:20240621
DTEND;VALUE=DATE:20240622
DTSTAMP:20260420T220032
CREATED:20240612T145528Z
LAST-MODIFIED:20240612T145528Z
UID:10000262-1718928000-1719014399@czigmeisterbrewing.com
SUMMARY:Beer Release: Strawberry Cream Ale
DESCRIPTION:Kick off summer with the perfect brew! On Friday July 21st\, our Strawberry Cream Ale is back! Conditioned on strawberries\, lactose\, and vanilla\, this returning favorite is everything you’ve been waiting for to complete your seasonal line up.
URL:https://czigmeisterbrewing.com/event/beer-release-strawberry-cream-ale-2/
LOCATION:Czig Meister Brewery\, 106 Valentine Street\, Hackettstown\, NJ\, 07840\, United States
CATEGORIES:BEER RELEASES
ATTACH;FMTTYPE=image/png:https://czigmeisterbrewing.com/wp-content/uploads/Strawberry-Cream-Release-Website.png
END:VEVENT
BEGIN:VEVENT
DTSTART;VALUE=DATE:20240628
DTEND;VALUE=DATE:20240629
DTSTAMP:20260420T220032
CREATED:20240612T150848Z
LAST-MODIFIED:20240612T150848Z
UID:10000263-1719532800-1719619199@czigmeisterbrewing.com
SUMMARY:Beer Release: Sundial Series Island Time
DESCRIPTION:🍍🥥Escape to paradise with Island Time\, the newest addition to our Sundial Series. This fruited sour is conditioned on pineapple and coconut with a touch of lactose for added creaminess. Take a sip and let Island Time transport you to a tropical oasis. Releasing June 28th!
URL:https://czigmeisterbrewing.com/event/beer-release-sundial-series-island-time/
LOCATION:Czig Meister Brewery\, 106 Valentine Street\, Hackettstown\, NJ\, 07840\, United States
CATEGORIES:BEER RELEASES
ATTACH;FMTTYPE=image/png:https://czigmeisterbrewing.com/wp-content/uploads/Island-Time-6.28.png
END:VEVENT
BEGIN:VEVENT
DTSTART;VALUE=DATE:20240712
DTEND;VALUE=DATE:20240713
DTSTAMP:20260420T220032
CREATED:20240612T174307Z
LAST-MODIFIED:20240612T174355Z
UID:10000264-1720742400-1720828799@czigmeisterbrewing.com
SUMMARY:Beer Release: Deep Sea Series Kelp!
DESCRIPTION:On Friday\, July 12th Deep Sea Series\, Kelp! is returning. This New England Style IPA is a hazy and juicy beer that’s bursting with tropical fruit flavors. Brewed with Citra and El Dorado hops\, this IPA delivers a punch of citrus and stone fruit notes that are perfectly balanced by a smooth and creamy mouthfeel. The finish is crisp and refreshing\, making this the perfect beer to enjoy on a warm day. Cheers! 🍻
URL:https://czigmeisterbrewing.com/event/beer-release-deep-sea-series-kelp-2/
LOCATION:Czig Meister Brewery\, 106 Valentine Street\, Hackettstown\, NJ\, 07840\, United States
CATEGORIES:BEER RELEASES
ATTACH;FMTTYPE=image/png:https://czigmeisterbrewing.com/wp-content/uploads/Kelp-7.7-Website.png
END:VEVENT
BEGIN:VEVENT
DTSTART;VALUE=DATE:20240712
DTEND;VALUE=DATE:20240713
DTSTAMP:20260420T220032
CREATED:20240612T181041Z
LAST-MODIFIED:20240612T181041Z
UID:10000265-1720742400-1720828799@czigmeisterbrewing.com
SUMMARY:Beer Release: Wayfinder Pilsner
DESCRIPTION:On July 12th\, Wayfinder finds it’s way back into cans. Enjoy the beauty that the world has to offer by wandering the trails as they wind and weave their way through the unknown. Between adventures\, grab a Wayfinder for a crisp\, clean lager that is sure to keep the journey alive.
URL:https://czigmeisterbrewing.com/event/beer-release-wayfinder-pilsner/
LOCATION:Czig Meister Brewery\, 106 Valentine Street\, Hackettstown\, NJ\, 07840\, United States
CATEGORIES:BEER RELEASES
ATTACH;FMTTYPE=image/png:https://czigmeisterbrewing.com/wp-content/uploads/Wayfinder-7.12.png
END:VEVENT
BEGIN:VEVENT
DTSTART;VALUE=DATE:20240726
DTEND;VALUE=DATE:20240727
DTSTAMP:20260420T220032
CREATED:20240722T140541Z
LAST-MODIFIED:20240722T140541Z
UID:10000280-1721952000-1722038399@czigmeisterbrewing.com
SUMMARY:Beer Release: Sundial Series Civil Dawn
DESCRIPTION:Friday July 26th at 2pm\, Civil Dawn is back! One of the Sundial Series we’ve been missing for a while\, this Fruited Sour w/ key lime\, cinnamon\, vanilla\, and lactose is giving us those key lime pie vibes we looooove. Sitting at 6.7%\, you’re not gonna want to miss this summertime staple
URL:https://czigmeisterbrewing.com/event/beer-release-sundial-series-civil-dawn/
LOCATION:NJ
CATEGORIES:BEER RELEASES
ATTACH;FMTTYPE=image/png:https://czigmeisterbrewing.com/wp-content/uploads/Civil-Dawn-Website.png
END:VEVENT
BEGIN:VEVENT
DTSTART;VALUE=DATE:20240802
DTEND;VALUE=DATE:20240803
DTSTAMP:20260420T220032
CREATED:20240729T173012Z
LAST-MODIFIED:20240729T182408Z
UID:10000287-1722556800-1722643199@czigmeisterbrewing.com
SUMMARY:Beer Releases: Chalk It Up
DESCRIPTION:Join us on August 4th for what is sure to be a beautiful Sunday afternoon as we welcome back Doug McClure. He will be performing in the biergarten for a from 2-4! You don’t want to miss it.
URL:https://czigmeisterbrewing.com/event/beer-releases-chalk-it-up/
LOCATION:Czig Meister Brewery\, 106 Valentine Street\, Hackettstown\, NJ\, 07840\, United States
CATEGORIES:BEER RELEASES
ATTACH;FMTTYPE=image/png:https://czigmeisterbrewing.com/wp-content/uploads/Chalk-It-Up-Website.png
END:VEVENT
BEGIN:VEVENT
DTSTART;VALUE=DATE:20240809
DTEND;VALUE=DATE:20240810
DTSTAMP:20260420T220032
CREATED:20240731T195047Z
LAST-MODIFIED:20240731T195047Z
UID:10000291-1723161600-1723247999@czigmeisterbrewing.com
SUMMARY:Beer Release: Lawman's Sweet Justice
DESCRIPTION:Our Lawman’s Sweet Justice Cinnamon Peach Hefeweizen is back on August 9th! The perfect balance of cinnamon & peach\, with the aroma of grandma’s best homemade peach cobbler.
URL:https://czigmeisterbrewing.com/event/beer-release-lawmans-sweet-justice-2/
LOCATION:Czig Meister Brewery\, 106 Valentine Street\, Hackettstown\, NJ\, 07840\, United States
CATEGORIES:BEER RELEASES
ATTACH;FMTTYPE=image/png:https://czigmeisterbrewing.com/wp-content/uploads/Lawman-Sweet-Justice-Website.png
END:VEVENT
BEGIN:VEVENT
DTSTART;VALUE=DATE:20240814
DTEND;VALUE=DATE:20240815
DTSTAMP:20260420T220032
CREATED:20240806T192007Z
LAST-MODIFIED:20240806T192007Z
UID:10000294-1723593600-1723679999@czigmeisterbrewing.com
SUMMARY:Beer Releases: Lawman Hefeweizen
DESCRIPTION:Making it’s return on August 14th\, Lawman is back! Full-bodied and refreshing\, Lawman is full of notes of fruit and spice. Perfect to relax with in the Summer weather. Available on draft and in 4-packs to go!
URL:https://czigmeisterbrewing.com/event/beer-releases-lawman-hefeweizen/
LOCATION:Czig Meister Brewery\, 106 Valentine Street\, Hackettstown\, NJ\, 07840\, United States
CATEGORIES:BEER RELEASES
ATTACH;FMTTYPE=image/png:https://czigmeisterbrewing.com/wp-content/uploads/Lawman-Website-1.png
END:VEVENT
BEGIN:VEVENT
DTSTART;VALUE=DATE:20240913
DTEND;VALUE=DATE:20240914
DTSTAMP:20260420T220032
CREATED:20240906T135428Z
LAST-MODIFIED:20240906T135453Z
UID:10000375-1726185600-1726271999@czigmeisterbrewing.com
SUMMARY:Beer Release: Deep Sea Series Chimera
DESCRIPTION:On Friday September 13th\, Deep Sea Series Chimera makes it’s return. This 6.6% NEIPA is giving us notes of peach\, passion fruit\, sweet sweet lychee\, with a candied hop\, balanced dank profile. Hammered with Mosaic & Strata\, this is going to be the beer you reach for to keep you refreshed
URL:https://czigmeisterbrewing.com/event/beer-release-deep-sea-series-chimera/
LOCATION:NJ
CATEGORIES:BEER RELEASES
ATTACH;FMTTYPE=image/png:https://czigmeisterbrewing.com/wp-content/uploads/Chimera-Beer-Release.png
END:VEVENT
BEGIN:VEVENT
DTSTART;VALUE=DATE:20241018
DTEND;VALUE=DATE:20241019
DTSTAMP:20260420T220032
CREATED:20241009T194023Z
LAST-MODIFIED:20241009T194122Z
UID:10000414-1729209600-1729295999@czigmeisterbrewing.com
SUMMARY:Beer Release: Deep Sea Series Elani NEIPA
DESCRIPTION:
URL:https://czigmeisterbrewing.com/event/beer-release-deep-sea-series-elani-neipa/
LOCATION:NJ
CATEGORIES:BEER RELEASES
ATTACH;FMTTYPE=image/png:https://czigmeisterbrewing.com/wp-content/uploads/Website-Event-Covers-2-43.png
END:VEVENT
BEGIN:VEVENT
DTSTART;VALUE=DATE:20241018
DTEND;VALUE=DATE:20241019
DTSTAMP:20260420T220032
CREATED:20241009T195353Z
LAST-MODIFIED:20241009T195353Z
UID:10000415-1729209600-1729295999@czigmeisterbrewing.com
SUMMARY:Beer Release: Sundial Series Axis
DESCRIPTION:Axis is a 6.2% fruited sour with blood orange\, tangerine and pink guava
URL:https://czigmeisterbrewing.com/event/beer-release-sundial-series-axis-2/
LOCATION:NJ
CATEGORIES:BEER RELEASES
ATTACH;FMTTYPE=image/png:https://czigmeisterbrewing.com/wp-content/uploads/Website-Event-Covers-2-45.png
END:VEVENT
BEGIN:VEVENT
DTSTART;VALUE=DATE:20241025
DTEND;VALUE=DATE:20241026
DTSTAMP:20260420T220032
CREATED:20241008T184346Z
LAST-MODIFIED:20241008T184942Z
UID:10000410-1729814400-1729900799@czigmeisterbrewing.com
SUMMARY:Beer Release: Chaos Belgian Dubbel
DESCRIPTION:6.3% Notes of toffee\, brown sugar\, pie spices\, brown bread\, raisin\, dark cherry. The tradition of Belgian monks brewing this style using holy water goes back to the late 19th century\, and here we use Hackettstown water to add a little magic to every brew.
URL:https://czigmeisterbrewing.com/event/beer-release-chaos-belgian-dubbel-2/
LOCATION:NJ
CATEGORIES:BEER RELEASES
ATTACH;FMTTYPE=image/png:https://czigmeisterbrewing.com/wp-content/uploads/Website-Event-Covers-2-38.png
END:VEVENT
BEGIN:VEVENT
DTSTART;VALUE=DATE:20241025
DTEND;VALUE=DATE:20241026
DTSTAMP:20260420T220032
CREATED:20241008T185818Z
LAST-MODIFIED:20241008T185818Z
UID:10000412-1729814400-1729900799@czigmeisterbrewing.com
SUMMARY:Beer Release: Miner Black Lager
DESCRIPTION:Miner\, the first beer of ours to place in the World Beer Cup\, makes its way out of the mines and into your glass. Easy drinking at 4.6%\, smooth\, crisp\, and notes of dark roast coffee with a nice clean finish.
URL:https://czigmeisterbrewing.com/event/beer-release-miner-black-lager-2/
LOCATION:NJ
CATEGORIES:BEER RELEASES
ATTACH;FMTTYPE=image/png:https://czigmeisterbrewing.com/wp-content/uploads/Website-Event-Covers-2-40.png
END:VEVENT
BEGIN:VEVENT
DTSTART;VALUE=DATE:20241115
DTEND;VALUE=DATE:20241116
DTSTAMP:20260420T220032
CREATED:20241008T184826Z
LAST-MODIFIED:20241008T184826Z
UID:10000411-1731628800-1731715199@czigmeisterbrewing.com
SUMMARY:Beer Release: Tis The Season Fruited Sour
DESCRIPTION:Tis the Season is 6.2% cranberry & tangerine sour made to compliment whatever food that brings you back home this holiday season. We hope this beer makes however you celebrate\, just feel a bit more festive.
URL:https://czigmeisterbrewing.com/event/beer-release-tis-the-season-fruited-sour/
LOCATION:NJ
CATEGORIES:BEER RELEASES
ATTACH;FMTTYPE=image/png:https://czigmeisterbrewing.com/wp-content/uploads/Website-Event-Covers-2-39.png
END:VEVENT
BEGIN:VEVENT
DTSTART;VALUE=DATE:20241115
DTEND;VALUE=DATE:20241116
DTSTAMP:20260420T220032
CREATED:20241008T190856Z
LAST-MODIFIED:20241008T190856Z
UID:10000413-1731628800-1731715199@czigmeisterbrewing.com
SUMMARY:Beer Release: Tiramisu Milk Porter
DESCRIPTION:Brewed with a Dark Roasted Peruvian Blend\, Madagascar vanilla\, Ghanian cacao nibs\, and lactose. What starts out as a silky milk porter gets conditioned on the above ingredients to bring you the traditional flavors of tiramisu bringing you delicacy in a glass.
URL:https://czigmeisterbrewing.com/event/beer-release-tiramisu-milk-porter/
LOCATION:NJ
CATEGORIES:BEER RELEASES
ATTACH;FMTTYPE=image/png:https://czigmeisterbrewing.com/wp-content/uploads/Website-Event-Covers-2-41.png
END:VEVENT
BEGIN:VEVENT
DTSTART;VALUE=DATE:20241120
DTEND;VALUE=DATE:20241121
DTSTAMP:20260420T220032
CREATED:20241119T183139Z
LAST-MODIFIED:20241119T183224Z
UID:10000428-1732060800-1732147199@czigmeisterbrewing.com
SUMMARY:Beer Release: True Zealand New Zealand Hopped Lager
DESCRIPTION:5.6% Hopped Lager with New Zealand Hops
URL:https://czigmeisterbrewing.com/event/beer-release-true-zealand-new-zealand-hopped-lager/
LOCATION:NJ
CATEGORIES:BEER RELEASES
ATTACH;FMTTYPE=image/png:https://czigmeisterbrewing.com/wp-content/uploads/Website-Event-Covers-2-61.png
END:VEVENT
BEGIN:VEVENT
DTSTART;VALUE=DATE:20241122
DTEND;VALUE=DATE:20241123
DTSTAMP:20260420T220032
CREATED:20241119T182754Z
LAST-MODIFIED:20241119T182754Z
UID:10000427-1732233600-1732319999@czigmeisterbrewing.com
SUMMARY:Beer Release: Deep Sea Series Sunburst NEIPA
DESCRIPTION:7.1% | NEIPA brewed with Citra\, Amarillo\, and El Dorado. Expect pops of fruity candied citrus\, orange melange\, lime\, and tangerine.
URL:https://czigmeisterbrewing.com/event/beer-release-deep-sea-series-sunburst-neipa/
LOCATION:NJ
CATEGORIES:BEER RELEASES
ATTACH;FMTTYPE=image/png:https://czigmeisterbrewing.com/wp-content/uploads/Website-Event-Covers-2-60.png
END:VEVENT
BEGIN:VEVENT
DTSTART;VALUE=DATE:20241220
DTEND;VALUE=DATE:20241221
DTSTAMP:20260420T220032
CREATED:20241119T190124Z
LAST-MODIFIED:20241119T190124Z
UID:10000435-1734652800-1734739199@czigmeisterbrewing.com
SUMMARY:Beer Release: Deep Sea Series Oasis
DESCRIPTION:6.6% NEIPA with Citra & Amarillo is pulling through dank\, oat forward\, candied lime and sweeet sweet orange creamsicle\, with just the right amount of resin.
URL:https://czigmeisterbrewing.com/event/beer-release-deep-sea-series-oasis-2/
LOCATION:NJ
CATEGORIES:BEER RELEASES
ATTACH;FMTTYPE=image/png:https://czigmeisterbrewing.com/wp-content/uploads/Website-Event-Covers-2-65.png
END:VEVENT
BEGIN:VEVENT
DTSTART;VALUE=DATE:20241220
DTEND;VALUE=DATE:20241221
DTSTAMP:20260420T220032
CREATED:20241119T204629Z
LAST-MODIFIED:20241119T204629Z
UID:10000439-1734652800-1734739199@czigmeisterbrewing.com
SUMMARY:Beer Release: Sundial Series Solstice
DESCRIPTION:Fruited sour with apricot and tangerine
URL:https://czigmeisterbrewing.com/event/beer-release-sundial-series-solstice-2/
LOCATION:NJ
CATEGORIES:BEER RELEASES
ATTACH;FMTTYPE=image/png:https://czigmeisterbrewing.com/wp-content/uploads/Website-Event-Covers-2-66.png
END:VEVENT
BEGIN:VEVENT
DTSTART;VALUE=DATE:20250103
DTEND;VALUE=DATE:20250104
DTSTAMP:20260420T220032
CREATED:20250103T155121Z
LAST-MODIFIED:20250103T180001Z
UID:10000458-1735862400-1735948799@czigmeisterbrewing.com
SUMMARY:Beer Release: Abyss Series Dragged to the Depths
DESCRIPTION:Abyss Series Dragged to the Depths makes it’s return on January 3rd in the tasting room and across distribution. Hopped exclusively with Citra and Mosaic cryo hops\, this double IPA comes in at 8.5% with a creamy mouthfeel\, & heavy notes of pineapple\, lime\, candied mango
URL:https://czigmeisterbrewing.com/event/beer-release-abyss-series-dragged-to-the-depths-2/
LOCATION:Czig Meister Brewery\, 106 Valentine Street\, Hackettstown\, NJ\, 07840\, United States
CATEGORIES:BEER RELEASES
ATTACH;FMTTYPE=image/png:https://czigmeisterbrewing.com/wp-content/uploads/Dragged-Website-1.3.png
END:VEVENT
BEGIN:VEVENT
DTSTART;VALUE=DATE:20250116
DTEND;VALUE=DATE:20250117
DTSTAMP:20260420T220032
CREATED:20250103T160059Z
LAST-MODIFIED:20250103T175940Z
UID:10000459-1736985600-1737071999@czigmeisterbrewing.com
SUMMARY:Beer Release: Deep Sea Series Rogue Wave
DESCRIPTION:Rogue Wave is making some waves as it returns to the Deep Sea Series! Bright and punchy\, this 7% NEIPA is brewed with Mosaic\, Idaho 7\, and El Dorado hops and is a brand new addition to our line up. Notes of grapefruit peel\, light mango\, pineapple\, & pear give us exactly what we’re looking for with a slight dankness at the end. Available in liquor stores\, at the brewery\, and for home delivery starting January 16th.\n\n\n\nPairs with: Spicy food like Nashville Hot Chicken\, nutty cheeses like a smoked Gruyère\, and earthy dishes like stuffed mushrooms.
URL:https://czigmeisterbrewing.com/event/beer-release-deep-sea-series-rogue-wave-2/
LOCATION:Czig Meister Brewery\, 106 Valentine Street\, Hackettstown\, NJ\, 07840\, United States
CATEGORIES:BEER RELEASES
ATTACH;FMTTYPE=image/png:https://czigmeisterbrewing.com/wp-content/uploads/Rogue-Website-1.15.png
END:VEVENT
BEGIN:VEVENT
DTSTART;VALUE=DATE:20250212
DTEND;VALUE=DATE:20250213
DTSTAMP:20260420T220032
CREATED:20250116T171838Z
LAST-MODIFIED:20250116T171838Z
UID:10000481-1739318400-1739404799@czigmeisterbrewing.com
SUMMARY:Beer Release: 78 Fire Irish Red Ale
DESCRIPTION:We’re excited to announce the return of our collaboration with the Hackettstown Fire Department\, 78 Fire\, an Irish Red Ale! The Hackettstown Fire Department is a volunteer run fire department dedicated to property preservation\, and life safety within the Town of Hackettstown and provides mutual aid to numerous communities in both Warren\, Morris\, and Sussex Counties. A portion of the proceeds from 78 Fire will be donated directly to them and all they do. \n78 Fire Irish Red Ale- 78 Fire is a 6.3% traditional Irish Red Ale with notes of biscuit and toffee\, complemented by a nice rounded out light roast\, and a perfectly clean finish.
URL:https://czigmeisterbrewing.com/event/beer-release-78-fire-irish-red-ale/
LOCATION:Czig Meister Brewery\, 106 Valentine Street\, Hackettstown\, NJ\, 07840\, United States
CATEGORIES:BEER RELEASES
ATTACH;FMTTYPE=image/png:https://czigmeisterbrewing.com/wp-content/uploads/78-Fire-Website-2.png
END:VEVENT
BEGIN:VEVENT
DTSTART;VALUE=DATE:20250214
DTEND;VALUE=DATE:20250215
DTSTAMP:20260420T220032
CREATED:20250210T150759Z
LAST-MODIFIED:20250210T150759Z
UID:10000512-1739491200-1739577599@czigmeisterbrewing.com
SUMMARY:Beer Release: Deep Sea Series Gleam
DESCRIPTION:Gleam returns on February 14th \nDeep Sea Series Gleam- 7.3% New England IPA | Typically brewed with Citra & Sabro hops\, we decided to add Bru-1\, one of our favorite experimental hops to round this beauty out. Expect piña colada forward notes\, with a slight dankness at the end. Available starting February 14th to-go in 4-packs\, and available for draft pours at the brewery.
URL:https://czigmeisterbrewing.com/event/beer-release-deep-sea-series-gleam/
LOCATION:Czig Meister Brewery\, 106 Valentine Street\, Hackettstown\, NJ\, 07840\, United States
CATEGORIES:BEER RELEASES
ATTACH;FMTTYPE=image/png:https://czigmeisterbrewing.com/wp-content/uploads/Gleam-Website-feb.png
END:VEVENT
BEGIN:VEVENT
DTSTART;VALUE=DATE:20250228
DTEND;VALUE=DATE:20250301
DTSTAMP:20260420T220032
CREATED:20250210T150922Z
LAST-MODIFIED:20250210T151603Z
UID:10000513-1740700800-1740787199@czigmeisterbrewing.com
SUMMARY:Beer Release: Sundial Series Eventide
DESCRIPTION:Sundial Series Eventide returns on February 28th \nEventide uses Mosaic & Simcoe lupulin powder\, Nelson Sauvin hops\, and has been conditioned on blueberries\, blackberries\, raspberries
URL:https://czigmeisterbrewing.com/event/beer-release-sundial-series-eventide-2/
LOCATION:Czig Meister Brewery\, 106 Valentine Street\, Hackettstown\, NJ\, 07840\, United States
CATEGORIES:BEER RELEASES
ATTACH;FMTTYPE=image/png:https://czigmeisterbrewing.com/wp-content/uploads/Eventide-Website.png
END:VEVENT
BEGIN:VEVENT
DTSTART;VALUE=DATE:20250320
DTEND;VALUE=DATE:20250321
DTSTAMP:20260420T220032
CREATED:20250224T171346Z
LAST-MODIFIED:20250224T171346Z
UID:10000536-1742428800-1742515199@czigmeisterbrewing.com
SUMMARY:Beer Release: Herdsman Bock
DESCRIPTION:Bock. Is. Back. \nHerdsman\, our Bock Spring Lager\, is back! The beer named after its German namesake for goat\, will be back Friday March 1st\, at 2pm. 6.7% and light bodied\, this easy-drinker is giving us notes of sweet malty caramel and biscuit.
URL:https://czigmeisterbrewing.com/event/beer-release-herdsman-bock-2/
LOCATION:Czig Meister Brewery\, 106 Valentine Street\, Hackettstown\, NJ\, 07840\, United States
CATEGORIES:BEER RELEASES
ATTACH;FMTTYPE=image/png:https://czigmeisterbrewing.com/wp-content/uploads/Herdsman-bock-Website-Relase.png
END:VEVENT
BEGIN:VEVENT
DTSTART;VALUE=DATE:20250327
DTEND;VALUE=DATE:20250328
DTSTAMP:20260420T220032
CREATED:20250326T142829Z
LAST-MODIFIED:20250326T142829Z
UID:10000550-1743033600-1743119999@czigmeisterbrewing.com
SUMMARY:Beer Release: Deep Sea Series Caldera
DESCRIPTION:Deep Sea Series: Caldera is back March 27th!  This New England style IPA is brewed with Amarillo and Mosaic hops\, offering a unique blend of flavors.  \nEnjoy the subtle notes of citrus\, pine\, and tropical fruit.  \nAvailable March 27th. Cheers!
URL:https://czigmeisterbrewing.com/event/beer-release-deep-sea-series-caldera-2/
LOCATION:Czig Meister Brewery\, 106 Valentine Street\, Hackettstown\, NJ\, 07840\, United States
CATEGORIES:BEER RELEASES
ATTACH;FMTTYPE=image/png:https://czigmeisterbrewing.com/wp-content/uploads/Caldera-Website-3.27.png
END:VEVENT
BEGIN:VEVENT
DTSTART;VALUE=DATE:20250328
DTEND;VALUE=DATE:20250329
DTSTAMP:20260420T220032
CREATED:20250327T180520Z
LAST-MODIFIED:20250327T180520Z
UID:10000551-1743120000-1743206399@czigmeisterbrewing.com
SUMMARY:Beer Release: Sundial Series Zenith
DESCRIPTION:Reach the peak of flavor with Zenith\, next up in our Sundial Series. This fruited sour is conditioned on orange\, mango\, and peach for a juicy and refreshing taste. Take a sip and let Zenith transport you to new heights.
URL:https://czigmeisterbrewing.com/event/beer-release-sundial-series-zenith-3/
LOCATION:Czig Meister Brewery\, 106 Valentine Street\, Hackettstown\, NJ\, 07840\, United States
CATEGORIES:BEER RELEASES
ATTACH;FMTTYPE=image/png:https://czigmeisterbrewing.com/wp-content/uploads/Zenith-Website-1.png
END:VEVENT
BEGIN:VEVENT
DTSTART;VALUE=DATE:20250404
DTEND;VALUE=DATE:20250405
DTSTAMP:20260420T220032
CREATED:20230331T155016Z
LAST-MODIFIED:20250331T163527Z
UID:10000096-1743724800-1743811199@czigmeisterbrewing.com
SUMMARY:Beer Release: Order Belgian Singel
DESCRIPTION:Order\, our Belgian-style Singel that’s light\, refreshing\, and smooth\, is back April 4th at 2pm! Golden in color with a fruity aroma & hints of spice\, citrus\, and honey\, Order drinks like a trip to a local pub in Brussels feels. Easy-drinking and delicious\, Order yours today and we guarantee this will be your new favorite
URL:https://czigmeisterbrewing.com/event/beer-release-order-belgian-singel/
LOCATION:NJ
CATEGORIES:BEER RELEASES
ATTACH;FMTTYPE=image/png:https://czigmeisterbrewing.com/wp-content/uploads/Order-Website-1.png
END:VEVENT
END:VCALENDAR