BEGIN:VCALENDAR
VERSION:2.0
PRODID:-//Czig Meister Brewing Company - ECPv6.15.20//NONSGML v1.0//EN
CALSCALE:GREGORIAN
METHOD:PUBLISH
X-WR-CALNAME:Czig Meister Brewing Company
X-ORIGINAL-URL:https://czigmeisterbrewing.com
X-WR-CALDESC:Events for Czig Meister Brewing Company
REFRESH-INTERVAL;VALUE=DURATION:PT1H
X-Robots-Tag:noindex
X-PUBLISHED-TTL:PT1H
BEGIN:VTIMEZONE
TZID:America/New_York
BEGIN:DAYLIGHT
TZOFFSETFROM:-0500
TZOFFSETTO:-0400
TZNAME:EDT
DTSTART:20210314T070000
END:DAYLIGHT
BEGIN:STANDARD
TZOFFSETFROM:-0400
TZOFFSETTO:-0500
TZNAME:EST
DTSTART:20211107T060000
END:STANDARD
BEGIN:DAYLIGHT
TZOFFSETFROM:-0500
TZOFFSETTO:-0400
TZNAME:EDT
DTSTART:20220313T070000
END:DAYLIGHT
BEGIN:STANDARD
TZOFFSETFROM:-0400
TZOFFSETTO:-0500
TZNAME:EST
DTSTART:20221106T060000
END:STANDARD
BEGIN:DAYLIGHT
TZOFFSETFROM:-0500
TZOFFSETTO:-0400
TZNAME:EDT
DTSTART:20230312T070000
END:DAYLIGHT
BEGIN:STANDARD
TZOFFSETFROM:-0400
TZOFFSETTO:-0500
TZNAME:EST
DTSTART:20231105T060000
END:STANDARD
BEGIN:DAYLIGHT
TZOFFSETFROM:-0500
TZOFFSETTO:-0400
TZNAME:EDT
DTSTART:20240310T070000
END:DAYLIGHT
BEGIN:STANDARD
TZOFFSETFROM:-0400
TZOFFSETTO:-0500
TZNAME:EST
DTSTART:20241103T060000
END:STANDARD
END:VTIMEZONE
BEGIN:VEVENT
DTSTART;VALUE=DATE:20220610
DTEND;VALUE=DATE:20220611
DTSTAMP:20260423T134628
CREATED:20220518T184942Z
LAST-MODIFIED:20220608T184614Z
UID:10000037-1654819200-1654905599@czigmeisterbrewing.com
SUMMARY:Release: Deep Sea Series Sunburst and Sunburst Milkshake
DESCRIPTION:Deep Sea Sunburst –  Part of the Deep Sea Series\, a hazy\, juicy IPA with light citrus notes and a smooth finish. \nDeep Sea Sunburst Milkshake – Our Deep Sea Sunburst conditioned on heaps of Peaches and Tangerines\, Lactose\, and Madagascar Vanilla beans!
URL:https://czigmeisterbrewing.com/event/release-deep-sea-series-sunburst-and-sunburst-milkshake/
LOCATION:NJ
CATEGORIES:BEER RELEASES
ATTACH;FMTTYPE=image/png:https://czigmeisterbrewing.com/wp-content/uploads/Sunburst.png
END:VEVENT
BEGIN:VEVENT
DTSTART;VALUE=DATE:20220615
DTEND;VALUE=DATE:20220616
DTSTAMP:20260423T134628
CREATED:20220518T182142Z
LAST-MODIFIED:20220608T164850Z
UID:10000018-1655251200-1655337599@czigmeisterbrewing.com
SUMMARY:Release: Orange Cream Ale
DESCRIPTION:Brewed with a creamy\, oat forward base and absolutely loaded with blood orange and tangerine. Copious amounts of Madagascar vanilla and a deft touch of lactose pull together this Orange shake!
URL:https://czigmeisterbrewing.com/event/release-orange-cream-ale/
LOCATION:Czig Meister Brewery\, 106 Valentine Street\, Hackettstown\, NJ\, 07840\, United States
CATEGORIES:BEER RELEASES
ATTACH;FMTTYPE=image/jpeg:https://czigmeisterbrewing.com/wp-content/uploads/Orange-Cream-Website.jpg
END:VEVENT
BEGIN:VEVENT
DTSTART;VALUE=DATE:20220624
DTEND;VALUE=DATE:20220625
DTSTAMP:20260423T134628
CREATED:20220608T185703Z
LAST-MODIFIED:20220608T185703Z
UID:10000011-1656028800-1656115199@czigmeisterbrewing.com
SUMMARY:Release: Berry Blonde
DESCRIPTION:A German Style kolsch conditioned with strawberry\, blackberry\, blueberry\, & raspberry. Light\, refreshing\, with a nice berry finish
URL:https://czigmeisterbrewing.com/event/release-berry-blonde/
LOCATION:Czig Meister Brewery\, 106 Valentine Street\, Hackettstown\, NJ\, 07840\, United States
CATEGORIES:BEER RELEASES
ATTACH;FMTTYPE=image/jpeg:https://czigmeisterbrewing.com/wp-content/uploads/Berry-Blonde.jpg
END:VEVENT
BEGIN:VEVENT
DTSTART;VALUE=DATE:20220701
DTEND;VALUE=DATE:20220702
DTSTAMP:20260423T134628
CREATED:20220518T185759Z
LAST-MODIFIED:20220608T164658Z
UID:10000021-1656633600-1656719999@czigmeisterbrewing.com
SUMMARY:Release: Sundial Series Ethereal
DESCRIPTION:Soured intensely with our favorite cultures and hopped gently with cascade and mosaic. We hit this with a TON of banana and strawberry puree\, and a deft touch of lactose. Expect a strawberry banana smoothie\, with some added pucker!
URL:https://czigmeisterbrewing.com/event/release-sundial-series-ethereal/
LOCATION:Czig Meister Brewery\, 106 Valentine Street\, Hackettstown\, NJ\, 07840\, United States
CATEGORIES:BEER RELEASES
ATTACH;FMTTYPE=image/jpeg:https://czigmeisterbrewing.com/wp-content/uploads/Ethereal-Website.jpg
END:VEVENT
BEGIN:VEVENT
DTSTART;VALUE=DATE:20220701
DTEND;VALUE=DATE:20220702
DTSTAMP:20260423T134628
CREATED:20220608T195603Z
LAST-MODIFIED:20220608T195713Z
UID:10000012-1656633600-1656719999@czigmeisterbrewing.com
SUMMARY:Release: Abyss Series Shadowsphere
DESCRIPTION:Brewed with our favorite base malt\, golden promise\, and hopped heavily with citra and strata. Expect notes of tropical fruits\, fresh squeezed orange\, dank nugs\, and some overripe melon
URL:https://czigmeisterbrewing.com/event/release-abyss-series-shadow-sphere/
LOCATION:Czig Meister Brewery\, 106 Valentine Street\, Hackettstown\, NJ\, 07840\, United States
CATEGORIES:BEER RELEASES
ATTACH;FMTTYPE=image/jpeg:https://czigmeisterbrewing.com/wp-content/uploads/Shadowsphere-Website.jpg
END:VEVENT
BEGIN:VEVENT
DTSTART;VALUE=DATE:20220805
DTEND;VALUE=DATE:20220806
DTSTAMP:20260423T134628
CREATED:20220105T050006Z
LAST-MODIFIED:20220608T155333Z
UID:10000040-1659657600-1659743999@czigmeisterbrewing.com
SUMMARY:Release: Raspberry Cream Ale
DESCRIPTION:Brewed with a creamy\, oat forward base and absolutely loaded with Raspberries. Copious amounts of Madagascar vanilla and a deft touch of lactose pull together this raspberry shake!
URL:https://czigmeisterbrewing.com/event/release-raspberry-cream-ale/
LOCATION:Czig Meister Brewery\, 106 Valentine Street\, Hackettstown\, NJ\, 07840\, United States
CATEGORIES:BEER RELEASES
ATTACH;FMTTYPE=image/jpeg:https://czigmeisterbrewing.com/wp-content/uploads/RaspCream-Website.jpg
END:VEVENT
BEGIN:VEVENT
DTSTART;VALUE=DATE:20220812
DTEND;VALUE=DATE:20220813
DTSTAMP:20260423T134628
CREATED:20220520T153849Z
LAST-MODIFIED:20220609T164913Z
UID:10000010-1660262400-1660348799@czigmeisterbrewing.com
SUMMARY:Release: Deep Sea Series Gleam
DESCRIPTION:Brewed with Citra & Sabro hops. Pulling notes of lemon\, orange zest\, light coconut\, and daaaaank if you ask us
URL:https://czigmeisterbrewing.com/event/release-deep-sea-series-gleam/
LOCATION:Czig Meister Brewery\, 106 Valentine Street\, Hackettstown\, NJ\, 07840\, United States
CATEGORIES:BEER RELEASES
ATTACH;FMTTYPE=image/jpeg:https://czigmeisterbrewing.com/wp-content/uploads/Gleam-Website-1.jpg
END:VEVENT
BEGIN:VEVENT
DTSTART;VALUE=DATE:20220817
DTEND;VALUE=DATE:20220818
DTSTAMP:20260423T134628
CREATED:20220520T153135Z
LAST-MODIFIED:20220608T164421Z
UID:10000020-1660694400-1660780799@czigmeisterbrewing.com
SUMMARY:Release: Oktoberfest
DESCRIPTION:Medium bodied light orange colored ale. Flavors of toasty graham cracker and light honey notes.
URL:https://czigmeisterbrewing.com/event/release-oktoberfest/
LOCATION:Czig Meister Brewery\, 106 Valentine Street\, Hackettstown\, NJ\, 07840\, United States
CATEGORIES:BEER RELEASES
ATTACH;FMTTYPE=image/jpeg:https://czigmeisterbrewing.com/wp-content/uploads/Oktoberfest-Website.jpg
END:VEVENT
BEGIN:VEVENT
DTSTART;VALUE=DATE:20220826
DTEND;VALUE=DATE:20220827
DTSTAMP:20260423T134628
CREATED:20220630T164602Z
LAST-MODIFIED:20220630T164602Z
UID:10000028-1661472000-1661558399@czigmeisterbrewing.com
SUMMARY:Release: Chrono Shift
DESCRIPTION:Our sour ale series pays homage to the sundial\, a beautiful and precise tool that measures time using shadows cast by the sun. The brewing process for sours is far more time intensive than traditional styles\, but the wait is worth it! Each brew features a variety of fruits and flavors to create ever-evolving profiles that celebrate all seasons and make any time a good time for a sour. \nChrono Shift is conditioned on passion fruit\, raspberry\, lime\, and mandarin orange with whole madagascar vanilla beans & lactose.
URL:https://czigmeisterbrewing.com/event/release-chrono-shift/
LOCATION:Czig Meister Brewery\, 106 Valentine Street\, Hackettstown\, NJ\, 07840\, United States
CATEGORIES:BEER RELEASES
ATTACH;FMTTYPE=image/jpeg:https://czigmeisterbrewing.com/wp-content/uploads/Chrono-Shift-Website.jpg
END:VEVENT
BEGIN:VEVENT
DTSTART;VALUE=DATE:20220916
DTEND;VALUE=DATE:20220917
DTSTAMP:20260423T134628
CREATED:20220630T185602Z
LAST-MODIFIED:20220830T152704Z
UID:10000024-1663286400-1663372799@czigmeisterbrewing.com
SUMMARY:Release: Deep Sea Series Cosmos
DESCRIPTION:The world of hops is as vast as the sea is deep. This series of New England Style IPAs explores different combinations of hops to create unique blends that pay homage to the complexity of our oceans. \nCosmos is made with Bru-1\, Citra and Mosaic hops. Expect notes of pineapple\, mango\, and sweet tropical fruits and citrus.\nDive in and enjoy!
URL:https://czigmeisterbrewing.com/event/release-deep-sea-series-cosmos/
LOCATION:Czig Meister Brewery\, 106 Valentine Street\, Hackettstown\, NJ\, 07840\, United States
CATEGORIES:BEER RELEASES
ATTACH;FMTTYPE=image/jpeg:https://czigmeisterbrewing.com/wp-content/uploads/Deep-Sea-Cosmos.jpg
END:VEVENT
BEGIN:VEVENT
DTSTART;TZID=America/New_York:20220930T080000
DTEND;TZID=America/New_York:20220930T170000
DTSTAMP:20260423T134628
CREATED:20220830T162849Z
LAST-MODIFIED:20220830T162849Z
UID:10000054-1664524800-1664557200@czigmeisterbrewing.com
SUMMARY:Release: Sundial Series Nebulous
DESCRIPTION:Hopped exclusively with mosaic\, fruited intensely with blueberry and pomegranate\, and conditioned on fresh lavender. Expect notes upfront of sweet\, fresh lavender and subtles spices\, before a wave of intense berries and a balanced acidity.
URL:https://czigmeisterbrewing.com/event/release-sundial-series-nebulous/
LOCATION:Czig Meister Brewery\, 106 Valentine Street\, Hackettstown\, NJ\, 07840\, United States
CATEGORIES:BEER RELEASES
ATTACH;FMTTYPE=image/jpeg:https://czigmeisterbrewing.com/wp-content/uploads/Untitled-2.jpg
END:VEVENT
BEGIN:VEVENT
DTSTART;VALUE=DATE:20221014
DTEND;VALUE=DATE:20221015
DTSTAMP:20260423T134628
CREATED:20220830T171913Z
LAST-MODIFIED:20220830T171913Z
UID:10000055-1665705600-1665791999@czigmeisterbrewing.com
SUMMARY:Release: Deep Sea Series Oasis
DESCRIPTION:Brewed with a base of American 2-row\, a blend of oats\, and honey malt. Hopped with Citra and Amarillo. Expect a melange of citrus fruits and a sweet\, cereal forward base with oats lasting on the finish.
URL:https://czigmeisterbrewing.com/event/release-deep-sea-series-oasis/
LOCATION:Czig Meister Brewery\, 106 Valentine Street\, Hackettstown\, NJ\, 07840\, United States
CATEGORIES:BEER RELEASES
ATTACH;FMTTYPE=image/jpeg:https://czigmeisterbrewing.com/wp-content/uploads/Oasis-Website.jpg
END:VEVENT
BEGIN:VEVENT
DTSTART;VALUE=DATE:20221028
DTEND;VALUE=DATE:20221029
DTSTAMP:20260423T134628
CREATED:20220830T174507Z
LAST-MODIFIED:20220830T174507Z
UID:10000056-1666915200-1667001599@czigmeisterbrewing.com
SUMMARY:Release: Sundial Series Lillith
DESCRIPTION:Lilith is a Sour IPA with blood orange\, tangerine\, lactose\, & vanilla\, and with one sip you’ll realize how irresistible this beer truly is
URL:https://czigmeisterbrewing.com/event/release-sundial-series-lillith/
LOCATION:NJ
CATEGORIES:BEER RELEASES
ATTACH;FMTTYPE=image/jpeg:https://czigmeisterbrewing.com/wp-content/uploads/Lilith-Website.jpg
END:VEVENT
BEGIN:VEVENT
DTSTART;VALUE=DATE:20221028
DTEND;VALUE=DATE:20221029
DTSTAMP:20260423T134628
CREATED:20221028T164846Z
LAST-MODIFIED:20221028T164846Z
UID:10000039-1666915200-1667001599@czigmeisterbrewing.com
SUMMARY:Release: Salted Nut Roll
DESCRIPTION:Salted Nut Rolls are to brewers what an afternoon cup of coffee is to most. Found hidden between bags of grain in stacks of pallets\, these tasty treats help us get through brew days. Unwind after the long day\, and grab a Brewers Lunch. \nWe’re happy to announce our long awaited collaboration with @salted_nut_roll! Brewers Lunch is an Amber Ale conditioned with peanuts\, marshmallows\, and vanilla\, making it the liquid form of our favorite pick-me-up. This Friday at 2pm\, we’re inviting you to join us in indulging on this beer inspired by the midday snack that helps keep brewers going. Raffles\, Salted Nut Rolls\, and merch galore\, this is a release you don’t want to miss. Brewers Lunch will be available on tap and in 4-packs to go.
URL:https://czigmeisterbrewing.com/event/release-salted-nut-roll/
LOCATION:Czig Meister Brewery\, 106 Valentine Street\, Hackettstown\, NJ\, 07840\, United States
CATEGORIES:BEER RELEASES
ATTACH;FMTTYPE=image/jpeg:https://czigmeisterbrewing.com/wp-content/uploads/Salted-Nut-Roll-Website.jpg
END:VEVENT
BEGIN:VEVENT
DTSTART;VALUE=DATE:20221111
DTEND;VALUE=DATE:20221112
DTSTAMP:20260423T134628
CREATED:20220830T192315Z
LAST-MODIFIED:20220830T192315Z
UID:10000057-1668124800-1668211199@czigmeisterbrewing.com
SUMMARY:Release: Deep Sea Series Lekker
DESCRIPTION:Brewed with a blend of floor malted pils\, golden promise\, and malted oats. Hopped with copius amounts of Southern Passion and a touch of Citra and Mosaic. Expect a soft and creamy body with bursting notes of fresh berries\, melon\, passion fruit\, and a touch of cedar
URL:https://czigmeisterbrewing.com/event/release-deep-sea-series-lekker/
LOCATION:Czig Meister Brewery\, 106 Valentine Street\, Hackettstown\, NJ\, 07840\, United States
CATEGORIES:BEER RELEASES
ATTACH;FMTTYPE=image/jpeg:https://czigmeisterbrewing.com/wp-content/uploads/Lekker-Website.jpg
END:VEVENT
BEGIN:VEVENT
DTSTART;VALUE=DATE:20221116
DTEND;VALUE=DATE:20221117
DTSTAMP:20260423T134628
CREATED:20221111T221104Z
LAST-MODIFIED:20221111T224716Z
UID:10000002-1668556800-1668643199@czigmeisterbrewing.com
SUMMARY:Release: Promethean Vol. 3
DESCRIPTION:This version of the Promethean series is a blend of 2 of our imperial stout recipes\, ‘Bond of Flesh and Iron’ and ‘Sif’ \nBarrels used in blend:\n1x 8 yr Elijah Craig bourbon barrel filled with Bond of Flesh and Iron aged 17 months.\n1x 8 yr Elijah Craig bourbon barrel filled with Sif aged 17 months.\n2x 11 yr Elijah Craig bourbon barrel filled with Sif aged 12 months.\n1x 1x 8 yr Elijah Craig bourbon barrel filled with Bond of Flesh and Iron aged 6 months.\n15 gallons of fresh Sif.
URL:https://czigmeisterbrewing.com/event/release-promethean-vol-3/
LOCATION:NJ
CATEGORIES:BEER RELEASES
ATTACH;FMTTYPE=image/png:https://czigmeisterbrewing.com/wp-content/uploads/Trivia-Night-Website-2-1.png
END:VEVENT
BEGIN:VEVENT
DTSTART;VALUE=DATE:20221123
DTEND;VALUE=DATE:20221124
DTSTAMP:20260423T134628
CREATED:20220830T203324Z
LAST-MODIFIED:20221114T162704Z
UID:10000058-1669161600-1669247999@czigmeisterbrewing.com
SUMMARY:Release: Sundial Series Gnomon
DESCRIPTION:An intensely sour IPA brewed with Australian Vic Secret hops and conditioned on heaps of pink dragon fruit and passionfruit!
URL:https://czigmeisterbrewing.com/event/release-sundial-series-gnomon/
LOCATION:NJ
CATEGORIES:BEER RELEASES
ATTACH;FMTTYPE=image/jpeg:https://czigmeisterbrewing.com/wp-content/uploads/Gnomon-Webstite.jpg
END:VEVENT
BEGIN:VEVENT
DTSTART;VALUE=DATE:20221123
DTEND;VALUE=DATE:20221124
DTSTAMP:20260423T134628
CREATED:20221111T225420Z
LAST-MODIFIED:20221114T165947Z
UID:10000003-1669161600-1669247999@czigmeisterbrewing.com
SUMMARY:Release: Dark Sovereign
DESCRIPTION:Double Barrel Belgian Quad Aged on Cherries \nBoth Red wine 75% and Bourbon barrel 25% aged for 9 months\, and further conditioned on sweet and sour cherries
URL:https://czigmeisterbrewing.com/event/release-dark-sovereign/
LOCATION:NJ
CATEGORIES:BEER RELEASES
ATTACH;FMTTYPE=image/png:https://czigmeisterbrewing.com/wp-content/uploads/Trivia-Night-Website-3.png
END:VEVENT
BEGIN:VEVENT
DTSTART;VALUE=DATE:20221130
DTEND;VALUE=DATE:20221201
DTSTAMP:20260423T134628
CREATED:20221111T231305Z
LAST-MODIFIED:20221111T231305Z
UID:10000004-1669766400-1669852799@czigmeisterbrewing.com
SUMMARY:Release: Paragon of Light
DESCRIPTION:Paragon of Light Double Barrel Aged Belgian Tripel 9.3%- Belgian Style Tripel Ale aged 4 months in Bourbon and Red Wine Barrels\, this straw colored ale has notes of bright vanilla and an oak nose\, also bringing a golden raisin and a pleasant shortbread cookie finish. The higher carbonation complements the dry finish rounding out this beer to perfection.
URL:https://czigmeisterbrewing.com/event/release-paragon-of-light/
LOCATION:NJ
CATEGORIES:BEER RELEASES
ATTACH;FMTTYPE=image/png:https://czigmeisterbrewing.com/wp-content/uploads/Trivia-Night-Website-1-2.png
END:VEVENT
BEGIN:VEVENT
DTSTART;VALUE=DATE:20221209
DTEND;VALUE=DATE:20221210
DTSTAMP:20260423T134628
CREATED:20221111T215951Z
LAST-MODIFIED:20221111T215951Z
UID:10000009-1670544000-1670630399@czigmeisterbrewing.com
SUMMARY:Release: Deep Sea Series Galactic 7
DESCRIPTION:Galactic 7 is made with Galaxy & Idaho 7 hops. Expect pops of cantaloupe\, tropical fruit and watermelon. \nWon best IPA at The Atlantic City Beer and Music Festival with our Deep Sea Series Galactic 7\, 2018.
URL:https://czigmeisterbrewing.com/event/release-deep-sea-series-galactic-7/
LOCATION:NJ
CATEGORIES:BEER RELEASES
ATTACH;FMTTYPE=image/png:https://czigmeisterbrewing.com/wp-content/uploads/Trivia-Night-Website-2.png
END:VEVENT
BEGIN:VEVENT
DTSTART;VALUE=DATE:20221221
DTEND;VALUE=DATE:20221222
DTSTAMP:20260423T134628
CREATED:20221111T220720Z
LAST-MODIFIED:20221114T152746Z
UID:10000001-1671580800-1671667199@czigmeisterbrewing.com
SUMMARY:Release: Sundial Series Solstice
DESCRIPTION:Solstice is conditioned on apricot and tangerine with lactose.  Expect a sweet sweet glass of Sunny Delight.
URL:https://czigmeisterbrewing.com/event/release-sundial-series-solstice/
LOCATION:Czig Meister Brewery\, 106 Valentine Street\, Hackettstown\, NJ\, 07840\, United States
CATEGORIES:BEER RELEASES
ATTACH;FMTTYPE=image/png:https://czigmeisterbrewing.com/wp-content/uploads/Trivia-Night-Website-1-1.png
END:VEVENT
BEGIN:VEVENT
DTSTART;VALUE=DATE:20230118
DTEND;VALUE=DATE:20230119
DTSTAMP:20260423T134628
CREATED:20221220T160427Z
LAST-MODIFIED:20230110T163729Z
UID:10000059-1674000000-1674086399@czigmeisterbrewing.com
SUMMARY:Release: Tiramisu Milk Porter
DESCRIPTION:Our Tiramisu Milk Porter is back on January 18th! This Italian dessert inspired favorite is brewed with our friends at @omiscoffeehouse organic dark roasted Peruvian Blend coffee\, Madagascar vanilla\, Ghanaian cacao nibs\, and lactose. Sipping on this beauty will bring you to the most beautiful Italian piazza\, where you’re sitting outside a café on a chilly summer night. Don’t believe us? Only one way to find out
URL:https://czigmeisterbrewing.com/event/release-tiramisu-milk-porter/
LOCATION:Czig Meister Brewery\, 106 Valentine Street\, Hackettstown\, NJ\, 07840\, United States
CATEGORIES:BEER RELEASES
ATTACH;FMTTYPE=image/png:https://czigmeisterbrewing.com/wp-content/uploads/Tiramisu-Resize-Website.png
END:VEVENT
BEGIN:VEVENT
DTSTART;VALUE=DATE:20230127
DTEND;VALUE=DATE:20230128
DTSTAMP:20260423T134628
CREATED:20221220T202818Z
LAST-MODIFIED:20221220T202818Z
UID:10000061-1674777600-1674863999@czigmeisterbrewing.com
SUMMARY:Release: Abyss Series Siren Song
DESCRIPTION:Brewed with our favorite base malt\, Golden Promise\, and hopped with nothing but the best choice hops of Mosaic. This beer is giving us gummy bear\, sweet sweet passion fruit\, and that straight hop candy. This 9% Imperial NEIPA hits first with that perfect creamy oat that builds up the mouth feel\, and you know it wouldn’t be Mosaic if it didn’t have that raspberry note at the end. Available in house and for home delivery on January 27th
URL:https://czigmeisterbrewing.com/event/release-abyss-series-siren-song/
LOCATION:Czig Meister Brewery\, 106 Valentine Street\, Hackettstown\, NJ\, 07840\, United States
CATEGORIES:BEER RELEASES
ATTACH;FMTTYPE=image/png:https://czigmeisterbrewing.com/wp-content/uploads/Siren-Song-Website.png
END:VEVENT
BEGIN:VEVENT
DTSTART;VALUE=DATE:20230210
DTEND;VALUE=DATE:20230211
DTSTAMP:20260423T134628
CREATED:20221222T181028Z
LAST-MODIFIED:20230103T173125Z
UID:10000066-1675987200-1676073599@czigmeisterbrewing.com
SUMMARY:Release: Deep Sea Series Electric Catfish
DESCRIPTION:Releasing on February 10th\, we are again releasing Deep Sea favorite\, Electric Catfish. Brewed with Citra & Moteuka\, we are getting a bowl of fruit loops when it comes to flavor. Notes of khafir lime leaf\, orange rind\, & lemon grass\, a real easy drinker.
URL:https://czigmeisterbrewing.com/event/release-deep-sea-series-electric-catfish/
LOCATION:Czig Meister Brewery\, 106 Valentine Street\, Hackettstown\, NJ\, 07840\, United States
CATEGORIES:BEER RELEASES
ATTACH;FMTTYPE=image/png:https://czigmeisterbrewing.com/wp-content/uploads/Electric-Catfish-Website-Resize.png
END:VEVENT
BEGIN:VEVENT
DTSTART;VALUE=DATE:20230217
DTEND;VALUE=DATE:20230218
DTSTAMP:20260423T134628
CREATED:20230216T190907Z
LAST-MODIFIED:20230216T190907Z
UID:10000082-1676592000-1676678399@czigmeisterbrewing.com
SUMMARY:Release: 78 Fire Irish Red Ale
DESCRIPTION:We’re excited to announce our collaboration with the Hackettstown Fire Department\, to release 78 Fire\, an Irish Red Ale this Friday\, February 17th. The Hackettstown Fire Department is a volunteer run fire department dedicated to property preservation\, and life safety within the Town of Hackettstown and provides mutual aid to numerous communities in both Warren\, Morris\, and Sussex Counties. A portion of the proceeds from 78 Fire will be donated directly to them and all they do. \n78 Fire Irish Red Ale- 78 Fire is a 6.3% traditional Irish Red Ale with notes of biscuit and toffee\, complemented by a nice rounded out light roast\, and a perfectly clean finish.
URL:https://czigmeisterbrewing.com/event/release-78-fire-irish-red-ale/
LOCATION:Czig Meister Brewery\, 106 Valentine Street\, Hackettstown\, NJ\, 07840\, United States
CATEGORIES:BEER RELEASES
ATTACH;FMTTYPE=image/png:https://czigmeisterbrewing.com/wp-content/uploads/78-Fire-Website.png
END:VEVENT
BEGIN:VEVENT
DTSTART;VALUE=DATE:20230224
DTEND;VALUE=DATE:20230225
DTSTAMP:20260423T134628
CREATED:20230130T214647Z
LAST-MODIFIED:20230130T214647Z
UID:10000071-1677196800-1677283199@czigmeisterbrewing.com
SUMMARY:Release: Sundial Series Lunaria
DESCRIPTION:Lunaria Sour IPA w/ cherries\, vanilla\, & lactose is ready to make its comeback! Brewed with Mosaic hops\, the cherry is coming through sweet & tart\, with the vanilla giving you a back end so smooth\, it’s a real easy drinker.
URL:https://czigmeisterbrewing.com/event/release-sundial-series-lunaria/
LOCATION:Czig Meister Brewery\, 106 Valentine Street\, Hackettstown\, NJ\, 07840\, United States
CATEGORIES:BEER RELEASES
ATTACH;FMTTYPE=image/png:https://czigmeisterbrewing.com/wp-content/uploads/Lunaria-Website.png
END:VEVENT
BEGIN:VEVENT
DTSTART;VALUE=DATE:20230303
DTEND;VALUE=DATE:20230304
DTSTAMP:20260423T134628
CREATED:20221221T174609Z
LAST-MODIFIED:20221221T174609Z
UID:10000063-1677801600-1677887999@czigmeisterbrewing.com
SUMMARY:Release: Herdsman Bock
DESCRIPTION:On March 3rd\, Herdsman\, our seasonal Bock Spring Lager is back! This German-style Spring Lager is malty\, sweet and biscuity\, the perfect sign that spring has finally sprung🌷available for in house pours and 6-packs to go\, and hitting distro next week🍻
URL:https://czigmeisterbrewing.com/event/release-herdsman-bock/
LOCATION:Czig Meister Brewery\, 106 Valentine Street\, Hackettstown\, NJ\, 07840\, United States
CATEGORIES:BEER RELEASES
ATTACH;FMTTYPE=image/png:https://czigmeisterbrewing.com/wp-content/uploads/Herdsman-Website-Resize.png
END:VEVENT
BEGIN:VEVENT
DTSTART;VALUE=DATE:20230310
DTEND;VALUE=DATE:20230311
DTSTAMP:20260423T134628
CREATED:20230130T215428Z
LAST-MODIFIED:20230130T215428Z
UID:10000072-1678406400-1678492799@czigmeisterbrewing.com
SUMMARY:Release: Deep Sea Series Chimera
DESCRIPTION:This 6.6% NEIPA is giving us notes of peach\, passion fruit\, sweet sweet lychee\, with a candied hop\, balanced dank profile. Hammered with Mosaic & Strata\, this is going to be the beer you reach for to keep you refreshed
URL:https://czigmeisterbrewing.com/event/release-deep-sea-series-chimera/
LOCATION:NJ
CATEGORIES:BEER RELEASES
ATTACH;FMTTYPE=image/png:https://czigmeisterbrewing.com/wp-content/uploads/Deep-Sea-Chimera-Website.png
END:VEVENT
BEGIN:VEVENT
DTSTART;VALUE=DATE:20230324
DTEND;VALUE=DATE:20230325
DTSTAMP:20260423T134628
CREATED:20221222T173632Z
LAST-MODIFIED:20230323T151746Z
UID:10000065-1679616000-1679702399@czigmeisterbrewing.com
SUMMARY:Release: Wayfinder Pilsner
DESCRIPTION:On March 31st we are debuting Czig Meister’s newest offering\, Wayfinder Pilsner. Drinking crisp and easy\, this is sure to be a go-to as the weather turns warmer.
URL:https://czigmeisterbrewing.com/event/release-wayfinder-pilsner/
LOCATION:Czig Meister Brewery\, 106 Valentine Street\, Hackettstown\, NJ\, 07840\, United States
CATEGORIES:BEER RELEASES
ATTACH;FMTTYPE=image/png:https://czigmeisterbrewing.com/wp-content/uploads/Wayfinder-Website-Resize.png
END:VEVENT
BEGIN:VEVENT
DTSTART;VALUE=DATE:20230324
DTEND;VALUE=DATE:20230325
DTSTAMP:20260423T134628
CREATED:20221222T183050Z
LAST-MODIFIED:20230103T173116Z
UID:10000067-1679616000-1679702399@czigmeisterbrewing.com
SUMMARY:Release: Sundial Series Sunset Sherbet
DESCRIPTION:Returning on March 24th\, Sunset Sherbet sits at 6.2%ABV\, uses Citra & Mosaic Cryo Hops\, and has been conditioned on passionfruit\, raspberries\, Mandarin oranges\, limes\, vanilla\, and lactose.
URL:https://czigmeisterbrewing.com/event/release-sundial-series-sunset-sherbet-2/
LOCATION:Czig Meister Brewery\, 106 Valentine Street\, Hackettstown\, NJ\, 07840\, United States
CATEGORIES:BEER RELEASES
ATTACH;FMTTYPE=image/png:https://czigmeisterbrewing.com/wp-content/uploads/Sunset-Sherbet-Website-Resize.png
END:VEVENT
END:VCALENDAR