BEGIN:VCALENDAR
VERSION:2.0
PRODID:-//Czig Meister Brewing Company - ECPv6.15.20//NONSGML v1.0//EN
CALSCALE:GREGORIAN
METHOD:PUBLISH
X-ORIGINAL-URL:https://czigmeisterbrewing.com
X-WR-CALDESC:Events for Czig Meister Brewing Company
REFRESH-INTERVAL;VALUE=DURATION:PT1H
X-Robots-Tag:noindex
X-PUBLISHED-TTL:PT1H
BEGIN:VTIMEZONE
TZID:America/New_York
BEGIN:DAYLIGHT
TZOFFSETFROM:-0500
TZOFFSETTO:-0400
TZNAME:EDT
DTSTART:20230312T070000
END:DAYLIGHT
BEGIN:STANDARD
TZOFFSETFROM:-0400
TZOFFSETTO:-0500
TZNAME:EST
DTSTART:20231105T060000
END:STANDARD
BEGIN:DAYLIGHT
TZOFFSETFROM:-0500
TZOFFSETTO:-0400
TZNAME:EDT
DTSTART:20240310T070000
END:DAYLIGHT
BEGIN:STANDARD
TZOFFSETFROM:-0400
TZOFFSETTO:-0500
TZNAME:EST
DTSTART:20241103T060000
END:STANDARD
BEGIN:DAYLIGHT
TZOFFSETFROM:-0500
TZOFFSETTO:-0400
TZNAME:EDT
DTSTART:20250309T070000
END:DAYLIGHT
BEGIN:STANDARD
TZOFFSETFROM:-0400
TZOFFSETTO:-0500
TZNAME:EST
DTSTART:20251102T060000
END:STANDARD
END:VTIMEZONE
BEGIN:VEVENT
DTSTART;VALUE=DATE:20240405
DTEND;VALUE=DATE:20240406
DTSTAMP:20260423T050552
CREATED:20240328T151848Z
LAST-MODIFIED:20240328T151848Z
UID:10000218-1712275200-1712361599@czigmeisterbrewing.com
SUMMARY:Beer Release: +5 Wit Belgian-Style Wheat Beer
DESCRIPTION:Step into the fantasy world with +5 Wit\, our newest addition to the Czig lineup. A Belgian-style wheat beer that’s as enchanting as a legendary quest. This brew is a nod to the thrill of role-playing games\, where a +5 bonus can turn the tide of an epic battle. \nBrewed with a magical blend of coriander and orange peel\, +5 Wit offers a taste that’s as adventurous as your favorite game. The coriander adds a layer of complexity\, while the orange peel infuses a refreshing twist\, making each sip an exciting journey. \nJust like a well-played game\, this beer is all about balance and strategy. The flavors are carefully balanced to ensure that no single note overpowers the other\, resulting in a brew that’s harmonious and enjoyable. \nSo\, gather your party\, raise your glasses\, and toast to the +5 Wit. It’s not just a beer\, it’s an epic tale in every can. Cheers!
URL:https://czigmeisterbrewing.com/event/beer-release-5-wit-belgian-style-wheat-beer/
LOCATION:Czig Meister Brewery\, 106 Valentine Street\, Hackettstown\, NJ\, 07840\, United States
CATEGORIES:BEER RELEASES
ATTACH;FMTTYPE=image/png:https://czigmeisterbrewing.com/wp-content/uploads/5-Wit-Website-Release-1.png
END:VEVENT
BEGIN:VEVENT
DTSTART;VALUE=DATE:20240419
DTEND;VALUE=DATE:20240420
DTSTAMP:20260423T050552
CREATED:20240418T182619Z
LAST-MODIFIED:20240418T182619Z
UID:10000239-1713484800-1713571199@czigmeisterbrewing.com
SUMMARY:Beer Release: Tradesman Helles Lager
DESCRIPTION:On April 19th our Tradesman Helles Lager debuts in cans! A bright crackling refresher brewed to satisfy after a long day of work and usher in the warmer weather. Available in the tap room and hitting ditribution
URL:https://czigmeisterbrewing.com/event/beer-release-tradesman-helles-lager/
LOCATION:Czig Meister Brewery\, 106 Valentine Street\, Hackettstown\, NJ\, 07840\, United States
CATEGORIES:BEER RELEASES
ATTACH;FMTTYPE=image/png:https://czigmeisterbrewing.com/wp-content/uploads/Tradesman-4.19-Website.png
END:VEVENT
BEGIN:VEVENT
DTSTART;VALUE=DATE:20240424
DTEND;VALUE=DATE:20240425
DTSTAMP:20260423T050552
CREATED:20240418T190401Z
LAST-MODIFIED:20240424T150026Z
UID:10000240-1713916800-1714003199@czigmeisterbrewing.com
SUMMARY:Beer Release: Abyss Series Dragged to the Depths
DESCRIPTION:Abyss Series Dragged to the Depths makes it’s return on April 24th in the tasting room and across distribution. Hopped exclusively with Citra and Mosaic cryo hops\, this double IPA comes in at 8.5% with a creamy mouthfeel\, & heavy notes of pineapple\, lime\, candied mango
URL:https://czigmeisterbrewing.com/event/beer-release-abyss-series-dragged-to-the-depths/
LOCATION:Czig Meister Brewery\, 106 Valentine Street\, Hackettstown\, NJ\, 07840\, United States
CATEGORIES:BEER RELEASES
ATTACH;FMTTYPE=image/png:https://czigmeisterbrewing.com/wp-content/uploads/Abyss-4.24-Website.png
END:VEVENT
BEGIN:VEVENT
DTSTART;VALUE=DATE:20240426
DTEND;VALUE=DATE:20240427
DTSTAMP:20260423T050552
CREATED:20240402T154033Z
LAST-MODIFIED:20240418T190821Z
UID:10000220-1714089600-1714175999@czigmeisterbrewing.com
SUMMARY:Beer Release: Sundial Series Nebulous
DESCRIPTION:Releasing on Friday\, April 26th\, Nebulous is back! Hopped exclusively with mosaic\, fruited intensely with blueberry and pomegranate\, and conditioned on fresh lavender. Expect notes upfront of sweet\, fresh lavender and subtle spices\, before a wave of intense berries and a balanced acidity.
URL:https://czigmeisterbrewing.com/event/beer-release-sundial-series-nebulous/
LOCATION:Czig Meister Brewery\, 106 Valentine Street\, Hackettstown\, NJ\, 07840\, United States
CATEGORIES:BEER RELEASES
ATTACH;FMTTYPE=image/png:https://czigmeisterbrewing.com/wp-content/uploads/Nebulous-Website-4.26-e1745868236681.png
END:VEVENT
END:VCALENDAR