BEGIN:VCALENDAR
VERSION:2.0
PRODID:-//Czig Meister Brewing Company - ECPv6.15.20//NONSGML v1.0//EN
CALSCALE:GREGORIAN
METHOD:PUBLISH
X-ORIGINAL-URL:https://czigmeisterbrewing.com
X-WR-CALDESC:Events for Czig Meister Brewing Company
REFRESH-INTERVAL;VALUE=DURATION:PT1H
X-Robots-Tag:noindex
X-PUBLISHED-TTL:PT1H
BEGIN:VTIMEZONE
TZID:America/New_York
BEGIN:DAYLIGHT
TZOFFSETFROM:-0500
TZOFFSETTO:-0400
TZNAME:EDT
DTSTART:20230312T070000
END:DAYLIGHT
BEGIN:STANDARD
TZOFFSETFROM:-0400
TZOFFSETTO:-0500
TZNAME:EST
DTSTART:20231105T060000
END:STANDARD
BEGIN:DAYLIGHT
TZOFFSETFROM:-0500
TZOFFSETTO:-0400
TZNAME:EDT
DTSTART:20240310T070000
END:DAYLIGHT
BEGIN:STANDARD
TZOFFSETFROM:-0400
TZOFFSETTO:-0500
TZNAME:EST
DTSTART:20241103T060000
END:STANDARD
BEGIN:DAYLIGHT
TZOFFSETFROM:-0500
TZOFFSETTO:-0400
TZNAME:EDT
DTSTART:20250309T070000
END:DAYLIGHT
BEGIN:STANDARD
TZOFFSETFROM:-0400
TZOFFSETTO:-0500
TZNAME:EST
DTSTART:20251102T060000
END:STANDARD
END:VTIMEZONE
BEGIN:VEVENT
DTSTART;VALUE=DATE:20240209
DTEND;VALUE=DATE:20240210
DTSTAMP:20260420T235701
CREATED:20240129T211730Z
LAST-MODIFIED:20240129T211730Z
UID:10000196-1707436800-1707523199@czigmeisterbrewing.com
SUMMARY:Beer Release: 78 Fire Irish Red
DESCRIPTION:We’re excited to announce our collaboration with the Hackettstown Fire Department is back! 78 Fire\, an Irish Red Ale is back Friday\, February 9th. The Hackettstown Fire Department is a volunteer run fire department dedicated to property preservation\, and life safety within the Town of Hackettstown and provides mutual aid to numerous communities in both Warren\, Morris\, and Sussex Counties. A portion of the proceeds from 78 Fire will be donated directly to them and all they do. \n78 Fire Irish Red Ale- 78 Fire is a 6.3% traditional Irish Red Ale with notes of biscuit and toffee\, complemented by a nice rounded out light roast\, and a perfectly clean finish.
URL:https://czigmeisterbrewing.com/event/beer-release-78-fire-irish-red/
LOCATION:Czig Meister Brewery\, 106 Valentine Street\, Hackettstown\, NJ\, 07840\, United States
CATEGORIES:BEER RELEASES
ATTACH;FMTTYPE=image/png:https://czigmeisterbrewing.com/wp-content/uploads/78-Fire-Website-1.png
END:VEVENT
BEGIN:VEVENT
DTSTART;VALUE=DATE:20240209
DTEND;VALUE=DATE:20240210
DTSTAMP:20260420T235701
CREATED:20240131T163419Z
LAST-MODIFIED:20240131T163419Z
UID:10000198-1707436800-1707523199@czigmeisterbrewing.com
SUMMARY:Beer Release: Deep Sea Series Cosmos
DESCRIPTION:The world of hops is as vast as the sea is deep. This series of New England Style IPAs explores different combinations of hops to create unique blends that pay homage to the complexity of our oceans. \nCosmos is made with Bru-1\, Citra and Mosaic hops. Expect notes of pineapple\, mango\, and sweet tropical fruits and citrus.\nDive in and enjoy!
URL:https://czigmeisterbrewing.com/event/beer-release-deep-sea-series-cosmos/
LOCATION:Czig Meister Brewery\, 106 Valentine Street\, Hackettstown\, NJ\, 07840\, United States
CATEGORIES:BEER RELEASES
ATTACH;FMTTYPE=image/png:https://czigmeisterbrewing.com/wp-content/uploads/Cosmos-Website.png
END:VEVENT
BEGIN:VEVENT
DTSTART;VALUE=DATE:20240223
DTEND;VALUE=DATE:20240224
DTSTAMP:20260420T235701
CREATED:20240131T164206Z
LAST-MODIFIED:20240131T164206Z
UID:10000199-1708646400-1708732799@czigmeisterbrewing.com
SUMMARY:Beer Release: Sundial Series Sunset Sherbet
DESCRIPTION:Returning on February 23rd\, Sunset Sherbet sits at 6.2%ABV\, uses Citra & Mosaic Cryo Hops\, and has been conditioned on passionfruit\, raspberries\, Mandarin oranges\, limes\, vanilla\, and lactose.
URL:https://czigmeisterbrewing.com/event/beer-release-sundial-series-sunset-sherbet/
LOCATION:Czig Meister Brewery\, 106 Valentine Street\, Hackettstown\, NJ\, 07840\, United States
CATEGORIES:BEER RELEASES
ATTACH;FMTTYPE=image/png:https://czigmeisterbrewing.com/wp-content/uploads/Sunset-Sherbet-Website-2024.png
END:VEVENT
END:VCALENDAR