BEGIN:VCALENDAR
VERSION:2.0
PRODID:-//Czig Meister Brewing Company - ECPv6.15.20//NONSGML v1.0//EN
CALSCALE:GREGORIAN
METHOD:PUBLISH
X-WR-CALNAME:Czig Meister Brewing Company
X-ORIGINAL-URL:https://czigmeisterbrewing.com
X-WR-CALDESC:Events for Czig Meister Brewing Company
REFRESH-INTERVAL;VALUE=DURATION:PT1H
X-Robots-Tag:noindex
X-PUBLISHED-TTL:PT1H
BEGIN:VTIMEZONE
TZID:America/New_York
BEGIN:DAYLIGHT
TZOFFSETFROM:-0500
TZOFFSETTO:-0400
TZNAME:EDT
DTSTART:20220313T070000
END:DAYLIGHT
BEGIN:STANDARD
TZOFFSETFROM:-0400
TZOFFSETTO:-0500
TZNAME:EST
DTSTART:20221106T060000
END:STANDARD
BEGIN:DAYLIGHT
TZOFFSETFROM:-0500
TZOFFSETTO:-0400
TZNAME:EDT
DTSTART:20230312T070000
END:DAYLIGHT
BEGIN:STANDARD
TZOFFSETFROM:-0400
TZOFFSETTO:-0500
TZNAME:EST
DTSTART:20231105T060000
END:STANDARD
BEGIN:DAYLIGHT
TZOFFSETFROM:-0500
TZOFFSETTO:-0400
TZNAME:EDT
DTSTART:20240310T070000
END:DAYLIGHT
BEGIN:STANDARD
TZOFFSETFROM:-0400
TZOFFSETTO:-0500
TZNAME:EST
DTSTART:20241103T060000
END:STANDARD
END:VTIMEZONE
BEGIN:VEVENT
DTSTART;VALUE=DATE:20231006
DTEND;VALUE=DATE:20231007
DTSTAMP:20260420T163316
CREATED:20230711T153144Z
LAST-MODIFIED:20230711T153144Z
UID:10000110-1696550400-1696636799@czigmeisterbrewing.com
SUMMARY:Beer Release: Chaos Belgian Dubbel
DESCRIPTION:On October 6th\, Chaos is back! This 6.4% Belgian Style Dubbel is coming through with notes of pretzel\, super malty\, and that Belgian sweetness on the back end doesn’t disappoint.
URL:https://czigmeisterbrewing.com/event/beer-release-chaos-belgian-dubbel/
LOCATION:Czig Meister Brewery\, 106 Valentine Street\, Hackettstown\, NJ\, 07840\, United States
CATEGORIES:BEER RELEASES
ATTACH;FMTTYPE=image/png:https://czigmeisterbrewing.com/wp-content/uploads/Chaos-Website.png
END:VEVENT
BEGIN:VEVENT
DTSTART;VALUE=DATE:20231013
DTEND;VALUE=DATE:20231014
DTSTAMP:20260420T163316
CREATED:20230824T154708Z
LAST-MODIFIED:20230824T154708Z
UID:10000118-1697155200-1697241599@czigmeisterbrewing.com
SUMMARY:Beer Release: Deep Sea Series Oasis
DESCRIPTION:Brewed with a base of American 2-row\, a blend of oats\, and honey malt. Hopped with Citra and Amarillo. Expect a melange of citrus fruits and a sweet\, cereal forward base with oats lasting on the finish.
URL:https://czigmeisterbrewing.com/event/beer-release-deep-sea-series-oasis/
LOCATION:Czig Meister Brewery\, 106 Valentine Street\, Hackettstown\, NJ\, 07840\, United States
CATEGORIES:BEER RELEASES
ATTACH;FMTTYPE=image/jpeg:https://czigmeisterbrewing.com/wp-content/uploads/Oasis-Website.jpg
END:VEVENT
BEGIN:VEVENT
DTSTART;VALUE=DATE:20231027
DTEND;VALUE=DATE:20231028
DTSTAMP:20260420T163316
CREATED:20230824T165237Z
LAST-MODIFIED:20231025T202038Z
UID:10000119-1698364800-1698451199@czigmeisterbrewing.com
SUMMARY:Beer Release: Sundial Series Axis
DESCRIPTION:🍻🍊🍹 Get ready for a taste explosion! Axis\, our newest addition to the Sundial Series\, clocks in at 6.2% and is conditioned on blood orange\, tangerine\, and pink guava. It’s releasing on October 26th to kick off a very special Halloween themed trivia. This deliciously tart and fruity ale is the perfect way to celebrate the fall season. Don’t miss out on this limited release!
URL:https://czigmeisterbrewing.com/event/beer-release-sundial-series-axis/
LOCATION:Czig Meister Brewery\, 106 Valentine Street\, Hackettstown\, NJ\, 07840\, United States
CATEGORIES:BEER RELEASES
ATTACH;FMTTYPE=image/png:https://czigmeisterbrewing.com/wp-content/uploads/Sundial-Series-Axis-Website.png
END:VEVENT
BEGIN:VEVENT
DTSTART;VALUE=DATE:20231027
DTEND;VALUE=DATE:20231028
DTSTAMP:20260420T163316
CREATED:20231020T153944Z
LAST-MODIFIED:20231020T153944Z
UID:10000126-1698364800-1698451199@czigmeisterbrewing.com
SUMMARY:Beer Release: Crush Depth Black IPA
DESCRIPTION:🍻 Dive into the abyss with our new Black IPA\, “Crush Depth”. This brew is a deep dive into bold flavors\, hopped with a trio of Columbus\, Simcoe\, and Chinook. The Columbus hops bring a pungent punch of earthy bitterness\, while the Simcoe adds a layer of piney aroma and fruity undertones. The Chinook hops round it out with a hint of spice and robust grapefruit notes. Dark as the ocean depths but teeming with flavor\, Crush Depth is an adventure in every sip.
URL:https://czigmeisterbrewing.com/event/beer-release-crush-depth-black-ipa/
LOCATION:Czig Meister Brewery\, 106 Valentine Street\, Hackettstown\, NJ\, 07840\, United States
CATEGORIES:BEER RELEASES
ATTACH;FMTTYPE=image/png:https://czigmeisterbrewing.com/wp-content/uploads/Crush-Depth-Black-IPA-Website.png
END:VEVENT
END:VCALENDAR