BEGIN:VCALENDAR
VERSION:2.0
PRODID:-//Czig Meister Brewing Company - ECPv6.15.20//NONSGML v1.0//EN
CALSCALE:GREGORIAN
METHOD:PUBLISH
X-WR-CALNAME:Czig Meister Brewing Company
X-ORIGINAL-URL:https://czigmeisterbrewing.com
X-WR-CALDESC:Events for Czig Meister Brewing Company
REFRESH-INTERVAL;VALUE=DURATION:PT1H
X-Robots-Tag:noindex
X-PUBLISHED-TTL:PT1H
BEGIN:VTIMEZONE
TZID:America/New_York
BEGIN:DAYLIGHT
TZOFFSETFROM:-0500
TZOFFSETTO:-0400
TZNAME:EDT
DTSTART:20210314T070000
END:DAYLIGHT
BEGIN:STANDARD
TZOFFSETFROM:-0400
TZOFFSETTO:-0500
TZNAME:EST
DTSTART:20211107T060000
END:STANDARD
BEGIN:DAYLIGHT
TZOFFSETFROM:-0500
TZOFFSETTO:-0400
TZNAME:EDT
DTSTART:20220313T070000
END:DAYLIGHT
BEGIN:STANDARD
TZOFFSETFROM:-0400
TZOFFSETTO:-0500
TZNAME:EST
DTSTART:20221106T060000
END:STANDARD
BEGIN:DAYLIGHT
TZOFFSETFROM:-0500
TZOFFSETTO:-0400
TZNAME:EDT
DTSTART:20230312T070000
END:DAYLIGHT
BEGIN:STANDARD
TZOFFSETFROM:-0400
TZOFFSETTO:-0500
TZNAME:EST
DTSTART:20231105T060000
END:STANDARD
END:VTIMEZONE
BEGIN:VEVENT
DTSTART;VALUE=DATE:20220805
DTEND;VALUE=DATE:20220806
DTSTAMP:20260422T231021
CREATED:20220105T050006Z
LAST-MODIFIED:20220608T155333Z
UID:10000040-1659657600-1659743999@czigmeisterbrewing.com
SUMMARY:Release: Raspberry Cream Ale
DESCRIPTION:Brewed with a creamy\, oat forward base and absolutely loaded with Raspberries. Copious amounts of Madagascar vanilla and a deft touch of lactose pull together this raspberry shake!
URL:https://czigmeisterbrewing.com/event/release-raspberry-cream-ale/
LOCATION:Czig Meister Brewery\, 106 Valentine Street\, Hackettstown\, NJ\, 07840\, United States
CATEGORIES:BEER RELEASES
ATTACH;FMTTYPE=image/jpeg:https://czigmeisterbrewing.com/wp-content/uploads/RaspCream-Website.jpg
END:VEVENT
BEGIN:VEVENT
DTSTART;VALUE=DATE:20220812
DTEND;VALUE=DATE:20220813
DTSTAMP:20260422T231021
CREATED:20220520T153849Z
LAST-MODIFIED:20220609T164913Z
UID:10000010-1660262400-1660348799@czigmeisterbrewing.com
SUMMARY:Release: Deep Sea Series Gleam
DESCRIPTION:Brewed with Citra & Sabro hops. Pulling notes of lemon\, orange zest\, light coconut\, and daaaaank if you ask us
URL:https://czigmeisterbrewing.com/event/release-deep-sea-series-gleam/
LOCATION:Czig Meister Brewery\, 106 Valentine Street\, Hackettstown\, NJ\, 07840\, United States
CATEGORIES:BEER RELEASES
ATTACH;FMTTYPE=image/jpeg:https://czigmeisterbrewing.com/wp-content/uploads/Gleam-Website-1.jpg
END:VEVENT
BEGIN:VEVENT
DTSTART;VALUE=DATE:20220817
DTEND;VALUE=DATE:20220818
DTSTAMP:20260422T231021
CREATED:20220520T153135Z
LAST-MODIFIED:20220608T164421Z
UID:10000020-1660694400-1660780799@czigmeisterbrewing.com
SUMMARY:Release: Oktoberfest
DESCRIPTION:Medium bodied light orange colored ale. Flavors of toasty graham cracker and light honey notes.
URL:https://czigmeisterbrewing.com/event/release-oktoberfest/
LOCATION:Czig Meister Brewery\, 106 Valentine Street\, Hackettstown\, NJ\, 07840\, United States
CATEGORIES:BEER RELEASES
ATTACH;FMTTYPE=image/jpeg:https://czigmeisterbrewing.com/wp-content/uploads/Oktoberfest-Website.jpg
END:VEVENT
BEGIN:VEVENT
DTSTART;VALUE=DATE:20220826
DTEND;VALUE=DATE:20220827
DTSTAMP:20260422T231021
CREATED:20220630T164602Z
LAST-MODIFIED:20220630T164602Z
UID:10000028-1661472000-1661558399@czigmeisterbrewing.com
SUMMARY:Release: Chrono Shift
DESCRIPTION:Our sour ale series pays homage to the sundial\, a beautiful and precise tool that measures time using shadows cast by the sun. The brewing process for sours is far more time intensive than traditional styles\, but the wait is worth it! Each brew features a variety of fruits and flavors to create ever-evolving profiles that celebrate all seasons and make any time a good time for a sour. \nChrono Shift is conditioned on passion fruit\, raspberry\, lime\, and mandarin orange with whole madagascar vanilla beans & lactose.
URL:https://czigmeisterbrewing.com/event/release-chrono-shift/
LOCATION:Czig Meister Brewery\, 106 Valentine Street\, Hackettstown\, NJ\, 07840\, United States
CATEGORIES:BEER RELEASES
ATTACH;FMTTYPE=image/jpeg:https://czigmeisterbrewing.com/wp-content/uploads/Chrono-Shift-Website.jpg
END:VEVENT
END:VCALENDAR